BEGIN:VCALENDAR
VERSION:2.0
PRODID:-//Livable Raleigh - ECPv6.15.20//NONSGML v1.0//EN
CALSCALE:GREGORIAN
METHOD:PUBLISH
X-ORIGINAL-URL:https://livableraleigh.com
X-WR-CALDESC:Events for Livable Raleigh
REFRESH-INTERVAL;VALUE=DURATION:PT1H
X-Robots-Tag:noindex
X-PUBLISHED-TTL:PT1H
BEGIN:VTIMEZONE
TZID:America/New_York
BEGIN:DAYLIGHT
TZOFFSETFROM:-0500
TZOFFSETTO:-0400
TZNAME:EDT
DTSTART:20220313T070000
END:DAYLIGHT
BEGIN:STANDARD
TZOFFSETFROM:-0400
TZOFFSETTO:-0500
TZNAME:EST
DTSTART:20221106T060000
END:STANDARD
BEGIN:DAYLIGHT
TZOFFSETFROM:-0500
TZOFFSETTO:-0400
TZNAME:EDT
DTSTART:20230312T070000
END:DAYLIGHT
BEGIN:STANDARD
TZOFFSETFROM:-0400
TZOFFSETTO:-0500
TZNAME:EST
DTSTART:20231105T060000
END:STANDARD
BEGIN:DAYLIGHT
TZOFFSETFROM:-0500
TZOFFSETTO:-0400
TZNAME:EDT
DTSTART:20240310T070000
END:DAYLIGHT
BEGIN:STANDARD
TZOFFSETFROM:-0400
TZOFFSETTO:-0500
TZNAME:EST
DTSTART:20241103T060000
END:STANDARD
END:VTIMEZONE
BEGIN:VEVENT
DTSTART;TZID=America/New_York:20231112T130000
DTEND;TZID=America/New_York:20231112T160000
DTSTAMP:20260423T020307
CREATED:20231102T230413Z
LAST-MODIFIED:20231102T230413Z
UID:33884-1699794000-1699804800@livableraleigh.com
SUMMARY:Women's History Month Historic Raleigh Trolley Tour
DESCRIPTION:Hop on the Historic Raleigh Trolley for a special women’s history tour! Celebrate the influential women who shaped Raleigh’s history and explore their stories throughout the city\, from the women who broke barriers in North Carolina politics to those who fought for equality during the Civil Rights Movement. \nTickets are $12 per person and are available at reclink.raleighnc.gov. For questions or more information\, please call the Mordecai Historic Park Visitor Center at 919-996-4364. \nTimes: 1 p.m.\, 2 p.m. and 3 p.m.Cost: $12Ages: AllRegister on RecLink
URL:https://livableraleigh.com/event/womens-history-month-historic-raleigh-trolley-tour/
LOCATION:Mordecai Historic Park\, 1 Mimosa St\, Raleigh\, NC\, 27604
CATEGORIES:Parks & Rec
END:VEVENT
BEGIN:VEVENT
DTSTART;TZID=America/New_York:20231112T140000
DTEND;TZID=America/New_York:20231112T160000
DTSTAMP:20260423T020307
CREATED:20231111T143006Z
LAST-MODIFIED:20231111T143006Z
UID:34220-1699797600-1699804800@livableraleigh.com
SUMMARY:Plott Hound Exhibit Opening
DESCRIPTION:Come to the museum to check out our newest exhibit and pet adoption event.\nThe Plott Hound is North Carolina’s state dog and it is a working breed. Plott Hounds have been raised in the United States for over 250 years and are the only recognized dog breed of North Carolina. Learn more about this dog\, local animal shelters\, and maybe even adopt your new best friend!Cost: FreeAges: All ages
URL:https://livableraleigh.com/event/plott-hound-exhibit-opening/
LOCATION:City of Raleigh Museum\, 220 Fayetteville St\, Raleigh\, NC\, 27601
CATEGORIES:Parks & Rec
END:VEVENT
END:VCALENDAR