BEGIN:VCALENDAR
VERSION:2.0
PRODID:-//Livable Raleigh - ECPv6.15.20//NONSGML v1.0//EN
CALSCALE:GREGORIAN
METHOD:PUBLISH
X-ORIGINAL-URL:https://livableraleigh.com
X-WR-CALDESC:Events for Livable Raleigh
REFRESH-INTERVAL;VALUE=DURATION:PT1H
X-Robots-Tag:noindex
X-PUBLISHED-TTL:PT1H
BEGIN:VTIMEZONE
TZID:America/New_York
BEGIN:DAYLIGHT
TZOFFSETFROM:-0500
TZOFFSETTO:-0400
TZNAME:EDT
DTSTART:20220313T070000
END:DAYLIGHT
BEGIN:STANDARD
TZOFFSETFROM:-0400
TZOFFSETTO:-0500
TZNAME:EST
DTSTART:20221106T060000
END:STANDARD
BEGIN:DAYLIGHT
TZOFFSETFROM:-0500
TZOFFSETTO:-0400
TZNAME:EDT
DTSTART:20230312T070000
END:DAYLIGHT
BEGIN:STANDARD
TZOFFSETFROM:-0400
TZOFFSETTO:-0500
TZNAME:EST
DTSTART:20231105T060000
END:STANDARD
BEGIN:DAYLIGHT
TZOFFSETFROM:-0500
TZOFFSETTO:-0400
TZNAME:EDT
DTSTART:20240310T070000
END:DAYLIGHT
BEGIN:STANDARD
TZOFFSETFROM:-0400
TZOFFSETTO:-0500
TZNAME:EST
DTSTART:20241103T060000
END:STANDARD
END:VTIMEZONE
BEGIN:VEVENT
DTSTART;TZID=America/New_York:20231020T180000
DTEND;TZID=America/New_York:20231020T193000
DTSTAMP:20260422T232340
CREATED:20230929T231814Z
LAST-MODIFIED:20230929T231814Z
UID:33118-1697824800-1697830200@livableraleigh.com
SUMMARY:Pumpkin Palooza
DESCRIPTION:Come and join us for an evening of family fun and creativity as we ring in the fall season! We will decorate pumpkins and enjoy tasty treats to inspire the most outrageous designs and creations. \nFee of $12 include one pumpkin for decorating. If families want additional pumpkins\, please register one person for each pumpkin.
URL:https://livableraleigh.com/event/pumpkin-palooza/
LOCATION:Greystone Recreation Center\, 7713-55 Lead Mine Road\, Raleigh\, NC\, 27615
CATEGORIES:Parks & Rec
END:VEVENT
END:VCALENDAR