BEGIN:VCALENDAR
VERSION:2.0
PRODID:-//Livable Raleigh - ECPv6.15.20//NONSGML v1.0//EN
CALSCALE:GREGORIAN
METHOD:PUBLISH
X-WR-CALNAME:Livable Raleigh
X-ORIGINAL-URL:https://livableraleigh.com
X-WR-CALDESC:Events for Livable Raleigh
REFRESH-INTERVAL;VALUE=DURATION:PT1H
X-Robots-Tag:noindex
X-PUBLISHED-TTL:PT1H
BEGIN:VTIMEZONE
TZID:America/New_York
BEGIN:DAYLIGHT
TZOFFSETFROM:-0500
TZOFFSETTO:-0400
TZNAME:EDT
DTSTART:20220313T070000
END:DAYLIGHT
BEGIN:STANDARD
TZOFFSETFROM:-0400
TZOFFSETTO:-0500
TZNAME:EST
DTSTART:20221106T060000
END:STANDARD
BEGIN:DAYLIGHT
TZOFFSETFROM:-0500
TZOFFSETTO:-0400
TZNAME:EDT
DTSTART:20230312T070000
END:DAYLIGHT
BEGIN:STANDARD
TZOFFSETFROM:-0400
TZOFFSETTO:-0500
TZNAME:EST
DTSTART:20231105T060000
END:STANDARD
BEGIN:DAYLIGHT
TZOFFSETFROM:-0500
TZOFFSETTO:-0400
TZNAME:EDT
DTSTART:20240310T070000
END:DAYLIGHT
BEGIN:STANDARD
TZOFFSETFROM:-0400
TZOFFSETTO:-0500
TZNAME:EST
DTSTART:20241103T060000
END:STANDARD
END:VTIMEZONE
BEGIN:VEVENT
DTSTART;TZID=America/New_York:20231019T180000
DTEND;TZID=America/New_York:20231019T190000
DTSTAMP:20260422T220500
CREATED:20230902T180857Z
LAST-MODIFIED:20231015T182537Z
UID:32430-1697738400-1697742000@livableraleigh.com
SUMMARY:Parks\, Recreation\, and Greenways Advisory Board
DESCRIPTION:1. Call to Order\n\n\n\n2. General Public Requests and Comments – (Please limit comments to 3 minutes)\n\n\n2.1 We invite each person wishing to speak before the Parks\, Recreation\, and Greenway Advisory Board to stand at the podium\, state your name and address\, and make your statement. Your information will be received and either placed on the next agenda\, forwarded to a subcommittee\, forwarded to the Raleigh City Council\, referred to the Raleigh Parks and Recreation Director\, or received as information.\n\n\n\n\n\n\n3. Committee Report – Liaison Representative\n\n\n3.1 Raleigh Youth Council (RYC)\n\n\n\n\n\n\n4. Presentation\n\n\n4.1 “What We Do” Presentation- Urban Forestry\n\n\n4.2 Raleigh Parks Plan Update\n\n\n4.3 Dix Park Project Update\n\n\n4.4 John Chavis-South Park Heritage Walk and John P “Top” Greene Situation Assessment and Joint Community Advisory Group\nThis Agenda Item Contains an Attachment.\n\n\n\n\n\n5. Minutes\n\n\n5.1 Approval of the Last Meeting Minutes\n\n\n\n\n\n\n6. Directors Report\n\n\n6.1 Director\n\n\n\n\n\n\n7. Committee Report – Standing Committees\n\n\n7.1 Parks Committee\n\n\n7.2 Kyle Drive Park Situation Assessment\nThis Agenda Item Contains an Attachment.\n\n7.3 Neuse River Park Situation Assessment\nThis Agenda Item Contains an Attachment.\n\n\n\n\n\n8. Committee Reports – Standing Committees\n\n\n8.1 Fred Fletcher Volunteer Committee\n\n\n8.2 Greenway Committee\n\n\n8.3 Sustainability\, Wildlife and Urban Trees Committee\n\n\n\n\n\n\n9. Committee Reports – Liaison Representatives\n\n\n9.1 Arts Commission and PADB\n\n\n9.2 Bicycle & Pedestrian Advisory Commission\n\n\n9.3 City of Raleigh Historic Cemeteries Advisory Board\n\n\n9.4 Dix Leadership Committee\n\n\n9.5 Historic Resources and Museum Advisory Board\n\n\n9.6 PRCR Parks Bond Community Engagement Liaison Reports\nThis Agenda Item Contains an Attachment.\n\n\n\n\n\n10. Chair Report/Announcements\n\n\n10.1 Chair\n\n\n\n\n\n\n11. Board Comments or Topics for Discussion\n\n\n\n12. Adjournment\n\n\n12.1 Adjourn Meeting\n\n\n\nThe Parks\, Recreation and Greenway Advisory Board (PRGAB) will meet in-person in the Raleigh Council Chambers\, 222 W. Hargett Street at 6:00 p.m. \nThe Raleigh Parks\, Recreation\, and Greenway Advisory Board meetings are open to the public. \nThis meeting will be streamed for public viewing – watch meeting. \nThe PRGAB meets on the third Thursday of each month.
URL:https://livableraleigh.com/event/parks-recreation-and-greenways-advisory-board-9/
LOCATION:Raleigh Municipal Building\, 222 W. Hargett St.\, Raleigh\, NC\, 27601\, United States
CATEGORIES:Greenway Committee,Open Houses and Public Hearings,Parks & Rec
END:VEVENT
END:VCALENDAR