BEGIN:VCALENDAR
VERSION:2.0
PRODID:-//Livable Raleigh - ECPv6.15.20//NONSGML v1.0//EN
CALSCALE:GREGORIAN
METHOD:PUBLISH
X-WR-CALNAME:Livable Raleigh
X-ORIGINAL-URL:https://livableraleigh.com
X-WR-CALDESC:Events for Livable Raleigh
REFRESH-INTERVAL;VALUE=DURATION:PT1H
X-Robots-Tag:noindex
X-PUBLISHED-TTL:PT1H
BEGIN:VTIMEZONE
TZID:America/New_York
BEGIN:DAYLIGHT
TZOFFSETFROM:-0500
TZOFFSETTO:-0400
TZNAME:EDT
DTSTART:20220313T070000
END:DAYLIGHT
BEGIN:STANDARD
TZOFFSETFROM:-0400
TZOFFSETTO:-0500
TZNAME:EST
DTSTART:20221106T060000
END:STANDARD
BEGIN:DAYLIGHT
TZOFFSETFROM:-0500
TZOFFSETTO:-0400
TZNAME:EDT
DTSTART:20230312T070000
END:DAYLIGHT
BEGIN:STANDARD
TZOFFSETFROM:-0400
TZOFFSETTO:-0500
TZNAME:EST
DTSTART:20231105T060000
END:STANDARD
BEGIN:DAYLIGHT
TZOFFSETFROM:-0500
TZOFFSETTO:-0400
TZNAME:EDT
DTSTART:20240310T070000
END:DAYLIGHT
BEGIN:STANDARD
TZOFFSETFROM:-0400
TZOFFSETTO:-0500
TZNAME:EST
DTSTART:20241103T060000
END:STANDARD
END:VTIMEZONE
BEGIN:VEVENT
DTSTART;TZID=America/New_York:20231014T100000
DTEND;TZID=America/New_York:20231014T130000
DTSTAMP:20260423T043845
CREATED:20230915T213347Z
LAST-MODIFIED:20230915T213347Z
UID:32794-1697277600-1697288400@livableraleigh.com
SUMMARY:Icky Science
DESCRIPTION:Yucky\, super gross\, slimy\, sticky\, stinky science! \nThis STEM program will bring out your inner mad scientist with hands-on experiments and fun for all. Costumes are encouraged but not required.
URL:https://livableraleigh.com/event/icky-science/
LOCATION:Chavis Community Center\, 505 Martin Luther King Jr. Blvd\, Raleigh\, NC\, United States
CATEGORIES:Parks & Rec
END:VEVENT
BEGIN:VEVENT
DTSTART;TZID=America/New_York:20231014T180000
DTEND;TZID=America/New_York:20231014T193000
DTSTAMP:20260423T043845
CREATED:20230929T230744Z
LAST-MODIFIED:20230929T230744Z
UID:33114-1697306400-1697311800@livableraleigh.com
SUMMARY:Bat House Painting and Bat Walk
DESCRIPTION:Help the bat conservation effort by painting and taking home your very own bat house! After enjoying time to paint your custom bat house\, we will take a short walk around Lake Wheeler Park to listen for bat calls. We may get lucky and see one flying overhead! \nhis event requires pre-registration\, so sign-up today to reserve your spot!
URL:https://livableraleigh.com/event/bat-house-painting-and-bat-walk/
LOCATION:Lake Wheeler Park\, 6404 Lake Wheeler Road\, Raleigh\, NC\, 27603
CATEGORIES:Parks & Rec
END:VEVENT
END:VCALENDAR