BEGIN:VCALENDAR
VERSION:2.0
PRODID:-//Livable Raleigh - ECPv6.15.20//NONSGML v1.0//EN
CALSCALE:GREGORIAN
METHOD:PUBLISH
X-WR-CALNAME:Livable Raleigh
X-ORIGINAL-URL:https://livableraleigh.com
X-WR-CALDESC:Events for Livable Raleigh
REFRESH-INTERVAL;VALUE=DURATION:PT1H
X-Robots-Tag:noindex
X-PUBLISHED-TTL:PT1H
BEGIN:VTIMEZONE
TZID:America/New_York
BEGIN:DAYLIGHT
TZOFFSETFROM:-0500
TZOFFSETTO:-0400
TZNAME:EDT
DTSTART:20220313T070000
END:DAYLIGHT
BEGIN:STANDARD
TZOFFSETFROM:-0400
TZOFFSETTO:-0500
TZNAME:EST
DTSTART:20221106T060000
END:STANDARD
BEGIN:DAYLIGHT
TZOFFSETFROM:-0500
TZOFFSETTO:-0400
TZNAME:EDT
DTSTART:20230312T070000
END:DAYLIGHT
BEGIN:STANDARD
TZOFFSETFROM:-0400
TZOFFSETTO:-0500
TZNAME:EST
DTSTART:20231105T060000
END:STANDARD
BEGIN:DAYLIGHT
TZOFFSETFROM:-0500
TZOFFSETTO:-0400
TZNAME:EDT
DTSTART:20240310T070000
END:DAYLIGHT
BEGIN:STANDARD
TZOFFSETFROM:-0400
TZOFFSETTO:-0500
TZNAME:EST
DTSTART:20241103T060000
END:STANDARD
END:VTIMEZONE
BEGIN:VEVENT
DTSTART;VALUE=DATE:20231010
DTEND;VALUE=DATE:20231011
DTSTAMP:20260423T015838
CREATED:20231007T022036Z
LAST-MODIFIED:20231007T022036Z
UID:33314-1696896000-1696982399@livableraleigh.com
SUMMARY:National #WalktoAParkDay
DESCRIPTION:Did you know that spending time in parks can have a positive impact on your mental health?\nThis is why we’ve partnered with the Trust for Public Land’s 10-Minute Walk program to increase park access for everyone. We invite you to explore your neighborhood park on Tuesday\, Oct. 10 to commemorate #WalkToAParkDay and #WorldMentalHealthDay. \nThe Trust for Public Land’s 10-Minute Walk program currently works with over 300 mayors and city leaders across 48 states to close the park equity gap and address cities’ pressing needs around health\, resilience\, environmental protection\, economic development\, and community building through parks. \nThe City of Raleigh has been chosen to participate in the 10-Minute Walk Park Equity Accelerator Cohort. The Accelerator will direct resources and provide technical assistance on solving park equity problems through policy change and innovation\, with the support of the Trust for Public Land\, cross-sector partners\, and other experts in the field of park equity. \nAges: AllCost: Free
URL:https://livableraleigh.com/event/national-walktoaparkday/
LOCATION:NC
CATEGORIES:Parks & Rec
END:VEVENT
BEGIN:VEVENT
DTSTART;TZID=America/New_York:20231010T110000
DTEND;TZID=America/New_York:20231010T130000
DTSTAMP:20260423T015838
CREATED:20230902T153721Z
LAST-MODIFIED:20230902T153721Z
UID:32391-1696935600-1696942800@livableraleigh.com
SUMMARY:Playground Pop-Ups
DESCRIPTION:Lake Wheeler Park will be providing a nature-inspired craft for kids at our Magnolia Shelter!
URL:https://livableraleigh.com/event/playground-pop-ups-5/
LOCATION:Lake Wheeler Park\, 6404 Lake Wheeler Road\, Raleigh\, NC\, 27603
CATEGORIES:Parks & Rec
END:VEVENT
END:VCALENDAR