BEGIN:VCALENDAR
VERSION:2.0
PRODID:-//Livable Raleigh - ECPv6.15.20//NONSGML v1.0//EN
CALSCALE:GREGORIAN
METHOD:PUBLISH
X-WR-CALNAME:Livable Raleigh
X-ORIGINAL-URL:https://livableraleigh.com
X-WR-CALDESC:Events for Livable Raleigh
REFRESH-INTERVAL;VALUE=DURATION:PT1H
X-Robots-Tag:noindex
X-PUBLISHED-TTL:PT1H
BEGIN:VTIMEZONE
TZID:America/New_York
BEGIN:DAYLIGHT
TZOFFSETFROM:-0500
TZOFFSETTO:-0400
TZNAME:EDT
DTSTART:20220313T070000
END:DAYLIGHT
BEGIN:STANDARD
TZOFFSETFROM:-0400
TZOFFSETTO:-0500
TZNAME:EST
DTSTART:20221106T060000
END:STANDARD
BEGIN:DAYLIGHT
TZOFFSETFROM:-0500
TZOFFSETTO:-0400
TZNAME:EDT
DTSTART:20230312T070000
END:DAYLIGHT
BEGIN:STANDARD
TZOFFSETFROM:-0400
TZOFFSETTO:-0500
TZNAME:EST
DTSTART:20231105T060000
END:STANDARD
BEGIN:DAYLIGHT
TZOFFSETFROM:-0500
TZOFFSETTO:-0400
TZNAME:EDT
DTSTART:20240310T070000
END:DAYLIGHT
BEGIN:STANDARD
TZOFFSETFROM:-0400
TZOFFSETTO:-0500
TZNAME:EST
DTSTART:20241103T060000
END:STANDARD
END:VTIMEZONE
BEGIN:VEVENT
DTSTART;TZID=America/New_York:20230930T100000
DTEND;TZID=America/New_York:20230930T150000
DTSTAMP:20260423T031633
CREATED:20230820T170407Z
LAST-MODIFIED:20230820T170407Z
UID:32096-1696068000-1696086000@livableraleigh.com
SUMMARY:Adventure Awaits
DESCRIPTION:Join us on an epic quest to discover a time of castles\, knights\, and dragons! Experience the rich world of medieval fantasy and the history behind this favorite era of the imagination. Create fun themed crafts\, practice your sword skills\, and purchase magical objects necessary for your adventures from our talented vendors. Enjoy magical entertainment\, food\, and drink while you explore beautiful Fletcher Park in downtown Raleigh.
URL:https://livableraleigh.com/event/adventure-awaits/
LOCATION:Fred Fletcher Park\, 820 Clay St\, Raleigh\, NC\, 27605
CATEGORIES:Parks & Rec
END:VEVENT
END:VCALENDAR