BEGIN:VCALENDAR
VERSION:2.0
PRODID:-//Livable Raleigh - ECPv6.15.20//NONSGML v1.0//EN
CALSCALE:GREGORIAN
METHOD:PUBLISH
X-ORIGINAL-URL:https://livableraleigh.com
X-WR-CALDESC:Events for Livable Raleigh
REFRESH-INTERVAL;VALUE=DURATION:PT1H
X-Robots-Tag:noindex
X-PUBLISHED-TTL:PT1H
BEGIN:VTIMEZONE
TZID:America/New_York
BEGIN:DAYLIGHT
TZOFFSETFROM:-0500
TZOFFSETTO:-0400
TZNAME:EDT
DTSTART:20220313T070000
END:DAYLIGHT
BEGIN:STANDARD
TZOFFSETFROM:-0400
TZOFFSETTO:-0500
TZNAME:EST
DTSTART:20221106T060000
END:STANDARD
BEGIN:DAYLIGHT
TZOFFSETFROM:-0500
TZOFFSETTO:-0400
TZNAME:EDT
DTSTART:20230312T070000
END:DAYLIGHT
BEGIN:STANDARD
TZOFFSETFROM:-0400
TZOFFSETTO:-0500
TZNAME:EST
DTSTART:20231105T060000
END:STANDARD
BEGIN:DAYLIGHT
TZOFFSETFROM:-0500
TZOFFSETTO:-0400
TZNAME:EDT
DTSTART:20240310T070000
END:DAYLIGHT
BEGIN:STANDARD
TZOFFSETFROM:-0400
TZOFFSETTO:-0500
TZNAME:EST
DTSTART:20241103T060000
END:STANDARD
END:VTIMEZONE
BEGIN:VEVENT
DTSTART;TZID=America/New_York:20230924T180000
DTEND;TZID=America/New_York:20230924T200000
DTSTAMP:20260422T204937
CREATED:20230820T164004Z
LAST-MODIFIED:20230820T164004Z
UID:32067-1695578400-1695585600@livableraleigh.com
SUMMARY:Summer Concert Series
DESCRIPTION:The 2023 Summer Concert Series is here! Concerts are free and we encourage tips for the bands. Performers may change without notice. May be canceled for inclement weather. Bring your own chair or blanket. No food is available at Fred Fletcher Park. \nPullen Park\nJune 11 – Raleigh Jazz Orchestra\nJune 25 – Triangle Taiko\nJuly 9 – Canceled\nJuly 30 – Husbandos\nAugust 13 – The Tune Swingers Orchestra- Canceled due to heat\nAugust 20 – Raleigh Jazz Orchestra\nSeptember 17 – The Blue Notes \nFred Fletcher Park\nJuly 23 – Capital Transit\nSeptember 10 – Thelonious\nSeptember 24 – SWAG \nTime: 6:00 p.m. – 8:00 p.m.\nAges: All\nCost: Free
URL:https://livableraleigh.com/event/summer-concert-series-6/
LOCATION:Fred Fletcher Park\, 820 Clay St\, Raleigh\, NC\, 27605
CATEGORIES:Parks & Rec
END:VEVENT
END:VCALENDAR