BEGIN:VCALENDAR
VERSION:2.0
PRODID:-//Livable Raleigh - ECPv6.15.20//NONSGML v1.0//EN
CALSCALE:GREGORIAN
METHOD:PUBLISH
X-ORIGINAL-URL:https://livableraleigh.com
X-WR-CALDESC:Events for Livable Raleigh
REFRESH-INTERVAL;VALUE=DURATION:PT1H
X-Robots-Tag:noindex
X-PUBLISHED-TTL:PT1H
BEGIN:VTIMEZONE
TZID:America/New_York
BEGIN:DAYLIGHT
TZOFFSETFROM:-0500
TZOFFSETTO:-0400
TZNAME:EDT
DTSTART:20220313T070000
END:DAYLIGHT
BEGIN:STANDARD
TZOFFSETFROM:-0400
TZOFFSETTO:-0500
TZNAME:EST
DTSTART:20221106T060000
END:STANDARD
BEGIN:DAYLIGHT
TZOFFSETFROM:-0500
TZOFFSETTO:-0400
TZNAME:EDT
DTSTART:20230312T070000
END:DAYLIGHT
BEGIN:STANDARD
TZOFFSETFROM:-0400
TZOFFSETTO:-0500
TZNAME:EST
DTSTART:20231105T060000
END:STANDARD
BEGIN:DAYLIGHT
TZOFFSETFROM:-0500
TZOFFSETTO:-0400
TZNAME:EDT
DTSTART:20240310T070000
END:DAYLIGHT
BEGIN:STANDARD
TZOFFSETFROM:-0400
TZOFFSETTO:-0500
TZNAME:EST
DTSTART:20241103T060000
END:STANDARD
END:VTIMEZONE
BEGIN:VEVENT
DTSTART;TZID=America/New_York:20230911T090000
DTEND;TZID=America/New_York:20230911T120000
DTSTAMP:20260422T204935
CREATED:20230826T222009Z
LAST-MODIFIED:20230826T222009Z
UID:32216-1694422800-1694433600@livableraleigh.com
SUMMARY:Volunteer Day of Service
DESCRIPTION:Volunteer with Raleigh Parks\, Stormwater Staff\, and fellow community members as we clean up litter on the Walnut Creek Trail during the September 11th Day of Service and Remembrance. \nImproperly discarded litter is a serious environmental hazard\, and without the help of volunteers like you\, that waste would make its way to the ocean!
URL:https://livableraleigh.com/event/volunteer-day-of-service/
LOCATION:Walnut Creek Athletic Center\, 1201 Sunnybrook Road\, Raleigh\, NC\, 27610
CATEGORIES:Parks & Rec
END:VEVENT
END:VCALENDAR