BEGIN:VCALENDAR
VERSION:2.0
PRODID:-//Livable Raleigh - ECPv6.15.20//NONSGML v1.0//EN
CALSCALE:GREGORIAN
METHOD:PUBLISH
X-ORIGINAL-URL:https://livableraleigh.com
X-WR-CALDESC:Events for Livable Raleigh
REFRESH-INTERVAL;VALUE=DURATION:PT1H
X-Robots-Tag:noindex
X-PUBLISHED-TTL:PT1H
BEGIN:VTIMEZONE
TZID:America/New_York
BEGIN:DAYLIGHT
TZOFFSETFROM:-0500
TZOFFSETTO:-0400
TZNAME:EDT
DTSTART:20220313T070000
END:DAYLIGHT
BEGIN:STANDARD
TZOFFSETFROM:-0400
TZOFFSETTO:-0500
TZNAME:EST
DTSTART:20221106T060000
END:STANDARD
BEGIN:DAYLIGHT
TZOFFSETFROM:-0500
TZOFFSETTO:-0400
TZNAME:EDT
DTSTART:20230312T070000
END:DAYLIGHT
BEGIN:STANDARD
TZOFFSETFROM:-0400
TZOFFSETTO:-0500
TZNAME:EST
DTSTART:20231105T060000
END:STANDARD
BEGIN:DAYLIGHT
TZOFFSETFROM:-0500
TZOFFSETTO:-0400
TZNAME:EDT
DTSTART:20240310T070000
END:DAYLIGHT
BEGIN:STANDARD
TZOFFSETFROM:-0400
TZOFFSETTO:-0500
TZNAME:EST
DTSTART:20241103T060000
END:STANDARD
END:VTIMEZONE
BEGIN:VEVENT
DTSTART;TZID=America/New_York:20230908T153000
DTEND;TZID=America/New_York:20230908T183000
DTSTAMP:20260422T220749
CREATED:20230820T132122Z
LAST-MODIFIED:20230820T132122Z
UID:31999-1694187000-1694197800@livableraleigh.com
SUMMARY:Party in the Park
DESCRIPTION:Come celebrate the end of summer and the start of the school year with the neighborhood as we party in Kiwanis Park. \nIt’s fun for the whole family with crafts\, games\, sweet treats\, and so much more! There will be a food truck on site with some delicious delights available for purchase. \nPre-registration is encouraged for communication in the case of inclement weather but is not required.
URL:https://livableraleigh.com/event/party-in-the-park/
LOCATION:Kiwanis Park\, 2525 Noble Road\, 27608
CATEGORIES:Parks & Rec
END:VEVENT
END:VCALENDAR