BEGIN:VCALENDAR
VERSION:2.0
PRODID:-//Livable Raleigh - ECPv6.15.20//NONSGML v1.0//EN
CALSCALE:GREGORIAN
METHOD:PUBLISH
X-WR-CALNAME:Livable Raleigh
X-ORIGINAL-URL:https://livableraleigh.com
X-WR-CALDESC:Events for Livable Raleigh
REFRESH-INTERVAL;VALUE=DURATION:PT1H
X-Robots-Tag:noindex
X-PUBLISHED-TTL:PT1H
BEGIN:VTIMEZONE
TZID:America/New_York
BEGIN:DAYLIGHT
TZOFFSETFROM:-0500
TZOFFSETTO:-0400
TZNAME:EDT
DTSTART:20220313T070000
END:DAYLIGHT
BEGIN:STANDARD
TZOFFSETFROM:-0400
TZOFFSETTO:-0500
TZNAME:EST
DTSTART:20221106T060000
END:STANDARD
BEGIN:DAYLIGHT
TZOFFSETFROM:-0500
TZOFFSETTO:-0400
TZNAME:EDT
DTSTART:20230312T070000
END:DAYLIGHT
BEGIN:STANDARD
TZOFFSETFROM:-0400
TZOFFSETTO:-0500
TZNAME:EST
DTSTART:20231105T060000
END:STANDARD
BEGIN:DAYLIGHT
TZOFFSETFROM:-0500
TZOFFSETTO:-0400
TZNAME:EDT
DTSTART:20240310T070000
END:DAYLIGHT
BEGIN:STANDARD
TZOFFSETFROM:-0400
TZOFFSETTO:-0500
TZNAME:EST
DTSTART:20241103T060000
END:STANDARD
END:VTIMEZONE
BEGIN:VEVENT
DTSTART;TZID=America/New_York:20230812T110000
DTEND;TZID=America/New_York:20230812T130000
DTSTAMP:20260422T181524
CREATED:20230707T125308Z
LAST-MODIFIED:20230707T125308Z
UID:31286-1691838000-1691845200@livableraleigh.com
SUMMARY:Back to School Giveaway
DESCRIPTION:
URL:https://livableraleigh.com/event/back-to-school-giveaway/
LOCATION:Sanderford Road Community Center\, 2623 Sanderford Rd\, Raleigh\, NC\, 27610
CATEGORIES:Parks & Rec
END:VEVENT
BEGIN:VEVENT
DTSTART;TZID=America/New_York:20230812T130000
DTEND;TZID=America/New_York:20230812T160000
DTSTAMP:20260422T181524
CREATED:20230730T202917Z
LAST-MODIFIED:20230730T202917Z
UID:31638-1691845200-1691856000@livableraleigh.com
SUMMARY:Teen Programs Back To School Pool Party
DESCRIPTION:Teens Programs will be hosting it’s Back to School Pool Party with FREE admission\, food\, DJ\,  and over a Back To School Shoe Raffle. \nTeens come ready to have a great time!
URL:https://livableraleigh.com/event/teen-programs-back-to-school-pool-party/
LOCATION:Biltmore Hills Park\, 2615 Fitzgerald Drive\, Raleigh\, NC\, 27610
CATEGORIES:Parks & Rec
END:VEVENT
END:VCALENDAR