BEGIN:VCALENDAR
VERSION:2.0
PRODID:-//Livable Raleigh - ECPv6.15.20//NONSGML v1.0//EN
CALSCALE:GREGORIAN
METHOD:PUBLISH
X-ORIGINAL-URL:https://livableraleigh.com
X-WR-CALDESC:Events for Livable Raleigh
REFRESH-INTERVAL;VALUE=DURATION:PT1H
X-Robots-Tag:noindex
X-PUBLISHED-TTL:PT1H
BEGIN:VTIMEZONE
TZID:America/New_York
BEGIN:DAYLIGHT
TZOFFSETFROM:-0500
TZOFFSETTO:-0400
TZNAME:EDT
DTSTART:20220313T070000
END:DAYLIGHT
BEGIN:STANDARD
TZOFFSETFROM:-0400
TZOFFSETTO:-0500
TZNAME:EST
DTSTART:20221106T060000
END:STANDARD
BEGIN:DAYLIGHT
TZOFFSETFROM:-0500
TZOFFSETTO:-0400
TZNAME:EDT
DTSTART:20230312T070000
END:DAYLIGHT
BEGIN:STANDARD
TZOFFSETFROM:-0400
TZOFFSETTO:-0500
TZNAME:EST
DTSTART:20231105T060000
END:STANDARD
BEGIN:DAYLIGHT
TZOFFSETFROM:-0500
TZOFFSETTO:-0400
TZNAME:EDT
DTSTART:20240310T070000
END:DAYLIGHT
BEGIN:STANDARD
TZOFFSETFROM:-0400
TZOFFSETTO:-0500
TZNAME:EST
DTSTART:20241103T060000
END:STANDARD
END:VTIMEZONE
BEGIN:VEVENT
DTSTART;TZID=America/New_York:20230805T083000
DTEND;TZID=America/New_York:20230805T143000
DTSTAMP:20260422T204915
CREATED:20230715T123925Z
LAST-MODIFIED:20230715T123925Z
UID:31497-1691224200-1691245800@livableraleigh.com
SUMMARY:JCMP Inaugural Cornhole Tournament
DESCRIPTION:Let the games begin! Join us at John Chavis Memorial Park for\nour first ever cornhole tournament.
URL:https://livableraleigh.com/event/jcmp-inaugural-cornhole-tournament/
LOCATION:John Chavis Community Center\, 505 Martin Luther King Jr. Blvd.\, Raleigh\, NC\, 27601\, United States
CATEGORIES:Parks & Rec
END:VEVENT
BEGIN:VEVENT
DTSTART;TZID=America/New_York:20230805T100000
DTEND;TZID=America/New_York:20230805T130000
DTSTAMP:20260422T204915
CREATED:20230730T202324Z
LAST-MODIFIED:20230730T202324Z
UID:31632-1691229600-1691240400@livableraleigh.com
SUMMARY:Teddy Bear Picnic
DESCRIPTION:Come join the fun at Pullen Park for our first Teddy Bear Picnic. MOSS Kids will be providing a day filled with stories\, hands-on fun\, and adventures. At the top of every hour\, we will start with a parade! So\, grab your favorite Teddy Bear\, Dino\, or toy\, and join us to march to our Storytime adventures. \nDon’t forget\, bring your used books for a donation to the book sale table! You can also purchase used books to take home.
URL:https://livableraleigh.com/event/teddy-bear-picnic/
LOCATION:Pullen Park Community Center\, 408 Ashe Ave\, Raleigh\, NC\, 27607
CATEGORIES:Parks & Rec
END:VEVENT
END:VCALENDAR