BEGIN:VCALENDAR
VERSION:2.0
PRODID:-//Livable Raleigh - ECPv6.15.20//NONSGML v1.0//EN
CALSCALE:GREGORIAN
METHOD:PUBLISH
X-WR-CALNAME:Livable Raleigh
X-ORIGINAL-URL:https://livableraleigh.com
X-WR-CALDESC:Events for Livable Raleigh
REFRESH-INTERVAL;VALUE=DURATION:PT1H
X-Robots-Tag:noindex
X-PUBLISHED-TTL:PT1H
BEGIN:VTIMEZONE
TZID:America/New_York
BEGIN:DAYLIGHT
TZOFFSETFROM:-0500
TZOFFSETTO:-0400
TZNAME:EDT
DTSTART:20220313T070000
END:DAYLIGHT
BEGIN:STANDARD
TZOFFSETFROM:-0400
TZOFFSETTO:-0500
TZNAME:EST
DTSTART:20221106T060000
END:STANDARD
BEGIN:DAYLIGHT
TZOFFSETFROM:-0500
TZOFFSETTO:-0400
TZNAME:EDT
DTSTART:20230312T070000
END:DAYLIGHT
BEGIN:STANDARD
TZOFFSETFROM:-0400
TZOFFSETTO:-0500
TZNAME:EST
DTSTART:20231105T060000
END:STANDARD
BEGIN:DAYLIGHT
TZOFFSETFROM:-0500
TZOFFSETTO:-0400
TZNAME:EDT
DTSTART:20240310T070000
END:DAYLIGHT
BEGIN:STANDARD
TZOFFSETFROM:-0400
TZOFFSETTO:-0500
TZNAME:EST
DTSTART:20241103T060000
END:STANDARD
END:VTIMEZONE
BEGIN:VEVENT
DTSTART;TZID=America/New_York:20230730T180000
DTEND;TZID=America/New_York:20230730T200000
DTSTAMP:20260422T181440
CREATED:20230617T011102Z
LAST-MODIFIED:20230617T011102Z
UID:30781-1690740000-1690747200@livableraleigh.com
SUMMARY:Summer Concert Series - Pullen Park
DESCRIPTION:The 2023 Summer Concert Series is here! Concerts are free and we encourage tips for the bands. Performers may change without notice. May be canceled for inclement weather. Bring your own chair or blanket. No food at Fred Fletcher Park. \nPullen Park\nJune 11 – Raleigh Jazz Orchestra\nJune 25 – Triangle Taiko\nJuly 9 – Tune Swingers\nJuly 30 – Husbandos\nAugust 13 – Oak City Saxes\nAugust 20 – Many Everythings\nSeptember 17 – The Blue Notes \nFred Fletcher Park\nJuly 23 – Capital Transit\nSeptember 10 – Thelonious\nSeptember 24 – SWAG \nTime: 6:00 p.m. – 8:00 p.m.\nAges: All\nCost: Free
URL:https://livableraleigh.com/event/summer-concert-series-pullen-park-2/
LOCATION:Pullen Park Community Center\, 408 Ashe Ave\, Raleigh\, NC\, 27607
CATEGORIES:Parks & Rec
END:VEVENT
END:VCALENDAR