BEGIN:VCALENDAR
VERSION:2.0
PRODID:-//Livable Raleigh - ECPv6.15.20//NONSGML v1.0//EN
CALSCALE:GREGORIAN
METHOD:PUBLISH
X-ORIGINAL-URL:https://livableraleigh.com
X-WR-CALDESC:Events for Livable Raleigh
REFRESH-INTERVAL;VALUE=DURATION:PT1H
X-Robots-Tag:noindex
X-PUBLISHED-TTL:PT1H
BEGIN:VTIMEZONE
TZID:America/New_York
BEGIN:DAYLIGHT
TZOFFSETFROM:-0500
TZOFFSETTO:-0400
TZNAME:EDT
DTSTART:20230312T070000
END:DAYLIGHT
BEGIN:STANDARD
TZOFFSETFROM:-0400
TZOFFSETTO:-0500
TZNAME:EST
DTSTART:20231105T060000
END:STANDARD
BEGIN:DAYLIGHT
TZOFFSETFROM:-0500
TZOFFSETTO:-0400
TZNAME:EDT
DTSTART:20240310T070000
END:DAYLIGHT
BEGIN:STANDARD
TZOFFSETFROM:-0400
TZOFFSETTO:-0500
TZNAME:EST
DTSTART:20241103T060000
END:STANDARD
BEGIN:DAYLIGHT
TZOFFSETFROM:-0500
TZOFFSETTO:-0400
TZNAME:EDT
DTSTART:20250309T070000
END:DAYLIGHT
BEGIN:STANDARD
TZOFFSETFROM:-0400
TZOFFSETTO:-0500
TZNAME:EST
DTSTART:20251102T060000
END:STANDARD
END:VTIMEZONE
BEGIN:VEVENT
DTSTART;TZID=America/New_York:20240816T160000
DTEND;TZID=America/New_York:20240816T180000
DTSTAMP:20260420T051330
CREATED:20240726T222642Z
LAST-MODIFIED:20240726T222642Z
UID:39608-1723824000-1723831200@livableraleigh.com
SUMMARY:Sneaker Design Day!
DESCRIPTION:Express yourself in the new school year with a pair of sneakers designed by you!\nCome out to Peach Road Cultural Center on Friday\, Aug. 16 for sneaker art\, treats\, games\, and fun with family and friends. (While supplies last) \nAges: 8-16Cost: Free
URL:https://livableraleigh.com/event/sneaker-design-day/
LOCATION:Peach Road Cultural Center\, 911 Ileagnes Road\, Raleigh\, 27603
CATEGORIES:Parks & Rec
END:VEVENT
BEGIN:VEVENT
DTSTART;TZID=America/New_York:20240817T100000
DTEND;TZID=America/New_York:20240817T130000
DTSTAMP:20260420T051330
CREATED:20240702T134206Z
LAST-MODIFIED:20240702T134206Z
UID:39064-1723888800-1723899600@livableraleigh.com
SUMMARY:Mud Day
DESCRIPTION:Join us for this free event! Our sixth annual celebration of our wetlands and all things muddy and wonderful! \nThere will be activities\, food trucks\, and of course\, a giant mud pit! Come dressed to get messy and wet. The full list of festival activities also includes mud kitchen\, live animals\, fort building\, an obstacle course\, local environmental organizations\, crafts\, and water play! \nThe City’s Community Engagement team will also be in attendance to connect with residents\, answer any questions\, and encourage public participation. \nAges: AllCost: Free
URL:https://livableraleigh.com/event/mud-day-2/
LOCATION:Walnut Creek Wetland Center\, 950 Peterson St\, Raleigh\, NC\, 27610
CATEGORIES:Parks & Rec
END:VEVENT
BEGIN:VEVENT
DTSTART;TZID=America/New_York:20240817T130000
DTEND;TZID=America/New_York:20240817T160000
DTSTAMP:20260420T051330
CREATED:20240713T015925Z
LAST-MODIFIED:20240713T015925Z
UID:39417-1723899600-1723910400@livableraleigh.com
SUMMARY:Raleigh Teen Connect Pool Party
DESCRIPTION:Calling all Middle and High School teens!\nRaleigh Teen Connect will host a Pool Party on Saturday\, Aug. 17\, at Biltmore Pool\, 701 Crown Crossing Lane. \nThe event will include free entry\, free food\, and a shoe raffle. Come out and have some fun with us! \nAges: Middle and High SchoolCost: Free*Rain Date – Saturday\, Aug. 24
URL:https://livableraleigh.com/event/raleigh-teen-connect-pool-party/
LOCATION:Biltmore Pool\, 701 Crown Crossing Lane\, Raleigh\, NC\, 27610
CATEGORIES:Parks & Rec
END:VEVENT
BEGIN:VEVENT
DTSTART;TZID=America/New_York:20240817T173000
DTEND;TZID=America/New_York:20240817T203000
DTSTAMP:20260420T051330
CREATED:20240713T020044Z
LAST-MODIFIED:20240713T020044Z
UID:39420-1723915800-1723926600@livableraleigh.com
SUMMARY:Back to School Jamboree at the Park
DESCRIPTION:Join us for an evening filled with bounce houses\, entertainment\, crafts\, and more to celebrate the beginning of the school year.\nThe Raleigh Police Department will be sponsoring free haircuts for the duration of the event. \nFree lunch boxes and water bottles will be available to students while supplies last. \nAges: AllCost: Free \nThe City’s Community Engagement team will be in attendance to connect with residents\, answer any questions\, and encourage public participation.
URL:https://livableraleigh.com/event/back-to-school-jamboree-at-the-park-2/
LOCATION:John Chavis Community Center\, 505 Martin Luther King Jr. Blvd.\, Raleigh\, NC\, 27601\, United States
CATEGORIES:Parks & Rec
END:VEVENT
BEGIN:VEVENT
DTSTART;TZID=America/New_York:20240818T170000
DTEND;TZID=America/New_York:20240818T190000
DTSTAMP:20260420T051330
CREATED:20240803T002222Z
LAST-MODIFIED:20240803T002222Z
UID:39681-1724000400-1724007600@livableraleigh.com
SUMMARY:Summer Concert Series
DESCRIPTION:Join us at our Summer Concert Series!\nWe look forward to seeing you all at the parks and enjoy some music from our local bands. Concerts are Free! Bring your own chair or blanket. \nFred Fletcher Park820 Clay Street\, Raleigh NC\nAug. 18 – TheloniousAug. 25 – Triangle Sax EnsembleSept. 8 – SWAGSept. 22 – Raleigh Concert Band \nPullen Park520 Ashe Ave\, Raleigh\, NC\nSept. 15 – The British Invaders Band \nDetails\nAges: AllCost: FreeConcerts may be canceled for inclement. Performers may change without notice. Food is not available at Fred Fletcher Park.
URL:https://livableraleigh.com/event/summer-concert-series-9/
LOCATION:Fred Fletcher Park\, 820 Clay St\, Raleigh\, NC\, 27605
CATEGORIES:Parks & Rec
END:VEVENT
BEGIN:VEVENT
DTSTART;TZID=America/New_York:20240820T180000
DTEND;TZID=America/New_York:20240820T193000
DTSTAMP:20260420T051330
CREATED:20240703T125509Z
LAST-MODIFIED:20240813T191251Z
UID:39098-1724176800-1724182200@livableraleigh.com
SUMMARY:Dix Park Community Committee Meeting -- Cancelled
DESCRIPTION:The Dix Park Community Committee is an advisory committee designed to represent the diversity of the community and bring a broad range of experiences and expertise to the Dorothea Dix Park project. This committee provides guidance and recommendation to the Dix Park Leadership Committee on matters related to park development\, programming\, and engagement. \nThe Dix Park Community Committee meeting will be held in-person at the Greg Poole\, Jr. All Faiths Chapel at Dix Park\, located at 1030 Richardson Drive\, Raleigh NC 27603. \nView Meeting Agendas and Minutes using the City’s paperless system
URL:https://livableraleigh.com/event/dix-park-community-committee-meeting-4/
LOCATION:All Faith’s Chapel at Dix Park\, 1030 Richardson Drive\, Raleigh\, NC\, 27603
CATEGORIES:Parks & Rec
END:VEVENT
BEGIN:VEVENT
DTSTART;TZID=America/New_York:20240823T100000
DTEND;TZID=America/New_York:20240823T150000
DTSTAMP:20260420T051330
CREATED:20240719T014159Z
LAST-MODIFIED:20240719T014159Z
UID:39482-1724407200-1724425200@livableraleigh.com
SUMMARY:Free Friday at Mordecai Historic Park
DESCRIPTION:Mordecai Historic Park will offer free tours throughout the day on this special Friday!\nTours include the Mordecai House\, Andrew Johnson’s birthplace\, St. Mark’s Chapel\, and the Allen Kitchen. The first tour will begin at 10 a.m. and the last tour starts at 3 p.m. Tours start every 30 minutes and are limited to 20 people on a first-come\, first-served basis. \nThis event is free and does not require registration. For more details\, please contact 919-996-4364. \nAges: AllCost: Free
URL:https://livableraleigh.com/event/free-friday-at-mordecai-historic-park-3/
LOCATION:Mordecai Historic Park\, 1 Mimosa St\, Raleigh\, NC\, 27604
CATEGORIES:Parks & Rec
END:VEVENT
BEGIN:VEVENT
DTSTART;TZID=America/New_York:20240824T110000
DTEND;TZID=America/New_York:20240824T130000
DTSTAMP:20260420T051330
CREATED:20240719T014315Z
LAST-MODIFIED:20240719T014315Z
UID:39484-1724497200-1724504400@livableraleigh.com
SUMMARY:Back to School Giveaway
DESCRIPTION:Stop by and join in the fun at this free family event!\nPick up free back-to-school supplies for the kids (while supplies last). We will offer free braiding and haircuts from 9 – 11 a.m. in the Sanderford Road Neighborhood Center. \nEvent Partners: Zeta Phi Beta Sorority\, Inc.\, Hiram Tyree #727 Masonic Lodge\, Recidivism Reduction Educational Program Services\, North Carolina Empowerment Organization\, and Having Aunties in Reach. \nAges: 5 – 15Cost: Free
URL:https://livableraleigh.com/event/back-to-school-giveaway-2/
LOCATION:Sanderford Road Community Center\, 2623 Sanderford Rd\, Raleigh\, NC\, 27610
CATEGORIES:Parks & Rec
END:VEVENT
BEGIN:VEVENT
DTSTART;TZID=America/New_York:20240825T170000
DTEND;TZID=America/New_York:20240825T190000
DTSTAMP:20260420T051330
CREATED:20240803T003202Z
LAST-MODIFIED:20240803T003733Z
UID:39689-1724605200-1724612400@livableraleigh.com
SUMMARY:Summer Concert Series
DESCRIPTION:Join us at our Summer Concert Series!\nWe look forward to seeing you all at the parks and enjoy some music from our local bands. Concerts are Free! Bring your own chair or blanket. \nFred Fletcher Park820 Clay Street\, Raleigh NC\nAug. 25 – Triangle Sax EnsembleSept. 8 – SWAGSept. 22 – Raleigh Concert Band \nPullen Park520 Ashe Ave\, Raleigh\, NC\nSept. 15 – The British Invaders Band \nDetails\nAges: AllCost: FreeConcerts may be canceled for inclement. Performers may change without notice. Food is not available at Fred Fletcher Park.
URL:https://livableraleigh.com/event/summer-concert-series-10/
LOCATION:Fred Fletcher Park\, 820 Clay St\, Raleigh\, NC\, 27605
CATEGORIES:Parks & Rec
END:VEVENT
BEGIN:VEVENT
DTSTART;TZID=America/New_York:20240830T170000
DTEND;TZID=America/New_York:20240830T200000
DTSTAMP:20260420T051330
CREATED:20240705T212946Z
LAST-MODIFIED:20240705T212946Z
UID:39263-1725037200-1725048000@livableraleigh.com
SUMMARY:Final Friday Fitness
DESCRIPTION:Join us on the Final Friday of every month from May through October for a unique series where fitness embraces festivity. Each month\, we feature a new\, free workout led by local fitness experts\, surrounded by Raleigh’s finest food trucks and local vendors. We finish off the night with live music by a local artist as you enjoy your post-workout meal on the lawn.
URL:https://livableraleigh.com/event/final-friday-fitness/
LOCATION:Moore Square\, 200 S. Blount St.\, Raleigh\, NC\, 27601
CATEGORIES:Parks & Rec
END:VEVENT
END:VCALENDAR