BEGIN:VCALENDAR
VERSION:2.0
PRODID:-//Livable Raleigh - ECPv6.15.20//NONSGML v1.0//EN
CALSCALE:GREGORIAN
METHOD:PUBLISH
X-WR-CALNAME:Livable Raleigh
X-ORIGINAL-URL:https://livableraleigh.com
X-WR-CALDESC:Events for Livable Raleigh
REFRESH-INTERVAL;VALUE=DURATION:PT1H
X-Robots-Tag:noindex
X-PUBLISHED-TTL:PT1H
BEGIN:VTIMEZONE
TZID:America/New_York
BEGIN:DAYLIGHT
TZOFFSETFROM:-0500
TZOFFSETTO:-0400
TZNAME:EDT
DTSTART:20220313T070000
END:DAYLIGHT
BEGIN:STANDARD
TZOFFSETFROM:-0400
TZOFFSETTO:-0500
TZNAME:EST
DTSTART:20221106T060000
END:STANDARD
BEGIN:DAYLIGHT
TZOFFSETFROM:-0500
TZOFFSETTO:-0400
TZNAME:EDT
DTSTART:20230312T070000
END:DAYLIGHT
BEGIN:STANDARD
TZOFFSETFROM:-0400
TZOFFSETTO:-0500
TZNAME:EST
DTSTART:20231105T060000
END:STANDARD
BEGIN:DAYLIGHT
TZOFFSETFROM:-0500
TZOFFSETTO:-0400
TZNAME:EDT
DTSTART:20240310T070000
END:DAYLIGHT
BEGIN:STANDARD
TZOFFSETFROM:-0400
TZOFFSETTO:-0500
TZNAME:EST
DTSTART:20241103T060000
END:STANDARD
END:VTIMEZONE
BEGIN:VEVENT
DTSTART;TZID=America/New_York:20230706T180000
DTEND;TZID=America/New_York:20230706T190000
DTSTAMP:20260422T215938
CREATED:20230605T003709Z
LAST-MODIFIED:20230605T003709Z
UID:30455-1688666400-1688670000@livableraleigh.com
SUMMARY:Parks Committee
DESCRIPTION:The committee is responsible for the study of issues related to park facilities\, features\, developments\, and modifications. The committee prepares recommendations and proposals for the Parks\, Recreation and Greenway Advisory Board based on in-depth review and study of park-related issues and concerns. \nThe Parks Committee a standing committee of the Parks\, Recreation and Greenway Advisory Board will meet in the Raleigh Municipal Building\, 222 W. Hargett Street\, Conference Room 303 at 6:00 pm.
URL:https://livableraleigh.com/event/parks-committee-4/
LOCATION:Raleigh Municipal Building\, 222 W. Hargett St.\, Raleigh\, NC\, 27601\, United States
CATEGORIES:Open Houses and Public Hearings,Parks & Rec
END:VEVENT
BEGIN:VEVENT
DTSTART;TZID=America/New_York:20230709T180000
DTEND;TZID=America/New_York:20230709T200000
DTSTAMP:20260422T215938
CREATED:20230617T001730Z
LAST-MODIFIED:20230617T011219Z
UID:30755-1688925600-1688932800@livableraleigh.com
SUMMARY:Summer Concert Series - Pullen Park
DESCRIPTION:The 2023 Summer Concert Series is here! Concerts are free and we encourage tips for the bands. Performers may change without notice. May be canceled for inclement weather. Bring your own chair or blanket. No food at Fred Fletcher Park. \nPullen Park\nJune 11 – Raleigh Jazz Orchestra\nJune 25 – Triangle Taiko\nJuly 9 – Tune Swingers\nJuly 30 – Husbandos\nAugust 13 – Oak City Saxes\nAugust 20 – Many Everythings\nSeptember 17 – The Blue Notes \nFred Fletcher Park\nJuly 23 – Capital Transit\nSeptember 10 – Thelonious\nSeptember 24 – SWAG \nTime: 6:00 p.m. – 8:00 p.m.\nAges: All\nCost: Free
URL:https://livableraleigh.com/event/summer-concert-series-pullen-park/
LOCATION:Pullen Park Community Center\, 408 Ashe Ave\, Raleigh\, NC\, 27607
CATEGORIES:Parks & Rec
END:VEVENT
BEGIN:VEVENT
DTSTART;TZID=America/New_York:20230711T110000
DTEND;TZID=America/New_York:20230711T130000
DTSTAMP:20260422T215938
CREATED:20230707T121928Z
LAST-MODIFIED:20230707T121928Z
UID:31263-1689073200-1689080400@livableraleigh.com
SUMMARY:Playground Pop-Ups
DESCRIPTION:Lake Wheeler Park will be providing a nature-inspired craft for kids at our Magnolia Shelter!
URL:https://livableraleigh.com/event/playground-pop-ups/
LOCATION:Lake Wheeler Park\, 6404 Lake Wheeler Road\, Raleigh\, NC\, 27603
CATEGORIES:Parks & Rec
END:VEVENT
BEGIN:VEVENT
DTSTART;TZID=America/New_York:20230718T110000
DTEND;TZID=America/New_York:20230718T130000
DTSTAMP:20260422T215938
CREATED:20230707T122430Z
LAST-MODIFIED:20230707T122430Z
UID:31268-1689678000-1689685200@livableraleigh.com
SUMMARY:Playground Pop-Ups
DESCRIPTION:Lake Wheeler Park will be providing a nature-inspired craft for kids at our Magnolia Shelter!
URL:https://livableraleigh.com/event/playground-pop-ups-2/
LOCATION:Lake Wheeler Park\, 6404 Lake Wheeler Road\, Raleigh\, NC\, 27603
CATEGORIES:Parks & Rec
END:VEVENT
BEGIN:VEVENT
DTSTART;TZID=America/New_York:20230723T180000
DTEND;TZID=America/New_York:20230723T200000
DTSTAMP:20260422T215938
CREATED:20230617T010128Z
LAST-MODIFIED:20230617T010128Z
UID:30768-1690135200-1690142400@livableraleigh.com
SUMMARY:Summer Concert Series - Fred Fletcher Park
DESCRIPTION:The 2023 Summer Concert Series is here! Concerts are free and we encourage tips for the bands. Performers may change without notice. May be canceled for inclement weather. Bring your own chair or blanket. No food at Fred Fletcher Park. \nPullen Park\nJune 11 – Raleigh Jazz Orchestra\nJune 25 – Triangle Taiko\nJuly 9 – Tune Swingers\nJuly 30 – Husbandos\nAugust 13 – Oak City Saxes\nAugust 20 – Many Everythings\nSeptember 17 – The Blue Notes \nFred Fletcher Park\nJuly 23 – Capital Transit\nSeptember 10 – Thelonious\nSeptember 24 – SWAG \nTime: 6:00 p.m. – 8:00 p.m.\nAges: All\nCost: Free
URL:https://livableraleigh.com/event/summer-concert-series-fred-fletcher-park/
LOCATION:Fred Fletcher Park\, 820 Clay St\, Raleigh\, NC\, 27605
CATEGORIES:Parks & Rec
END:VEVENT
BEGIN:VEVENT
DTSTART;TZID=America/New_York:20230725T110000
DTEND;TZID=America/New_York:20230725T130000
DTSTAMP:20260422T215938
CREATED:20230707T123130Z
LAST-MODIFIED:20230707T123130Z
UID:31274-1690282800-1690290000@livableraleigh.com
SUMMARY:Playground Pop-Ups
DESCRIPTION:Lake Wheeler Park will be providing a nature-inspired craft for kids at our Magnolia Shelter!
URL:https://livableraleigh.com/event/playground-pop-ups-3/
LOCATION:Lake Wheeler Park\, 6404 Lake Wheeler Road\, Raleigh\, NC\, 27603
CATEGORIES:Parks & Rec
END:VEVENT
BEGIN:VEVENT
DTSTART;TZID=America/New_York:20230730T180000
DTEND;TZID=America/New_York:20230730T200000
DTSTAMP:20260422T215938
CREATED:20230617T011102Z
LAST-MODIFIED:20230617T011102Z
UID:30781-1690740000-1690747200@livableraleigh.com
SUMMARY:Summer Concert Series - Pullen Park
DESCRIPTION:The 2023 Summer Concert Series is here! Concerts are free and we encourage tips for the bands. Performers may change without notice. May be canceled for inclement weather. Bring your own chair or blanket. No food at Fred Fletcher Park. \nPullen Park\nJune 11 – Raleigh Jazz Orchestra\nJune 25 – Triangle Taiko\nJuly 9 – Tune Swingers\nJuly 30 – Husbandos\nAugust 13 – Oak City Saxes\nAugust 20 – Many Everythings\nSeptember 17 – The Blue Notes \nFred Fletcher Park\nJuly 23 – Capital Transit\nSeptember 10 – Thelonious\nSeptember 24 – SWAG \nTime: 6:00 p.m. – 8:00 p.m.\nAges: All\nCost: Free
URL:https://livableraleigh.com/event/summer-concert-series-pullen-park-2/
LOCATION:Pullen Park Community Center\, 408 Ashe Ave\, Raleigh\, NC\, 27607
CATEGORIES:Parks & Rec
END:VEVENT
END:VCALENDAR