BEGIN:VCALENDAR
VERSION:2.0
PRODID:-//Livable Raleigh - ECPv6.15.20//NONSGML v1.0//EN
CALSCALE:GREGORIAN
METHOD:PUBLISH
X-WR-CALNAME:Livable Raleigh
X-ORIGINAL-URL:https://livableraleigh.com
X-WR-CALDESC:Events for Livable Raleigh
REFRESH-INTERVAL;VALUE=DURATION:PT1H
X-Robots-Tag:noindex
X-PUBLISHED-TTL:PT1H
BEGIN:VTIMEZONE
TZID:America/New_York
BEGIN:DAYLIGHT
TZOFFSETFROM:-0500
TZOFFSETTO:-0400
TZNAME:EDT
DTSTART:20220313T070000
END:DAYLIGHT
BEGIN:STANDARD
TZOFFSETFROM:-0400
TZOFFSETTO:-0500
TZNAME:EST
DTSTART:20221106T060000
END:STANDARD
BEGIN:DAYLIGHT
TZOFFSETFROM:-0500
TZOFFSETTO:-0400
TZNAME:EDT
DTSTART:20230312T070000
END:DAYLIGHT
BEGIN:STANDARD
TZOFFSETFROM:-0400
TZOFFSETTO:-0500
TZNAME:EST
DTSTART:20231105T060000
END:STANDARD
BEGIN:DAYLIGHT
TZOFFSETFROM:-0500
TZOFFSETTO:-0400
TZNAME:EDT
DTSTART:20240310T070000
END:DAYLIGHT
BEGIN:STANDARD
TZOFFSETFROM:-0400
TZOFFSETTO:-0500
TZNAME:EST
DTSTART:20241103T060000
END:STANDARD
END:VTIMEZONE
BEGIN:VEVENT
DTSTART;TZID=America/New_York:20230615T180000
DTEND;TZID=America/New_York:20230615T190000
DTSTAMP:20260423T003322
CREATED:20230521T003827Z
LAST-MODIFIED:20230609T174902Z
UID:30147-1686852000-1686855600@livableraleigh.com
SUMMARY:Parks\, Recreation\, and Greenways Advisory Board
DESCRIPTION:1. Call to Order\n\n\n\n2. General Public Requests and Comments – (Please limit comments to 3 minutes)\n\n2.1 We invite each person wishing to speak before the Parks\, Recreation\, and Greenway Advisory Board to stand at the podium\, state your name and address\, and make your statement. Your information will be received and either placed on the next agenda\, forwarded to a subcommittee\, forwarded to the Raleigh City Council\, referred to the Raleigh Parks and Recreation Director\, or received as information. \n\n\n\n\n\n3. Committee Report – Liaison Representative\n\n3.1 Raleigh Youth Council (RYC) \n\n\n\n\n\n4. Presentation\n\n4.1 Mine Creek Trail Improvement Project \n\n\n4.2 Equity and Strategic Initiatives Program Overview \n\n\n4.3 Raleigh Parks System Plan – Project Update \n\n\n\n\n\n5. Action Items\n\n5.1 PRGAB FY24 Work Plan Review and Approval \n\n\n\n\n\n6. Minutes\n\n6.1 Approval of the Last Meeting Minutes \n\n\n\n\n\n7. Directors Report\n\n7.1 Director \n\n\n\n\n\n8. Committee Reports – Standing Committees\n\n8.1 Parks Committee \n\n\n8.2 Fred Fletcher Volunteer Committee \n\n\n8.3 Greenways Committee \n\n\n8.4 Sustainability\, Wildlife and Urban Trees Committee \n\n\n\n\n\n9. Committee Reports – Liaison Representatives\n\n9.1 Arts Commission and PADB \n\n\n9.2 Bicycle & Pedestrian Advisory Commission \n\n\n9.3 City of Raleigh Historic Cemeteries Commission \n\n\n9.4 Dix Leadership Committee \n\n\n9.5 Historic Resources and Museum Advisory Board \n\n\n\n\n\n10. Chair Report/Announcements\n\n10.1 Chair \n\n\n\n\n\n11. Board Comments or Topics for Discussion\n\n\n\n12. Adjournment\n\n12.1 Adjourn Meeting\n\n\nThe Parks\, Recreation and Greenway Advisory Board (PRGAB) will meet in-person in the Raleigh Council Chambers\, 222 W. Hargett Street at 6:00 p.m. \nThe Raleigh Parks\, Recreation\, and Greenway Advisory Board meetings are open to the public. \nThis meeting will be streamed for public viewing – watch meeting. \nThe PRGAB meets on the third Thursday of each month.
URL:https://livableraleigh.com/event/parks-recreation-and-greenways-advisory-board-5/
LOCATION:Raleigh Municipal Building\, 222 W. Hargett St.\, Raleigh\, NC\, 27601\, United States
CATEGORIES:Greenway Committee,Open Houses and Public Hearings,Parks & Rec
END:VEVENT
BEGIN:VEVENT
DTSTART;TZID=America/New_York:20230616T080000
DTEND;TZID=America/New_York:20230616T170000
DTSTAMP:20260423T003322
CREATED:20230617T011435Z
LAST-MODIFIED:20230617T011435Z
UID:30787-1686902400-1686934800@livableraleigh.com
SUMMARY:Summer Concert Series - Pullen Park
DESCRIPTION:The 2023 Summer Concert Series is here! Concerts are free and we encourage tips for the bands. Performers may change without notice. May be canceled for inclement weather. Bring your own chair or blanket. No food at Fred Fletcher Park. \nPullen Park\nJune 11 – Raleigh Jazz Orchestra\nJune 25 – Triangle Taiko\nJuly 9 – Tune Swingers\nJuly 30 – Husbandos\nAugust 13 – Oak City Saxes\nAugust 20 – Many Everythings\nSeptember 17 – The Blue Notes \nFred Fletcher Park\nJuly 23 – Capital Transit\nSeptember 10 – Thelonious\nSeptember 24 – SWAG \nTime: 6:00 p.m. – 8:00 p.m.\nAges: All\nCost: Free
URL:https://livableraleigh.com/event/summer-concert-series-pullen-park-3/
LOCATION:Pullen Park Community Center\, 408 Ashe Ave\, Raleigh\, NC\, 27607
CATEGORIES:Parks & Rec
END:VEVENT
BEGIN:VEVENT
DTSTART;TZID=America/New_York:20230616T180000
DTEND;TZID=America/New_York:20230616T203000
DTSTAMP:20260423T003322
CREATED:20230521T004010Z
LAST-MODIFIED:20230521T004010Z
UID:30149-1686938400-1686947400@livableraleigh.com
SUMMARY:My Guy & Me Father's Day Par-Tee
DESCRIPTION:My Guy & Me Par-Tee is our way to allow children to celebrate the special bond between them and their fathers or significant male mentors. \nJoin us for golf lessons\, video games\, crafts\, food\, and more!
URL:https://livableraleigh.com/event/my-guy-me-fathers-day-par-tee/
LOCATION:Roberts Park Community Center\, 1300 E. Martin St\, Raleigh\, NC\, 27610
CATEGORIES:Parks & Rec
END:VEVENT
BEGIN:VEVENT
DTSTART;TZID=America/New_York:20230624T160000
DTEND;TZID=America/New_York:20230624T190000
DTSTAMP:20260423T003322
CREATED:20230617T000627Z
LAST-MODIFIED:20230617T000627Z
UID:30746-1687622400-1687633200@livableraleigh.com
SUMMARY:World Refugee Day Raleigh
DESCRIPTION:Celebrate World Refugee Day at our family-friendly event highlighting and celebrating the resilience of our immigrant and refugee neighbors. Support vendors\, play with Marbles Kids Museum\, make art with Artspace\, or enjoy performances by a variety of local artists and community groups. Join us in raising awareness and connecting with our diverse community. \nPerformances include music\, dance\, and more by:\nRed Kalyna\nNorth Carolina Opera\nGrace Church for All Nations\nTsvitinnya North Carolina Ukrainian Dance Group\nKaren Traditional Don Dance\nPoetry reading from Brave Histories & Hopeful Futures: Voices of a Refugee Community\nEvelin Kembe\nLaura Gonzqui \nThanks to our event partners Downtown Raleigh Alliance\, Lutheran Services Carolinas\, Refugee Hope Partners\, U.S. Committee for Refugees and Immigrants\, and Welcome House Raleigh! \nDate: Saturday\, June 24\nTime: 4:00 p.m. – 7:00 p.m.\nAges: All\nCost: Free
URL:https://livableraleigh.com/event/world-refugee-day-raleigh/
LOCATION:Moore Square\, 200 S. Blount St.\, Raleigh\, NC\, 27601
CATEGORIES:Parks & Rec
END:VEVENT
BEGIN:VEVENT
DTSTART;TZID=America/New_York:20230625T180000
DTEND;TZID=America/New_York:20230625T200000
DTSTAMP:20260423T003322
CREATED:20230624T121154Z
LAST-MODIFIED:20230624T121154Z
UID:30973-1687716000-1687723200@livableraleigh.com
SUMMARY:Summer Concert Series
DESCRIPTION:The 2023 Summer Concert Series is here! Concerts are free and we encourage tips for the bands. Performers may change without notice. May be canceled for inclement weather. Bring your own chair or blanket. No food is available at Fred Fletcher Park. \nPullen Park\nJune 11 – Raleigh Jazz Orchestra\nJune 25 – Triangle Taiko\nJuly 9 – Tune Swingers\nJuly 30 – Husbandos\nAugust 13 – TBD\nAugust 20 – Raleigh Jazz Orchestra\nSeptember 17 – The Blue Notes \nFred Fletcher Park\nJuly 23 – Capital Transit\nSeptember 10 – Thelonious\nSeptember 24 – SWAG \nTime: 6:00 p.m. – 8:00 p.m.\nAges: All\nCost: Free
URL:https://livableraleigh.com/event/summer-concert-series/
LOCATION:Pullen Park Community Center\, 408 Ashe Ave\, Raleigh\, NC\, 27607
CATEGORIES:Parks & Rec
END:VEVENT
END:VCALENDAR