BEGIN:VCALENDAR
VERSION:2.0
PRODID:-//Livable Raleigh - ECPv6.15.20//NONSGML v1.0//EN
CALSCALE:GREGORIAN
METHOD:PUBLISH
X-ORIGINAL-URL:https://livableraleigh.com
X-WR-CALDESC:Events for Livable Raleigh
REFRESH-INTERVAL;VALUE=DURATION:PT1H
X-Robots-Tag:noindex
X-PUBLISHED-TTL:PT1H
BEGIN:VTIMEZONE
TZID:America/New_York
BEGIN:DAYLIGHT
TZOFFSETFROM:-0500
TZOFFSETTO:-0400
TZNAME:EDT
DTSTART:20250309T070000
END:DAYLIGHT
BEGIN:STANDARD
TZOFFSETFROM:-0400
TZOFFSETTO:-0500
TZNAME:EST
DTSTART:20251102T060000
END:STANDARD
BEGIN:DAYLIGHT
TZOFFSETFROM:-0500
TZOFFSETTO:-0400
TZNAME:EDT
DTSTART:20260308T070000
END:DAYLIGHT
BEGIN:STANDARD
TZOFFSETFROM:-0400
TZOFFSETTO:-0500
TZNAME:EST
DTSTART:20261101T060000
END:STANDARD
BEGIN:DAYLIGHT
TZOFFSETFROM:-0500
TZOFFSETTO:-0400
TZNAME:EDT
DTSTART:20270314T070000
END:DAYLIGHT
BEGIN:STANDARD
TZOFFSETFROM:-0400
TZOFFSETTO:-0500
TZNAME:EST
DTSTART:20271107T060000
END:STANDARD
END:VTIMEZONE
BEGIN:VEVENT
DTSTART;TZID=America/New_York:20260428T100000
DTEND;TZID=America/New_York:20260428T150000
DTSTAMP:20260421T122810
CREATED:20260320T151718Z
LAST-MODIFIED:20260320T151718Z
UID:52868-1777370400-1777388400@livableraleigh.com
SUMMARY:In-Person Water Billing Help Session - Garner Senior Center
DESCRIPTION:Need help creating your new Raleigh Water Self-Service Portal account? We’re here to help! \nStop by anytime during event hours to get help from Raleigh Water staff. \nPlease bring: \n\nyour current Raleigh Water account number;\nyour zip code; and\,\noptional: a mobile device (phone or tablet or laptop).\n\n\n\n \nEvent Details\nTuesday\, April 28\n10 a.m. – 3 p.m.\nGarner Senior Center\n205 East Garner Rd\nGarner\, NC 27529 \nWhere to find your account number on your current bill\nYour account number can be found: \n\non your paper bill or\nin your monthly emails from Raleigh Water titled “City of Raleigh – A Friendly Reminder Your Bill is Due.“
URL:https://livableraleigh.com/event/in-person-water-billing-help-session-garner-senior-center/
LOCATION:Garner Senior Center\, 205 East Garner Road\, Garner\, NC\, 27529
CATEGORIES:Other
END:VEVENT
BEGIN:VEVENT
DTSTART;TZID=America/New_York:20260502T090000
DTEND;TZID=America/New_York:20260502T120000
DTSTAMP:20260421T122810
CREATED:20260410T172638Z
LAST-MODIFIED:20260410T172638Z
UID:53375-1777712400-1777723200@livableraleigh.com
SUMMARY:RPD Hiring Event
DESCRIPTION:Join the Raleigh Police Department for the next hiring event at our state of the art Law Enforcement Training Center! \nThe Raleigh Police Department is offering a great opportunity for you to begin the hiring process for our upcoming academy. Join us to take the Reading Comprehension Test and Physical Fitness Assessment. \nPlease arrive dressed in athletic attire to participate in the Physical Fitness Assessment. If unable to participate in the Physical Fitness Assessment\, please contact the Raleigh Police Recruiting Unit at 919-996-1343. \nRecruiters will be present to answer questions and discuss career opportunities! \n\nMust be at least 20 years of age to participate\nMust present a valid driver’s license\n\nPlease visit our website to learn more about the Raleigh Police Department.
URL:https://livableraleigh.com/event/rpd-hiring-event/
LOCATION:Raleigh Police Training Center\, 2320 Law Enforcement Drive\, Raleigh\, NC\, 27610
CATEGORIES:Other
END:VEVENT
BEGIN:VEVENT
DTSTART;TZID=America/New_York:20260502T100000
DTEND;TZID=America/New_York:20260502T120000
DTSTAMP:20260421T122810
CREATED:20260404T121316Z
LAST-MODIFIED:20260404T121316Z
UID:53152-1777716000-1777723200@livableraleigh.com
SUMMARY:Raleigh Historic Bike Ride
DESCRIPTION:Celebrating Historic Preservation and America’s 250th Birthday\n\n\n\nThis May\, we’re celebrating Preservation Month\, Bike Month\, and America’s 250th Birthday! Grab your bike for a 5-mile route that will feature stops at five Raleigh Historic Landmarks that span Raleigh’s 250 years of building history! Volunteers will share a brief history at each stop.  \nThe stops include: \n\n\n\nJoel Lane House – 160 S. St. Mary’s St. – Raleigh’s oldest surviving dwelling\n\n\n\n\n\n\nState Capitol & Union Square – 1 E. Edenton St. – The heart of North Carolina government\n\n\n\n\nEarly Store Building (Heilig-Levine) – 137 S. Wilmington St. – 150+ years of downtown commerce\n\n\n\n\nChavis Park Carousel – 505 Martin Luther King Jr Blvd. – A historic park and carousel\n\n\n\n\n(Former) BB&T Building – 227 Fayetteville St. – A downtown Raleigh icon\n\n\n\n\n \nCome Prepared\n\n\nThe ride will begin and end at Exchange Plaza\, located between Wilmington and Fayetteville Streets in downtown. Riders are encouraged to bring their own bikes and helmets. A few free e-bike and scooter rentals will also be available. Water and restrooms are available at the City of Raleigh Museum before/after the ride\, but are not provided along the route – please plan accordingly. \n\n\nRegister and see more ride details.
URL:https://livableraleigh.com/event/raleigh-historic-bike-ride/
LOCATION:One Exchange Plaza\, 1 Exchange Plaza\, Raleigh\, NY\, 27601
CATEGORIES:Other
END:VEVENT
BEGIN:VEVENT
DTSTART;TZID=America/New_York:20260518T140000
DTEND;TZID=America/New_York:20260518T163000
DTSTAMP:20260421T122810
CREATED:20260418T183631Z
LAST-MODIFIED:20260418T183631Z
UID:53475-1779112800-1779121800@livableraleigh.com
SUMMARY:Employment Access for All: An Interactive Dialogue on Disability and Employment
DESCRIPTION:Come take an afternoon break and enjoy some refreshments while talking about disability and employment. \nDate: Monday\, May 18\nTime: 2-4:30 p.m.\nLocation: The McKimmon Center\, 1101 Gorman St \nThe event will feature keynote speaker Blaire Johnston\, ADA Business Partner in the City of Charlotte Human Resources Department; a panel of individuals with disabilities who are successfully employed; and an interactive activity. \nSpace is limited and registration is required. If you will require an accommodation\, please register with request by May 8\, 2026.
URL:https://livableraleigh.com/event/employment-access-for-all-an-interactive-dialogue-on-disability-and-employment/
LOCATION:McKimmon Center\, NCSU McKimmon Center 1101 Gorman Street\, Raleigh\, NC\, 27606\, United States
CATEGORIES:Engagement Filter,Other
END:VEVENT
END:VCALENDAR