BEGIN:VCALENDAR
VERSION:2.0
PRODID:-//Livable Raleigh - ECPv6.15.20//NONSGML v1.0//EN
CALSCALE:GREGORIAN
METHOD:PUBLISH
X-ORIGINAL-URL:https://livableraleigh.com
X-WR-CALDESC:Events for Livable Raleigh
REFRESH-INTERVAL;VALUE=DURATION:PT1H
X-Robots-Tag:noindex
X-PUBLISHED-TTL:PT1H
BEGIN:VTIMEZONE
TZID:America/New_York
BEGIN:DAYLIGHT
TZOFFSETFROM:-0500
TZOFFSETTO:-0400
TZNAME:EDT
DTSTART:20250309T070000
END:DAYLIGHT
BEGIN:STANDARD
TZOFFSETFROM:-0400
TZOFFSETTO:-0500
TZNAME:EST
DTSTART:20251102T060000
END:STANDARD
BEGIN:DAYLIGHT
TZOFFSETFROM:-0500
TZOFFSETTO:-0400
TZNAME:EDT
DTSTART:20260308T070000
END:DAYLIGHT
BEGIN:STANDARD
TZOFFSETFROM:-0400
TZOFFSETTO:-0500
TZNAME:EST
DTSTART:20261101T060000
END:STANDARD
BEGIN:DAYLIGHT
TZOFFSETFROM:-0500
TZOFFSETTO:-0400
TZNAME:EDT
DTSTART:20270314T070000
END:DAYLIGHT
BEGIN:STANDARD
TZOFFSETFROM:-0400
TZOFFSETTO:-0500
TZNAME:EST
DTSTART:20271107T060000
END:STANDARD
END:VTIMEZONE
BEGIN:VEVENT
DTSTART;TZID=America/New_York:20260211T160000
DTEND;TZID=America/New_York:20260211T180000
DTSTAMP:20260421T092959
CREATED:20251231T215711Z
LAST-MODIFIED:20251231T215711Z
UID:50027-1770825600-1770832800@livableraleigh.com
SUMMARY:In-Person Water Billing Help Session
DESCRIPTION:Need help creating your new Raleigh Water Self-Service Portal account? We’re here to help! \nStop by anytime during event hours to get help from Raleigh Water staff. \nPlease bring: \n\nyour current Raleigh Water account number;\nyour zip code; and\,\noptional: a mobile device (phone or tablet or laptop).\n\n\n\n \nEvent Details\nWednesday\, Feb. 11\n4–6 p.m.\nTarboro Road Community Center\n121 N Tarboro St\nRaleigh\, NC 27610
URL:https://livableraleigh.com/event/in-person-water-billing-help-session-3/
LOCATION:Tarboro Road Community Center
CATEGORIES:Engagement Filter,Other
END:VEVENT
END:VCALENDAR