BEGIN:VCALENDAR
VERSION:2.0
PRODID:-//Livable Raleigh - ECPv6.15.20//NONSGML v1.0//EN
CALSCALE:GREGORIAN
METHOD:PUBLISH
X-ORIGINAL-URL:https://livableraleigh.com
X-WR-CALDESC:Events for Livable Raleigh
REFRESH-INTERVAL;VALUE=DURATION:PT1H
X-Robots-Tag:noindex
X-PUBLISHED-TTL:PT1H
BEGIN:VTIMEZONE
TZID:America/New_York
BEGIN:DAYLIGHT
TZOFFSETFROM:-0500
TZOFFSETTO:-0400
TZNAME:EDT
DTSTART:20230312T070000
END:DAYLIGHT
BEGIN:STANDARD
TZOFFSETFROM:-0400
TZOFFSETTO:-0500
TZNAME:EST
DTSTART:20231105T060000
END:STANDARD
BEGIN:DAYLIGHT
TZOFFSETFROM:-0500
TZOFFSETTO:-0400
TZNAME:EDT
DTSTART:20240310T070000
END:DAYLIGHT
BEGIN:STANDARD
TZOFFSETFROM:-0400
TZOFFSETTO:-0500
TZNAME:EST
DTSTART:20241103T060000
END:STANDARD
BEGIN:DAYLIGHT
TZOFFSETFROM:-0500
TZOFFSETTO:-0400
TZNAME:EDT
DTSTART:20250309T070000
END:DAYLIGHT
BEGIN:STANDARD
TZOFFSETFROM:-0400
TZOFFSETTO:-0500
TZNAME:EST
DTSTART:20251102T060000
END:STANDARD
END:VTIMEZONE
BEGIN:VEVENT
DTSTART;TZID=America/New_York:20240104T110000
DTEND;TZID=America/New_York:20240104T120000
DTSTAMP:20260424T061829
CREATED:20231222T183511Z
LAST-MODIFIED:20231222T183511Z
UID:35077-1704366000-1704369600@livableraleigh.com
SUMMARY:Telecommunicator Academy Information Session
DESCRIPTION:Do you enjoy helping others and serving your community? The City is seeking Call Takers and Telecommunicators for the Raleigh-Wake Emergency Communications Center (ECC). Training is provided.  Attend a virtual information session to learn more about applying to be a call taker or telecommunicator for the ECC.  \nMeeting details\nThursday\, Jan. 4 at 11 a.m.Join on your computer\, mobile app or room device Click here to join the meeting Meeting ID: 213 713 272 784 Passcode: P7qYd7
URL:https://livableraleigh.com/event/telecommunicator-academy-information-session/
LOCATION:NC
CATEGORIES:Other
END:VEVENT
END:VCALENDAR