BEGIN:VCALENDAR
VERSION:2.0
PRODID:-//Livable Raleigh - ECPv6.15.20//NONSGML v1.0//EN
CALSCALE:GREGORIAN
METHOD:PUBLISH
X-WR-CALNAME:Livable Raleigh
X-ORIGINAL-URL:https://livableraleigh.com
X-WR-CALDESC:Events for Livable Raleigh
REFRESH-INTERVAL;VALUE=DURATION:PT1H
X-Robots-Tag:noindex
X-PUBLISHED-TTL:PT1H
BEGIN:VTIMEZONE
TZID:America/New_York
BEGIN:DAYLIGHT
TZOFFSETFROM:-0500
TZOFFSETTO:-0400
TZNAME:EDT
DTSTART:20220313T070000
END:DAYLIGHT
BEGIN:STANDARD
TZOFFSETFROM:-0400
TZOFFSETTO:-0500
TZNAME:EST
DTSTART:20221106T060000
END:STANDARD
BEGIN:DAYLIGHT
TZOFFSETFROM:-0500
TZOFFSETTO:-0400
TZNAME:EDT
DTSTART:20230312T070000
END:DAYLIGHT
BEGIN:STANDARD
TZOFFSETFROM:-0400
TZOFFSETTO:-0500
TZNAME:EST
DTSTART:20231105T060000
END:STANDARD
BEGIN:DAYLIGHT
TZOFFSETFROM:-0500
TZOFFSETTO:-0400
TZNAME:EDT
DTSTART:20240310T070000
END:DAYLIGHT
BEGIN:STANDARD
TZOFFSETFROM:-0400
TZOFFSETTO:-0500
TZNAME:EST
DTSTART:20241103T060000
END:STANDARD
END:VTIMEZONE
BEGIN:VEVENT
DTSTART;TZID=America/New_York:20231007T110000
DTEND;TZID=America/New_York:20231007T130000
DTSTAMP:20260424T073005
CREATED:20230915T212939Z
LAST-MODIFIED:20230923T144232Z
UID:32792-1696676400-1696683600@livableraleigh.com
SUMMARY:Minority Enterprise Development (MED) Week Celebration Brunch
DESCRIPTION:Celebrate Minority Enterprise Development (MED) Week 2023 in Raleigh!\nNational Minority Enterprise Development (MED) Week is a special week in the month of October\, observed in the United States to recognize and celebrate the achievements and contributions of the minority and women-owned business enterprise community. \nThe City’s MWBE program is hosting a MED Week Celebration Brunch to recognize the achievements and impacts of minority and women-owned businesses across North Carolina that have contributed to City projects. \nWhen? Saturday\, October 7 from 11 a.m. to 1 p.m. \n Where? John Chavis Community Center\, 505 Martin Luther King Jr Blvd \nJoin us for a brunch\, panel discussion\, networking\, and more! Capacity is limited\, please register in advance.
URL:https://livableraleigh.com/event/32792/
LOCATION:John Chavis Community Center\, 505 Martin Luther King Jr. Blvd.\, Raleigh\, NC\, 27601\, United States
CATEGORIES:Other
END:VEVENT
BEGIN:VEVENT
DTSTART;TZID=America/New_York:20231026T103000
DTEND;TZID=America/New_York:20231026T113000
DTSTAMP:20260424T073005
CREATED:20231014T130626Z
LAST-MODIFIED:20231014T130626Z
UID:33533-1698316200-1698319800@livableraleigh.com
SUMMARY:Learn to Use GoRaleigh
DESCRIPTION:If you’re a newcomer to the Raleigh area or lived here a long time and it’s been a while since you’ve looked at our bus transportation routes and options\, it might be time to reevaluate taking a bus! Raleigh Parks is teaming up with the staff of GoRaleigh to offer a program to teach you to navigate our bus system and learn about apps that can help you along the way! \nOn Thursday\, Oct. 26\, we will offer two sessions for navigating our bus system. We will meet up at Green Road Community Center and travel aboard the local route. GoRaleigh will be there to answer questions and offer advice. \nAges: All (Youth will need adult supervision)Cost: Free Register for Learn to Use GoRaleigh
URL:https://livableraleigh.com/event/learn-to-use-goraleigh/
LOCATION:Green Rd Community Center\, 4201 Green Rd\, Raleigh\, NC\, 27604
CATEGORIES:Engagement Filter,Other
END:VEVENT
BEGIN:VEVENT
DTSTART;TZID=America/New_York:20231026T143000
DTEND;TZID=America/New_York:20231026T153000
DTSTAMP:20260424T073005
CREATED:20231014T130744Z
LAST-MODIFIED:20231014T130744Z
UID:33535-1698330600-1698334200@livableraleigh.com
SUMMARY:Learn to Use GoRaleigh
DESCRIPTION:If you’re a newcomer to the Raleigh area or lived here a long time and it’s been a while since you’ve looked at our bus transportation routes and options\, it might be time to reevaluate taking a bus! Raleigh Parks is teaming up with the staff of GoRaleigh to offer a program to teach you to navigate our bus system and learn about apps that can help you along the way! \nOn Thursday\, Oct. 26\, we will offer two sessions for navigating our bus system. We will meet up at Green Road Community Center and travel aboard the local route. GoRaleigh will be there to answer questions and offer advice. \nAges: All (Youth will need adult supervision)Cost: Free Register for Learn to Use GoRaleigh
URL:https://livableraleigh.com/event/learn-to-use-goraleigh-2/
LOCATION:Green Rd Community Center\, 4201 Green Rd\, Raleigh\, NC\, 27604
CATEGORIES:Engagement Filter,Other
END:VEVENT
END:VCALENDAR