BEGIN:VCALENDAR
VERSION:2.0
PRODID:-//Livable Raleigh - ECPv6.15.20//NONSGML v1.0//EN
CALSCALE:GREGORIAN
METHOD:PUBLISH
X-WR-CALNAME:Livable Raleigh
X-ORIGINAL-URL:https://livableraleigh.com
X-WR-CALDESC:Events for Livable Raleigh
REFRESH-INTERVAL;VALUE=DURATION:PT1H
X-Robots-Tag:noindex
X-PUBLISHED-TTL:PT1H
BEGIN:VTIMEZONE
TZID:America/New_York
BEGIN:DAYLIGHT
TZOFFSETFROM:-0500
TZOFFSETTO:-0400
TZNAME:EDT
DTSTART:20220313T070000
END:DAYLIGHT
BEGIN:STANDARD
TZOFFSETFROM:-0400
TZOFFSETTO:-0500
TZNAME:EST
DTSTART:20221106T060000
END:STANDARD
BEGIN:DAYLIGHT
TZOFFSETFROM:-0500
TZOFFSETTO:-0400
TZNAME:EDT
DTSTART:20230312T070000
END:DAYLIGHT
BEGIN:STANDARD
TZOFFSETFROM:-0400
TZOFFSETTO:-0500
TZNAME:EST
DTSTART:20231105T060000
END:STANDARD
BEGIN:DAYLIGHT
TZOFFSETFROM:-0500
TZOFFSETTO:-0400
TZNAME:EDT
DTSTART:20240310T070000
END:DAYLIGHT
BEGIN:STANDARD
TZOFFSETFROM:-0400
TZOFFSETTO:-0500
TZNAME:EST
DTSTART:20241103T060000
END:STANDARD
END:VTIMEZONE
BEGIN:VEVENT
DTSTART;TZID=America/New_York:20230801T190000
DTEND;TZID=America/New_York:20230801T220000
DTSTAMP:20260424T162742
CREATED:20230625T122801Z
LAST-MODIFIED:20230625T122801Z
UID:31039-1690916400-1690927200@livableraleigh.com
SUMMARY:National Night Out
DESCRIPTION:The Raleigh Police Department believes the foundation for a safer community is knowing your neighbors and surroundings. National Night Out is an effort to strengthen the relationship between neighbors and law enforcement. It also promotes neighborhood camaraderie to create a more caring place to live. The event\, always on the first Tuesday in August\, has been held annually nationwide since 1984. The Raleigh Police Department has supported National Night Out for more than 30 years. \nThis year National Night Out will be observed on Aug. 1. In observance of National Night Out\, RPD asks you to leave your porch light on from 7 p.m. to 10 p.m. The porch light symbolizes alertness and awareness; it makes your neighbors and friends feel welcome. RPD also asks you to get to know your neighbors better. \nIf you want a community officer to stop by your National Night event\, please email us at Nationalnightout@raleighnc.gov Monday\, July 17. \nCheck back here for a list of National Night Out events in your area!
URL:https://livableraleigh.com/event/national-night-out/
LOCATION:NC
CATEGORIES:Engagement Filter,Other
END:VEVENT
BEGIN:VEVENT
DTSTART;TZID=America/New_York:20230803T150000
DTEND;TZID=America/New_York:20230803T160000
DTSTAMP:20260424T162742
CREATED:20230715T123644Z
LAST-MODIFIED:20230715T124529Z
UID:31495-1691074800-1691078400@livableraleigh.com
SUMMARY:Listening Session: Noise and Amplified Entertainment Ordinance Changes
DESCRIPTION:Provide Feedback on Changes to Noise and Amplified Entertainment Ordinances\nThe deadline to submit feedback is Aug. 25 \n\nJUL 12\, 2023 \n\n\n\n\n\n\n\nThe City of Raleigh is providing engagement opportunities to collect feedback from the public regarding changes to the noise ordinance and a potential new nightclub permit. During the June 20 City Council Meeting\, the City Attorney’s Office presented Council with proposed changes to the noise ordinance\, repeal of the amplified entertainment permit ordinance\, and enactment of the nightclub permit ordinance. \nWhile these changes are under review by Council\, staff is asking for public input. \nReview the proposed ordinances and submit your feedback or questions online.  \nSee the proposed revisions webpage for all the details.
URL:https://livableraleigh.com/event/listening-session-noise-and-amplified-entertainment-ordinance-changes/
LOCATION:Raleigh Municipal Building\, 222 W. Hargett St.\, Raleigh\, NC\, 27601\, United States
CATEGORIES:Engagement Filter,Other
END:VEVENT
BEGIN:VEVENT
DTSTART;TZID=America/New_York:20230810T090000
DTEND;TZID=America/New_York:20230810T103000
DTSTAMP:20260424T162742
CREATED:20230625T124700Z
LAST-MODIFIED:20230625T124700Z
UID:31063-1691658000-1691663400@livableraleigh.com
SUMMARY:Development Stakeholders Quarterly Meeting
DESCRIPTION:Join us for the Development Stakeholders Quarterly meeting. This meeting will be in-person. The quarterly meeting is an opportunity for staff who manage development\, permitting\, and text change processes to share relevant updates with the development community. \nThere will be a Zoning Training that will be from 10:30 a.m. – 12:00 p.m. in the same location immediately following the meeting. \nMore information is available on the Development Stakeholders webpage.
URL:https://livableraleigh.com/event/development-stakeholders-quarterly-meeting-2/
LOCATION:Operations Way\, 2551 Operations Way\, Room 208\, Raleigh\, NC\, 27604
CATEGORIES:Engagement Filter,Other
END:VEVENT
BEGIN:VEVENT
DTSTART;TZID=America/New_York:20230817T150000
DTEND;TZID=America/New_York:20230817T160000
DTSTAMP:20260424T162742
CREATED:20230715T124449Z
LAST-MODIFIED:20230715T124449Z
UID:31499-1692284400-1692288000@livableraleigh.com
SUMMARY:Listening Session: Noise and Amplified Entertainment Ordinance Changes
DESCRIPTION:Provide Feedback on Changes to Noise and Amplified Entertainment Ordinances\nThe deadline to submit feedback is Aug. 25 \n\nJUL 12\, 2023 \n\n\n\n\n\n\nThe City of Raleigh is providing engagement opportunities to collect feedback from the public regarding changes to the noise ordinance and a potential new nightclub permit. During the June 20 City Council Meeting\, the City Attorney’s Office presented Council with proposed changes to the noise ordinance\, repeal of the amplified entertainment permit ordinance\, and enactment of the nightclub permit ordinance. \nWhile these changes are under review by Council\, staff is asking for public input. \nReview the proposed ordinances and submit your feedback or questions online.  \nSee the proposed revisions webpage for all the details.
URL:https://livableraleigh.com/event/listening-session-noise-and-amplified-entertainment-ordinance-changes-2/
LOCATION:All Faith’s Chapel at Dix Park\, 1030 Richardson Drive\, Raleigh\, NC\, 27603
CATEGORIES:Engagement Filter,Other
END:VEVENT
END:VCALENDAR