BEGIN:VCALENDAR
VERSION:2.0
PRODID:-//Livable Raleigh - ECPv6.15.20//NONSGML v1.0//EN
CALSCALE:GREGORIAN
METHOD:PUBLISH
X-WR-CALNAME:Livable Raleigh
X-ORIGINAL-URL:https://livableraleigh.com
X-WR-CALDESC:Events for Livable Raleigh
REFRESH-INTERVAL;VALUE=DURATION:PT1H
X-Robots-Tag:noindex
X-PUBLISHED-TTL:PT1H
BEGIN:VTIMEZONE
TZID:America/New_York
BEGIN:DAYLIGHT
TZOFFSETFROM:-0500
TZOFFSETTO:-0400
TZNAME:EDT
DTSTART:20240310T070000
END:DAYLIGHT
BEGIN:STANDARD
TZOFFSETFROM:-0400
TZOFFSETTO:-0500
TZNAME:EST
DTSTART:20241103T060000
END:STANDARD
BEGIN:DAYLIGHT
TZOFFSETFROM:-0500
TZOFFSETTO:-0400
TZNAME:EDT
DTSTART:20250309T070000
END:DAYLIGHT
BEGIN:STANDARD
TZOFFSETFROM:-0400
TZOFFSETTO:-0500
TZNAME:EST
DTSTART:20251102T060000
END:STANDARD
BEGIN:DAYLIGHT
TZOFFSETFROM:-0500
TZOFFSETTO:-0400
TZNAME:EDT
DTSTART:20260308T070000
END:DAYLIGHT
BEGIN:STANDARD
TZOFFSETFROM:-0400
TZOFFSETTO:-0500
TZNAME:EST
DTSTART:20261101T060000
END:STANDARD
END:VTIMEZONE
BEGIN:VEVENT
DTSTART;TZID=America/New_York:20251029T110000
DTEND;TZID=America/New_York:20251029T140000
DTSTAMP:20260420T064030
CREATED:20250919T232917Z
LAST-MODIFIED:20250928T190738Z
UID:48378-1761735600-1761746400@livableraleigh.com
SUMMARY:Fall Job Fair
DESCRIPTION:Attend the City of Raleigh’s Fall Career Fair! Explore exciting opportunities in our newly redefined roles. Whether you’re starting fresh or looking to take things to the next level\, this is your chance to “fall” into a meaningful career that helps shape one of the fastest-growing cities in the nation. \nEvent Details\nDate: Wednesday\, Oct. 29\nTime: 11 a.m. – 2 p.m.\nLocation: 630 Beacon Lake Dr\, Raleigh\, NC 27610 \n\nWhat Job Seekers Can Expect: \n\n\n\nConnect with departments from across the City of Raleigh.\n\n\n\n\nExplore a variety of career opportunities.\n\n\n\n\nGain valuable insights into competitive salaries\, comprehensive benefits packages\, and opportunities for professional growth.\n\n\nPre-Register today \nFor questions about City of Raleigh careers\, please contact our Talent Acquisition team at recruiter@raleighnc.gov or 919-996-2285.
URL:https://livableraleigh.com/event/fall-career-fair/
LOCATION:Wilder’s Grove Solid Waste Services\, 630 Beacon Lake Dr\, Raleigh\, NC\, 27610
CATEGORIES:Job Fair
END:VEVENT
END:VCALENDAR