BEGIN:VCALENDAR
VERSION:2.0
PRODID:-//Livable Raleigh - ECPv6.15.20//NONSGML v1.0//EN
CALSCALE:GREGORIAN
METHOD:PUBLISH
X-WR-CALNAME:Livable Raleigh
X-ORIGINAL-URL:https://livableraleigh.com
X-WR-CALDESC:Events for Livable Raleigh
REFRESH-INTERVAL;VALUE=DURATION:PT1H
X-Robots-Tag:noindex
X-PUBLISHED-TTL:PT1H
BEGIN:VTIMEZONE
TZID:America/New_York
BEGIN:DAYLIGHT
TZOFFSETFROM:-0500
TZOFFSETTO:-0400
TZNAME:EDT
DTSTART:20240310T070000
END:DAYLIGHT
BEGIN:STANDARD
TZOFFSETFROM:-0400
TZOFFSETTO:-0500
TZNAME:EST
DTSTART:20241103T060000
END:STANDARD
BEGIN:DAYLIGHT
TZOFFSETFROM:-0500
TZOFFSETTO:-0400
TZNAME:EDT
DTSTART:20250309T070000
END:DAYLIGHT
BEGIN:STANDARD
TZOFFSETFROM:-0400
TZOFFSETTO:-0500
TZNAME:EST
DTSTART:20251102T060000
END:STANDARD
BEGIN:DAYLIGHT
TZOFFSETFROM:-0500
TZOFFSETTO:-0400
TZNAME:EDT
DTSTART:20260308T070000
END:DAYLIGHT
BEGIN:STANDARD
TZOFFSETFROM:-0400
TZOFFSETTO:-0500
TZNAME:EST
DTSTART:20261101T060000
END:STANDARD
END:VTIMEZONE
BEGIN:VEVENT
DTSTART;TZID=America/New_York:20250913T090000
DTEND;TZID=America/New_York:20250913T140000
DTSTAMP:20260420T051643
CREATED:20250815T181219Z
LAST-MODIFIED:20250815T181219Z
UID:47249-1757754000-1757772000@livableraleigh.com
SUMMARY:Raleigh Transportation Job Fair!
DESCRIPTION:Are you ready to help make a difference in your community and in your city? \nTake the lead in your career and prioritize your passion for operations by joining our collaborative job fair! \nThis is a FREE job fair and open to all! \nPositions range from entry-level to experienced operators. CDL and non-CDL positions available! Chat with Transportation hiring managers and field staff! \n22+ positions to be filled including: \n\nTransportation Workers\nEquipment Operators I and II\nHeavy Equipment Operators II and III\nSeasonal Leaf Collection (no experience required)\n\nTeransportation Job Fair!\n2550 Operations Way\, Raleigh\nFriday\, September 12 & Saturday\, September 13\n9am – 2pm\, both days \nPlease bring resume\, ID and references. Snacks and beverages provided.
URL:https://livableraleigh.com/event/raleigh-transportation-job-fair-2/
LOCATION:Raleigh Central Operations Facility\, 2550 Operations Way\, Raleigh\, NC\, 27604
CATEGORIES:Festivals & Special Events,Job Fair
END:VEVENT
END:VCALENDAR