BEGIN:VCALENDAR
VERSION:2.0
PRODID:-//Livable Raleigh - ECPv6.15.20//NONSGML v1.0//EN
CALSCALE:GREGORIAN
METHOD:PUBLISH
X-ORIGINAL-URL:https://livableraleigh.com
X-WR-CALDESC:Events for Livable Raleigh
REFRESH-INTERVAL;VALUE=DURATION:PT1H
X-Robots-Tag:noindex
X-PUBLISHED-TTL:PT1H
BEGIN:VTIMEZONE
TZID:America/New_York
BEGIN:DAYLIGHT
TZOFFSETFROM:-0500
TZOFFSETTO:-0400
TZNAME:EDT
DTSTART:20220313T070000
END:DAYLIGHT
BEGIN:STANDARD
TZOFFSETFROM:-0400
TZOFFSETTO:-0500
TZNAME:EST
DTSTART:20221106T060000
END:STANDARD
BEGIN:DAYLIGHT
TZOFFSETFROM:-0500
TZOFFSETTO:-0400
TZNAME:EDT
DTSTART:20230312T070000
END:DAYLIGHT
BEGIN:STANDARD
TZOFFSETFROM:-0400
TZOFFSETTO:-0500
TZNAME:EST
DTSTART:20231105T060000
END:STANDARD
BEGIN:DAYLIGHT
TZOFFSETFROM:-0500
TZOFFSETTO:-0400
TZNAME:EDT
DTSTART:20240310T070000
END:DAYLIGHT
BEGIN:STANDARD
TZOFFSETFROM:-0400
TZOFFSETTO:-0500
TZNAME:EST
DTSTART:20241103T060000
END:STANDARD
END:VTIMEZONE
BEGIN:VEVENT
DTSTART;TZID=America/New_York:20230215T073000
DTEND;TZID=America/New_York:20230215T090000
DTSTAMP:20260420T062109
CREATED:20230120T021622Z
LAST-MODIFIED:20230120T021622Z
UID:26912-1676446200-1676451600@livableraleigh.com
SUMMARY:RHDC Executive Committee
DESCRIPTION:The Executive Committee generally meets on the Wednesday preceding the third Tuesday of the month at 7:45 a.m. in the Urban Design Center\, Suite 100 of the One Exchange Plaza building. (Except for remote meetings which are on the Thursday\, two weeks prior to the third Tuesday of the month.)
URL:https://livableraleigh.com/event/rhdc-executive-committee/
LOCATION:Urban Design Center\, One Exchange Plaza\, Raleigh\, NC\, 27601
CATEGORIES:Historic Development Commission
END:VEVENT
BEGIN:VEVENT
DTSTART;TZID=America/New_York:20230214T170000
DTEND;TZID=America/New_York:20230214T190000
DTSTAMP:20260420T062109
CREATED:20230215T021701Z
LAST-MODIFIED:20230215T021701Z
UID:27563-1676394000-1676401200@livableraleigh.com
SUMMARY:RHDC Certificate of Appropriateness Committee
DESCRIPTION:RHDC Certificate of Appropriateness Committee public meetings are held in the Raleigh Municipal Building\, City Council Chamber. A broadcast is available via the following methods: the city’s website; the city’s YouTube Channel or Channel RTN-11. \nAgenda and Participation\nVisit the RHDC webpage for additional information including the agenda and how to participate.
URL:https://livableraleigh.com/event/rhdc-certificate-of-appropriateness-committee-3/
LOCATION:Raleigh Municipal Building\, 222 W. Hargett St.\, Raleigh\, NC\, 27601\, United States
CATEGORIES:Historic Development Commission
END:VEVENT
BEGIN:VEVENT
DTSTART;TZID=America/New_York:20230207T160000
DTEND;TZID=America/New_York:20230207T173000
DTSTAMP:20260420T062109
CREATED:20230120T015720Z
LAST-MODIFIED:20230120T015720Z
UID:26898-1675785600-1675791000@livableraleigh.com
SUMMARY:RHDC Community Awareness Committee
DESCRIPTION:The Community Awareness Committee meets on the first Tuesday of the month at 4:00 p.m. typically in the Urban Design Center\, Suite 100 of the One Exchange Plaza building if not virtual.
URL:https://livableraleigh.com/event/rhdc-community-awareness-committee/
LOCATION:Urban Design Center\, One Exchange Plaza\, Raleigh\, NC\, 27601
CATEGORIES:Historic Development Commission
END:VEVENT
BEGIN:VEVENT
DTSTART;TZID=America/New_York:20230201T074500
DTEND;TZID=America/New_York:20230201T091500
DTSTAMP:20260420T062109
CREATED:20230125T183719Z
LAST-MODIFIED:20230125T183719Z
UID:27047-1675237500-1675242900@livableraleigh.com
SUMMARY:RHDC Research Committee
DESCRIPTION:The Research Committee meets on the first Wednesday of the month at 7:45 a.m. typically in the Urban Design Center\, Suite 100 of the One Exchange Plaza building if not virtual.
URL:https://livableraleigh.com/event/rhdc-research-committee-2/
LOCATION:Raleigh Urban Design Center\, One Exchange Plaza\, Raleigh\, NC
CATEGORIES:Historic Development Commission
END:VEVENT
BEGIN:VEVENT
DTSTART;TZID=America/New_York:20230201T073000
DTEND;TZID=America/New_York:20230201T093000
DTSTAMP:20260420T062109
CREATED:20230120T012524Z
LAST-MODIFIED:20230120T012524Z
UID:26882-1675236600-1675243800@livableraleigh.com
SUMMARY:RHDC Research Committee
DESCRIPTION:The Research Committee meets on the first Wednesday of the month at 7:45 a.m. typically in the Urban Design Center\, Suite 100 of the One Exchange Plaza building if not virtual.
URL:https://livableraleigh.com/event/rhdc-research-committee/
LOCATION:Urban Design Center\, One Exchange Plaza\, Raleigh\, NC\, 27601
CATEGORIES:Historic Development Commission
END:VEVENT
BEGIN:VEVENT
DTSTART;TZID=America/New_York:20230126T170000
DTEND;TZID=America/New_York:20230126T190000
DTSTAMP:20260420T062109
CREATED:20230120T011126Z
LAST-MODIFIED:20230120T212333Z
UID:26873-1674752400-1674759600@livableraleigh.com
SUMMARY:RHDC Certificate of Appropriateness Committee
DESCRIPTION:RHDC Certificate of Appropriateness Committee public meetings are held in the Raleigh Municipal Building\, City Council Chamber. A broadcast is available via the following methods: the city’s website; the city’s YouTube Channel or Channel RTN-11. \nThe RHDC Certificate of Appropriateness Committee will conduct a public meeting on Thursday\, January 26 at 5:00 p.m. at the Raleigh Municipal Building\, 222 W. Hargett Street in the City Council Chamber. \nFor more information about the meeting\, please contact historicpreservation@raleighnc.gov or visit the RHDC Certificate of Appropriateness webpage. \nAgenda and Participation\nVisit the RHDC webpage for additional information including the agenda and how to participate. \n\nA. Call to Order – Chair\n\n1. Roll Call\n2. Approval of Agenda\n3. Approval of Minutes: December 8 & 9\, 2022\n4. Minor Work Report\n\n\n\nB. Evidentiary Hearings – Old Applications\n\n1. COA-0126-2022: 2307 VAN DYKE AVENUE\n\n\n\nC. Evidentiary Hearings – New Applications\n\n1. COA-0124-2022: 900 HILLSBOROUGH STREET\n2. COA-0130-2022: 317 E JONES STREET\n3. COA-0136-2022: 410 N EAST STREET\n4. COA-0147-2022: 111 N BLOODWORTH STREET\n\n\n\nD. Other Business\n\n1. Committee Discussion\n\n\n\nE. Adjourment\n\n1. Adjourn Meeting
URL:https://livableraleigh.com/event/rhdc-certificate-of-appropriateness-committee/
LOCATION:Raleigh Municipal Building\, 222 W. Hargett St.\, Raleigh\, NC\, 27601\, United States
CATEGORIES:Historic Development Commission
END:VEVENT
END:VCALENDAR