BEGIN:VCALENDAR
VERSION:2.0
PRODID:-//Livable Raleigh - ECPv6.15.20//NONSGML v1.0//EN
CALSCALE:GREGORIAN
METHOD:PUBLISH
X-ORIGINAL-URL:https://livableraleigh.com
X-WR-CALDESC:Events for Livable Raleigh
REFRESH-INTERVAL;VALUE=DURATION:PT1H
X-Robots-Tag:noindex
X-PUBLISHED-TTL:PT1H
BEGIN:VTIMEZONE
TZID:America/New_York
BEGIN:DAYLIGHT
TZOFFSETFROM:-0500
TZOFFSETTO:-0400
TZNAME:EDT
DTSTART:20250309T070000
END:DAYLIGHT
BEGIN:STANDARD
TZOFFSETFROM:-0400
TZOFFSETTO:-0500
TZNAME:EST
DTSTART:20251102T060000
END:STANDARD
BEGIN:DAYLIGHT
TZOFFSETFROM:-0500
TZOFFSETTO:-0400
TZNAME:EDT
DTSTART:20260308T070000
END:DAYLIGHT
BEGIN:STANDARD
TZOFFSETFROM:-0400
TZOFFSETTO:-0500
TZNAME:EST
DTSTART:20261101T060000
END:STANDARD
BEGIN:DAYLIGHT
TZOFFSETFROM:-0500
TZOFFSETTO:-0400
TZNAME:EDT
DTSTART:20270314T070000
END:DAYLIGHT
BEGIN:STANDARD
TZOFFSETFROM:-0400
TZOFFSETTO:-0500
TZNAME:EST
DTSTART:20271107T060000
END:STANDARD
END:VTIMEZONE
BEGIN:VEVENT
DTSTART;TZID=America/New_York:20260311T083000
DTEND;TZID=America/New_York:20260311T103000
DTSTAMP:20260419T193346
CREATED:20260130T013124Z
LAST-MODIFIED:20260305T214943Z
UID:51062-1773217800-1773225000@livableraleigh.com
SUMMARY:Raleigh Historic Development Commission
DESCRIPTION:Public Meeting – March 11\, 2026\nThe Raleigh Historic Development Commission will conduct a public meeting on Wednesday\, March 11 at 8:30 a.m. at the Raleigh Municipal Building\, 222 W. Hargett Street in the City Council Chamber. \nPublic participation is available in person and remotely via voicemail. Visit the RHDC pagefor details on how to leave a public comment. \nFor questions about the meeting\, please contact historicpreservation@raleighnc.gov \n\n\n\nA.\n\nCall to Order\n\n\n\n\n\n\n\n\n\n\n\n\n\n\n\n\n\n\n\n\n\n\n\nB.\n\nConsent Agenda\n\n\n\n\n\n\n\n\n\n\n\n\n\n\n\n\n\n\n\n\n\n\n\nB.1\n\nApproval of Minutes\n\n\n\n\n\n\n\n\n\n\n\n\n\n\n\n\n\n\n\n\n\n\nThe draft February 11\, 2026 minutes are attached. \n\n\n\n\n\n\n\n\n\n\n\nC.\n\nPublic Comment\n\n\n\n\n\n\n\n\n\n\n\n\n\n\n\n\n\n\n\n\n\n\n\nC.1\n\nPublic Comments\n\n\n\n\n\n\n\n\n\n\n\n\n\n\n\n\n\n\n\n\n\n\nThis is an opportunity for the public to comment on items or issues that are otherwise not on the agenda. Please limit comments to 3 minutes per speaker. \n\n\n\n\n\n\n\n\n\nC.2\n\nVoicemail Comments\n\n\n\n\n\n\n\n\n\n\n\n\n\n\n\n\n\n\n\n\n\n\nIn accordance with City Council’s adopted recommendations\, voicemail public comments are available to the public for RHDC. This option does not apply to the COA Committee and quasi-judicial hearings. \nResidents may phone in ahead of the meeting and leave up to a three-minute voicemail message. Comments provided via the voicemail feature will be uploaded here the evening before the RHDC meeting. \nThe phone number is the same for City Council and all boards and commissions: 855-925-2801. RHDC’s unique code is 1887. \n\n\n\n\n\n\n\n\n\n\n\nD.\n\nNew Business\n\n\n\n\n\n\n\n\n\n\n\n\n\n\n\n\n\n\n\n\n\n\n\nD.1\n\nNash Square Public Realm Plan\n\n\n\n\n\n\n\n\n\n\n\n\n\n\n\n\n\n\n\n\n\n\nStaff Contact: Tania Tully\, Historic Preservation Supervisor \n  \nRaleigh Parks will provide a brief overview of the Nash Square Public Realm Plan project and engagement opportunities. \n  \nRecommended Action: Identify a commissioner to participate in the Arts and Culture Focus Group on behalf of RHDC. \n\n\n\n\n\n\n\n\n\nD.2\n\nRezoning Case – Z-1-26 (307 W Martin St\, 311 Commerce Pl\, 322 W Davie St)\n\n\n\n\n\n\n\n\n\n\n\n\n\n\n\n\n\n\n\n\n\n\nStaff Contact: Erin Morton Pugh\, Senior Preservation Planner\nMetra Sheshbaradaran\, Senior Planner\n.\nThe site is located within the Depot National Register Historic District (NRHD). The property at 307 W Martin St is a contributing property in the district containing two ca. 1919 & 1925 2-story brick commercial structures. The properties at 311 Commerce Pl and 322 W Davie St are noncontributing surface parking lots.\n.\nMetra Sheshbaradaran\, case planner\, will make a brief presentation on the application and its current status. Additional documentation on the case can be found on the City’s Rezoning Cases webpage (visit raleighnc.gov search term: rezoning cases). The RHDC staff memo providing additional analysis is attached.\n\nRecommended Action: Vote to recommend a decision on the application to City Council.\n\n\n\n\n\n\n\n\n\n\n\nE.\n\nOld Business\n\n\n\n\n\n\n\n\n\n\n\n\n\n\n\n\n\n\n\n\n\n\n\nE.1\n\nDesign Guidelines for Raleigh Historic Districts and Landmarks\n\n\n\n\n\n\n\n\n\n\n\n\n\n\n\n\n\n\n\n\n\n\nStaff Contact: Tania Tully\, Historic Preservation Supervisor \n  \nIn advance of the upcoming Historic Design Standards update project\, staff will lead a guided discussion of the current design standards used to review Certificates of Appropriateness. \n  \nRecommended Action: Provide feedback that will be shared with the consultant. \n\n\n\n\n\n\n\n\n\n\n\nF.\n\nCommittee Reports\n\n\n\n\n\n\n\n\n\n\n\n\n\n\n\n\n\n\n\n\n\n\n\nF.1\n\nCertificate of Appropriateness (COA)\n\n\n\n\n\n\n\n\n\n\n\n\n\n\n\n\n\n\n\n\n\n\nThe Committee Chair will report on recent activity. \n\n\n\n\n\n\n\n\n\nF.2\n\nCommunity Awareness\n\n\n\n\n\n\n\n\n\n\n\n\n\n\n\n\n\n\n\n\n\n\nThe Committee Chair will report on recent activity. \n\n\n\n\n\n\n\n\n\nF.3\n\nResearch\n\n\n\n\n\n\n\n\n\n\n\n\n\n\n\n\n\n\n\n\n\n\nThe Committee Chair will report on recent activity. \n\n\n\n\n\n\n\n\n\n\n\nG.\n\nOther Business\n\n\n\n\n\n\n\n\n\n\n\n\n\n\n\n\n\n\n\n\n\n\n\nG.1\n\nReport of Commissioners\n\n\n\n\n\n\n\n\n\n\n\n\n\n\n\n\n\n\n\n\n\n\n\nG.2\n\nReport of Historic Preservation Unit\n\n\n\n\n\n\n\n\n\n\n\n\n\n\n\n\n\n\n\n\n\n\nThe attached report includes the status of recent RHDC reviews\, upcoming historic preservation related events\, and CLG training opportunities. \n\n\n\n\n\n\n\n\n\n\n\nH.\n\nAdjournment\n\n\n\n\n\n\n\n\nThe Commission typically meets on the second Wednesday of each month at 8:30 a.m. Upcoming meeting agendas for the RHDC can be found on our City Council\, Boards and Commissions Agendas and Minutes page. \nRaleigh Historic Development Commission public meetings will be broadcast live on RTN 11 and on our live streaming webpage. To watch past meetings\, visit our video services page. \nAgenda and Participation\nVisit the RHDC webpage for additional information on how to participate in person or by voicemail comment.
URL:https://livableraleigh.com/event/raleigh-historic-development-commission-15/
LOCATION:Raleigh Municipal Building\, 222 W. Hargett St.\, Raleigh\, NC\, 27601\, United States
CATEGORIES:Historic Development Commission,Virtual
END:VEVENT
END:VCALENDAR