BEGIN:VCALENDAR
VERSION:2.0
PRODID:-//Livable Raleigh - ECPv6.15.20//NONSGML v1.0//EN
CALSCALE:GREGORIAN
METHOD:PUBLISH
X-WR-CALNAME:Livable Raleigh
X-ORIGINAL-URL:https://livableraleigh.com
X-WR-CALDESC:Events for Livable Raleigh
REFRESH-INTERVAL;VALUE=DURATION:PT1H
X-Robots-Tag:noindex
X-PUBLISHED-TTL:PT1H
BEGIN:VTIMEZONE
TZID:America/New_York
BEGIN:DAYLIGHT
TZOFFSETFROM:-0500
TZOFFSETTO:-0400
TZNAME:EDT
DTSTART:20240310T070000
END:DAYLIGHT
BEGIN:STANDARD
TZOFFSETFROM:-0400
TZOFFSETTO:-0500
TZNAME:EST
DTSTART:20241103T060000
END:STANDARD
BEGIN:DAYLIGHT
TZOFFSETFROM:-0500
TZOFFSETTO:-0400
TZNAME:EDT
DTSTART:20250309T070000
END:DAYLIGHT
BEGIN:STANDARD
TZOFFSETFROM:-0400
TZOFFSETTO:-0500
TZNAME:EST
DTSTART:20251102T060000
END:STANDARD
BEGIN:DAYLIGHT
TZOFFSETFROM:-0500
TZOFFSETTO:-0400
TZNAME:EDT
DTSTART:20260308T070000
END:DAYLIGHT
BEGIN:STANDARD
TZOFFSETFROM:-0400
TZOFFSETTO:-0500
TZNAME:EST
DTSTART:20261101T060000
END:STANDARD
END:VTIMEZONE
BEGIN:VEVENT
DTSTART;TZID=America/New_York:20251210T083000
DTEND;TZID=America/New_York:20251210T103000
DTSTAMP:20260419T145210
CREATED:20251031T200352Z
LAST-MODIFIED:20251204T155926Z
UID:49184-1765355400-1765362600@livableraleigh.com
SUMMARY:Raleigh Historic Development Commission
DESCRIPTION:Public Meeting – December 10\, 2025\nThe Raleigh Historic Development Commission will conduct a public meeting on Wednesday\, December 10 at 8:30 a.m. at the Raleigh Municipal Building\, 222 W. Hargett Street in the City Council Chamber. \nPublic participation is available in person and remotely via voicemail. Visit the RHDC pagefor details on how to leave a public comment. \nFor questions about the meeting\, please contact historicpreservation@raleighnc.gov \n\n\n\nA.\n\nCall to Order\n\n\n\n\n\n\n\n\n\n\n\n\n\n\n\n\n\n\n\n\n\n\n\nB.\n\nConsent Agenda\n\n\n\n\n\n\n\n\n\n\n\n\n\n\n\n\n\n\n\n\n\n\n\nB.1\n\nApproval of Minutes\n\n\n\n\n\n\n\n\n\n\n\n\n\n\n\n\n\n\n\n\n\n\nThe draft November 12\, 2025 minutes are attached. \n\n\n\n\n\n\n\n\n\n\n\nC.\n\nPublic Comment\n\n\n\n\n\n\n\n\n\n\n\n\n\n\n\n\n\n\n\n\n\n\n\nC.1\n\nPublic Comments\n\n\n\n\n\n\n\n\n\n\n\n\n\n\n\n\n\n\n\n\n\n\nThis is an opportunity for the public to comment on items or issues that are otherwise not on the agenda. Please limit comments to 3 minutes per speaker. \n\n\n\n\n\n\n\n\n\nC.2\n\nVoicemail Comments\n\n\n\n\n\n\n\n\n\n\n\n\n\n\n\n\n\n\n\n\n\n\nIn accordance with City Council’s adopted recommendations voicemail public comments are available to the public for RHDC.  This option does not apply to the COA Committee and the quasi-judicial hearings. \n  \nResidents may phone in ahead of the meeting and leave up to a three-minute voicemail message. Comments provided via the voicemail feature will be uploaded here the evening before the RHDC meeting. \n  \nThe phone number is the same for City Council and all boards and commissions: 855-925-2801.  RHDC’s unique code is 1887 \n\n\n\n\n\n\n\n\n\n\n\nD.\n\nNew Business\n\n\n\n\n\n\n\n\n\n\n\n\n\n\n\n\n\n\n\n\n\n\n\nD.1\n\nHistoric Landmark Designation Report – Unitarian Universalist Fellowship of Raleigh (UUFR) – 3313 Wade Ave\n\n\n\n\n\n\n\n\n\n\n\n\n\n\n\n\n\n\n\n\n\n\n\nErin Morton Pugh\, Senior Preservation Planner \n  \nOne historic landmark designation report has been received: \n  \n​Unitarian Universalist Fellowship of Raleigh (UUFR)\, 3313 Wade Ave \n  \n​​The architectural historian consultant will make a brief presentation on the designation report.​ \n  \n\n\nHistoric resources provide the special character and scale that distinguish Raleigh from  other places. The designation of historic landmarks is one of the tools to nurture  Raleigh’s distinctive places\, neighborhoods\, and landscapes that make our city unique. \n  \nRecommended Action: Receive as information. \n\n\n\n\n\n\n\n\n\n\nD.2\n\nDemolition by Neglect: 907 W Lenior Street \n\n\n\n\n\n\n\n\n\n\n\n\n\n\n\n\n\n\n\n\n\n\nCollette Kinane\, Senior Preservation Planner \nDuring public comment at the October 8th RHDC meeting\, Frank Haynes\, Boylan Heights Neighborhood Association president\, identified the garage at 907 W Lenior Street in the Boylan Heights Historic Overlay District as possibly undergoing demolition by neglect.  Per the Demo by Neglect Procedure (attached) RHDC may send an advice letter to the property owner.  This letter lets the owner know that deterioration has been observed\, what the Demolition by Neglect means per UDO Article 11.8 and gives then 6 months to begin making repairs.  After 6 months\, the matter will be brought back to RHDC for review. \n  \nRecommended Action: Vote on whether or not to send an advice letter. \n\n\n\n\n\n\n\n\n\nD.3\n\nCertified Local Government Report FY2025\n\n\n\n\n\n\n\n\n\n\n\n\n\n\n\n\n\n\n\n\n\n\nTania Tully\, Preservation Planning Supervisor \n  \nThe City of Raleigh is a Certified Local Government (CLG) in North Carolina under the Federal historic preservation program.  As a CLG\, Raleigh plays an important role in a national initiative to preserve the unique and valuable historic character of over 2\,100 communities across the country. The CLG program provides for increasing local involvement in preservation and offers technical assistance and grants to participating local governments. \n  \nOne of the requirements to maintain CLG certification is to submit an annual report to the State Historic Preservation Office. A cover memo and draft report is attached. \n  \nAfter affirmation by RHDC\, staff will send the report to the Mayor for concurrence. \n  \nRecommended Action: Approve the draft report with any edits and authorize the Chair to affirm that the City meets all the standards of CLG certification. \n\n\n\n\n\n\n\n\n\nD.4\n\nRules of Procedure\n\n\n\n\n\n\n\n\n\n\n\n\n\n\n\n\n\n\n\n\n\n\nTania Tully\, Preservation Planning Supervisor \n  \nDraft revised Rules of Procedure reflecting the recently approved text change (TC-3-24) and the City Council adopted template are attached along with the current rules. \n  \nAfter approval staff will submit the new Rules of Procedure for routing to City Council for approval. \n  \nRecommended Action: Adopt the Rules of Procedure. \n\n\n\n\n\n\n\n\n\n\n\nE.\n\nCommittee Reports\n\n\n\n\n\n\n\n\n\n\n\n\n\n\n\n\n\n\n\n\n\n\n\nE.1\n\nResearch\n\n\n\n\n\n\n\n\n\n\n\n\n\n\n\n\n\n\n\n\n\n\nThe Commmittee Chair will report on recent activity. \n\n\n\n\n\n\n\n\n\nE.2\n\nCertificate of Appropriateness (COA)\n\n\n\n\n\n\n\n\n\n\n\n\n\n\n\n\n\n\n\n\n\n\nThe Commmittee Chair will report on recent activity. \n\n\n\n\n\n\n\n\n\nE.3\n\nCommunity Awareness\n\n\n\n\n\n\n\n\n\n\n\n\n\n\n\n\n\n\n\n\n\n\nThe Commmittee Chair will report on recent activity. \n\n\n\n\n\n\n\n\n\n\n\nF.\n\nOther Business\n\n\n\n\n\n\n\n\n\n\n\n\n\n\n\n\n\n\n\n\n\n\n\nF.1\n\nReport of Commissioners\n\n\n\n\n\n\n\n\n\n\n\n\n\n\n\n\n\n\n\n\n\n\n\nF.2\n\nReport of Historic Preservation Unit\n\n\n\n\n\n\n\n\n\n\n\n\n\n\n\n\n\n\n\n\n\n\nThe attached report includes the status of recent RHDC reviews\, upcoming historic preservation related events\, and CLG training opportunities. \n  \nAction: Receive as information \n\n\n\n\n\n\n\n\n\n\n\nG.\n\nAdjournment\n\n\n\n\nThe Commission typically meets on the second Wednesday of each month at 8:30 a.m. Upcoming meeting agendas for the RHDC can be found on our City Council\, Boards and Commissions Agendas and Minutes page. \nRaleigh Historic Development Commission public meetings will be broadcast live on RTN 11 and on our live streaming webpage. To watch past meetings\, visit our video services page. \nAgenda and Participation\nVisit the RHDC webpage for additional information on how to participate in person or by voicemail comment.
URL:https://livableraleigh.com/event/raleigh-historic-development-commission-12/
LOCATION:Raleigh Municipal Building\, 222 W. Hargett St.\, Raleigh\, NC\, 27601\, United States
CATEGORIES:Historic Development Commission
END:VEVENT
END:VCALENDAR