BEGIN:VCALENDAR
VERSION:2.0
PRODID:-//Livable Raleigh - ECPv6.15.20//NONSGML v1.0//EN
CALSCALE:GREGORIAN
METHOD:PUBLISH
X-ORIGINAL-URL:https://livableraleigh.com
X-WR-CALDESC:Events for Livable Raleigh
REFRESH-INTERVAL;VALUE=DURATION:PT1H
X-Robots-Tag:noindex
X-PUBLISHED-TTL:PT1H
BEGIN:VTIMEZONE
TZID:America/New_York
BEGIN:DAYLIGHT
TZOFFSETFROM:-0500
TZOFFSETTO:-0400
TZNAME:EDT
DTSTART:20240310T070000
END:DAYLIGHT
BEGIN:STANDARD
TZOFFSETFROM:-0400
TZOFFSETTO:-0500
TZNAME:EST
DTSTART:20241103T060000
END:STANDARD
BEGIN:DAYLIGHT
TZOFFSETFROM:-0500
TZOFFSETTO:-0400
TZNAME:EDT
DTSTART:20250309T070000
END:DAYLIGHT
BEGIN:STANDARD
TZOFFSETFROM:-0400
TZOFFSETTO:-0500
TZNAME:EST
DTSTART:20251102T060000
END:STANDARD
BEGIN:DAYLIGHT
TZOFFSETFROM:-0500
TZOFFSETTO:-0400
TZNAME:EDT
DTSTART:20260308T070000
END:DAYLIGHT
BEGIN:STANDARD
TZOFFSETFROM:-0400
TZOFFSETTO:-0500
TZNAME:EST
DTSTART:20261101T060000
END:STANDARD
END:VTIMEZONE
BEGIN:VEVENT
DTSTART;TZID=America/New_York:20251112T083000
DTEND;TZID=America/New_York:20251112T123000
DTSTAMP:20260419T133231
CREATED:20250929T205735Z
LAST-MODIFIED:20251106T154844Z
UID:48682-1762936200-1762950600@livableraleigh.com
SUMMARY:Raleigh Historic Development Commission
DESCRIPTION:Public Meeting – November 12\, 2025\n\n\n\nThe Raleigh Historic Development Commission will conduct a public meeting on Wednesday\, November 12 at 8:30 a.m. at the Raleigh Municipal Building\, 222 W. Hargett Street in the City Council Chamber. \nPublic participation is available in person and remotely via voicemail. Visit the RHDC pagefor details on how to leave a public comment. \nFor questions about the meeting\, please contact historicpreservation@raleighnc.gov \n\n\n\nA.\n\nCall to Order\n\n\n\n\n\n\n\n\n\n\n\n\n\n\n\n\n\n\n\n\n\n\n\nB.\n\nConsent Agenda\n\n\n\n\n\n\n\n\n\n\n\n\n\n\n\n\n\n\n\n\n\n\n\nB.1\n\nApproval of Minutes\n\n\n\n\n \n\n\n\n\n\n\n\n\n\n\n\n\n\n\n\n\n\n\nThe draft October 8 minutes are attached. \n\n\n\n\n\n\n\n\n\n\n\nC.\n\nPublic Comment\n\n\n\n\n\n\n\n\n\n\n\n\n\n\n\n\n\n\n\n\n\n\n\nC.1\n\nPublic Comments\n\n\n\n\n\n\n\n\n\n\n\n\n\n\n\n\n\n\n\n\n\n\nThis is an opportunity for the public to comment on items or issues that are otherwise not on the agenda. Please limit comments to 3 minutes per speaker. \n\n\n\n\n\n\n\n\n\nC.2\n\nVoicemail Comments\n\n\n\n\n\n\n\n\n\n\n\n\n\n\n\n\n\n\n\n\n\n\nIn accordance with City Council’s adopted recommendations voicemail public comments are available to the public for RHDC.  This option does not apply to the COA Committee and the quasi-judicial hearings. \n  \nResidents may phone in ahead of the meeting and leave up to a three-minute voicemail message. Comments provided via the voicemail feature will be uploaded here the evening before the RHDC meeting. \n  \nThe phone number is the same for City Council and all boards and commissions: 855-925-2801.  RHDC’s unique code is 1887 \n\n\n\n\n\n\n\n\n\n\n\nD.\n\nOld Business\n\n\n\n\n\n\n\n\n\n\n\n\n\n\n\n\n\n\n\n\n\n\n\nD.1\n\nHistoric Landmark Designation Application: State Capitol Holiday Inn\n\n\n\n\n \n\n\n\n\n\n\n\n\n\n\n\n\n\n\n\n\n\n\n\nAction recommended: Vote to recommend that City Council adopt an ordinance designating this property a Raleigh Historic Landmark.\n\n.\n\nState Capitol Holiday Inn\, 320 Hillsborough Street\n\n.\nThe State Capitol Holiday Inn was designed by Lundgren and Maurer of Austin\, Texas and completed in 1969. The nineteen-story building consists of a circular five-story base with lobby and parking garage\, circular thirteen-story guestroom tower\, and cantilevered top floor restaurant that provides panoramic views of the city. The State Capitol Holiday Inn remains an important physical representation of a Modernist hotel in the downtown Raleigh.\n\n.\n\nA joint public hearing with City Council was held the evening of November 4\, 2025. The response from the State of North Carolina as well as the final application and designation report are attached.\n.\nNext step: 12/02/2025 City Council consent agenda for adoption of the designation ordinance\n\n\n\n\n\n\n\n\n\nD.2\n\nHistoric Landmark Designation Application: Dr. Morley and Carol Kare House\n\n\n\n\n \n\n\n\n\n\n\n\n\n\n\n\n\n\n\n\n\n\n\n\nAction recommended: Vote to recommend that City Council adopt an ordinance designating this property a Raleigh Historic Landmark.\n\n\n.\n\n\nDr. Morley and Carol Kare House\, 2204 Barfield Court\n\n.\nThe Dr. Morley and Carol Kare House was designed by Raymond Sawyer in 1962. The house is a highly significant example of modernist style’s defining characteristics: a post-and-beam framework\, wide roof overhang\, large areas of glass walls\, and an integration with the natural site. It is one of a handful of Sawyer’s designs in Raleigh that survive.\n\n.\n\nA joint public hearing with City Council was held the evening of November 4\, 2025. The response from the State of North Carolina as well as the final application and designation report are attached.\n.\nNext step: 12/02/2025 City Council consent agenda for adoption of the designation ordinance\n\n\n\n\n\n\n\n\n\n\n\nE.\n\nNew Business\n\n\n\n\n\n\n\n\n\n\n\n\n\n\n\n\n\n\n\n\n\n\n\nE.1\n\nEvidentiary Hearing – SUB-0016-2025 (1222 Filmore Street)\n\n\n\n\n \n\n\n\n\n\n\n\n\n\n\n\n\n\n\n\n\n\n\nSUB-0016-2025 (1222 Filmore Street)\n\nGlenwood-Brooklyn Historic Overlay District (HOD-S)\n\n\n.\n\n\nProperty Owner: Malav Ramesh Patel and Vaishali Patel\nProject Contact: Craig Kerins and Taylor Medlin for Raleigh Architecture Co.; Josh Crumpler for Crumpler Consulting\n\n\n.\n\nNature of Request: Subdivide parcel into two lots\n\nNote: As of 10/30/25 the Zoning staff memo is not attached.\n\n\n\n\n\n\n\n\n\nE.2\n\nHistoric Landmark Designation Report – Unitarian Universalist Fellowship of Raleigh (UUFR) – 3313 Wade Ave\n\n\n\n\n \n\n\n\n\n\n\n\n\n\n\n\n\n\n\n\n\n\n\nOne historic landmark designation report has been received:\n.\nUnitarian Universalist Fellowship of Raleigh (UUFR)\, 3313 Wade Ave\n.\nThe architectural historian consultant will make a brief presentation on the designation report.\n\n\n\n\n\n\n\n—\n\nRecommended Action: Receive as information.\n\n\n\n\n\n\n\n\nE.3\n\n2026 Meeting Dates\n\n\n\n\n \n\n\n\n\n\n\n\n\n\n\n\n\n\n\n\n\n\n\nPlease note the new addition of the proposed June 15 Annual Retreat and February 16 Annual COA Committee Training. Discussion of possible summer or winter break. \n  \nRecommended Action: Adopt the 2026 RHDC calendar of meetings. \n\n\n\n\n\n\n\n\n\n\n\nF.\n\nCommittee Reports\n\n\n\n\n\n\n\n\n\n\n\n\n\n\n\n\n\n\n\n\n\n\n\nF.1\n\nResearch\n\n\n\n\n\n\n\n\n\n\n\n\n\n\n\n\n\n\n\n\n\n\n\nF.2\n\nCertificate of Appropriateness (COA)\n\n\n\n\n\n\n\n\n\n\n\n\n\n\n\n\n\n\n\n\n\n\n\nF.3\n\nCommunity Awareness\n\n\n\n\n\n\n\n\n\n\n\n\n\n\n\n\n\n\n\n\n\n\n\n\n\nG.\n\nOther Business\n\n\n\n\n\n\n\n\n\n\n\n\n\n\n\n\n\n\n\n\n\n\n\nG.1\n\nReport of Commissioners\n\n\n\n\n\n\n\n\n\n\n\n\n\n\n\n\n\n\n\n\n\n\n\nG.2\n\nReport of Historic Preservation Unit\n\n\n\n\n \n\n\n\n\n\n\n\n\n\n\n\n\n\n\n\n\n\n\nThe attached report includes the status of recent RHDC reviews\, upcoming historic preservation related events\, and CLG training opportunities. \n  \nAction: Receive as information \n\n\n\n\n\n\n\n\n\n\n\nH.\n\nAdjournment\n\n\n\n\n\n\n\nThe Commission typically meets on the second Wednesday of each month at 8:30 a.m. Meeting agendas are added to the BoardDocs agenda management portal. \nRaleigh Historic Development Commission public meetings will be broadcast live on RTN 11 and on our live streaming webpage. To watch past meetings\, visit our video services page. \nAgenda and Participation\nVisit the RHDC webpage for additional information on how to participate in person or by voicemail comment.
URL:https://livableraleigh.com/event/raleigh-historic-development-commission-11/
LOCATION:Raleigh Municipal Building\, 222 W. Hargett St.\, Raleigh\, NC\, 27601\, United States
CATEGORIES:Historic Development Commission
END:VEVENT
END:VCALENDAR