BEGIN:VCALENDAR
VERSION:2.0
PRODID:-//Livable Raleigh - ECPv6.15.20//NONSGML v1.0//EN
CALSCALE:GREGORIAN
METHOD:PUBLISH
X-WR-CALNAME:Livable Raleigh
X-ORIGINAL-URL:https://livableraleigh.com
X-WR-CALDESC:Events for Livable Raleigh
REFRESH-INTERVAL;VALUE=DURATION:PT1H
X-Robots-Tag:noindex
X-PUBLISHED-TTL:PT1H
BEGIN:VTIMEZONE
TZID:America/New_York
BEGIN:DAYLIGHT
TZOFFSETFROM:-0500
TZOFFSETTO:-0400
TZNAME:EDT
DTSTART:20240310T070000
END:DAYLIGHT
BEGIN:STANDARD
TZOFFSETFROM:-0400
TZOFFSETTO:-0500
TZNAME:EST
DTSTART:20241103T060000
END:STANDARD
BEGIN:DAYLIGHT
TZOFFSETFROM:-0500
TZOFFSETTO:-0400
TZNAME:EDT
DTSTART:20250309T070000
END:DAYLIGHT
BEGIN:STANDARD
TZOFFSETFROM:-0400
TZOFFSETTO:-0500
TZNAME:EST
DTSTART:20251102T060000
END:STANDARD
BEGIN:DAYLIGHT
TZOFFSETFROM:-0500
TZOFFSETTO:-0400
TZNAME:EDT
DTSTART:20260308T070000
END:DAYLIGHT
BEGIN:STANDARD
TZOFFSETFROM:-0400
TZOFFSETTO:-0500
TZNAME:EST
DTSTART:20261101T060000
END:STANDARD
END:VTIMEZONE
BEGIN:VEVENT
DTSTART;TZID=America/New_York:20251008T083000
DTEND;TZID=America/New_York:20251008T103000
DTSTAMP:20260419T115053
CREATED:20250910T225559Z
LAST-MODIFIED:20251002T194615Z
UID:48075-1759912200-1759919400@livableraleigh.com
SUMMARY:Raleigh Historic Development Commission
DESCRIPTION:Public Meeting – October 8\, 2025\n\n\n\nNOTE: The City of Raleigh has launched a new agenda management portal called “eScribe” that will improve access and transparency for Raleigh Historic Development Commission meeting agendas and minutes. \nThe October 8 Raleigh Historic Development Commission agenda is now live and can be accessed through the new City Council\, Boards and Commissions: Agendas and Minuteswebpage. \n\nThe Raleigh Historic Development Commission will conduct a public meeting on Wednesday\, October 8 at 8:30 a.m. at the Raleigh Municipal Building\, 222 W. Hargett Street in the City Council Chamber. \nPublic participation is available in person and remotely via voicemail. Visit the RHDC pagefor details on how to leave a public comment. \nFor questions about the meeting\, please contact historicpreservation@raleighnc.gov \n\n\n\nA.\n\nCall to Order\n\n\n\n\n\n\n\n\n\n\n\nB.\n\nConsent Agenda\n\n\n\n\n\n\n\n\n\n\n\nB.1\n\nApproval of Minutes\n\n\n\n\n\n\n\n\n\n\nDraft minutes from the September meeting are attached. \n\n\n\n\n\n\n\n\n\n\n\nC.\n\nPublic Comment\n\n\n\n\n\n\n\n\n\n\n\nC.1\n\nPublic Comments\n\n\n\n\n\n\n\n\n\n\n\nC.2\n\nVoicemail Comments\n\n\n\n\n\n\n\n\n\n\n\n\n\nD.\n\nOld Business\n\n\n\n\n\n\n\n\n\n\n\nE.\n\nNew Business\n\n\n\n\n\n\n\n\n\n\n\nE.1\n\nRHDC Quasi-Judicial Training\n\n\n\n\n\n\n\n\n\nCity Attorney Patrick Jones will be present to provide a brief quasi-judicial training for the Commission. The UDO (Unified Development Ordinance) states that RHDC is responsible fordeciding subdivision requests in HOD-G\, HOD-S and those parcels containing Raleigh Historic Landmarks in a quasi-judicial hearing. This training is provided in anticipation of upcoming subdivision reviews.\n\n\n\n\n\n\n\n\n\n\nF.\n\nCommittee Reports\n\n\n\n\n\n\n\n\n\n\n\nF.1\n\nResearch\n\n\n\n\n\n\n\n\n\n\n\nF.2\n\nNominations\n\n\n\n\n\n\n\n\n\n\n\nF.3\n\nCertificate of Appropriateness (COA)\n\n\n\n\n\n\n\n\n\n\n\nF.4\n\nCommunity Awareness\n\n\n\n\n\n\n\n\n\n\n\n\n\nG.\n\nOther Business\n\n\n\n\n\n\n\n\n\n\n\nG.1\n\nReport of Commissioners\n\n\n\n\n\n\n\n\n\n\n\nG.2\n\nReport of Historic Preservation Unit\n\n\n\n\n\n\n\n\n\n\nThe October 8\, 2025 Report of the Historic Preservation Unit is attached. \n\n\n\n\n\n\n\n\n\n\n\nH.\n\nAdjournment\n\n\n\n\n\n\n\nThe Commission typically meets on the second Wednesday of each month at 8:30 a.m. Meeting agendas are added to the BoardDocs agenda management portal. \nRaleigh Historic Development Commission public meetings will be broadcast live on RTN 11 and on our live streaming webpage. To watch past meetings\, visit our video services page. \nAgenda and Participation\nVisit the RHDC webpage for additional information on how to participate in person or by voicemail comment.
URL:https://livableraleigh.com/event/raleigh-historic-development-commission-10/
LOCATION:Raleigh Municipal Building\, 222 W. Hargett St.\, Raleigh\, NC\, 27601\, United States
CATEGORIES:Historic Development Commission
END:VEVENT
END:VCALENDAR