BEGIN:VCALENDAR
VERSION:2.0
PRODID:-//Livable Raleigh - ECPv6.15.20//NONSGML v1.0//EN
CALSCALE:GREGORIAN
METHOD:PUBLISH
X-WR-CALNAME:Livable Raleigh
X-ORIGINAL-URL:https://livableraleigh.com
X-WR-CALDESC:Events for Livable Raleigh
REFRESH-INTERVAL;VALUE=DURATION:PT1H
X-Robots-Tag:noindex
X-PUBLISHED-TTL:PT1H
BEGIN:VTIMEZONE
TZID:America/New_York
BEGIN:DAYLIGHT
TZOFFSETFROM:-0500
TZOFFSETTO:-0400
TZNAME:EDT
DTSTART:20240310T070000
END:DAYLIGHT
BEGIN:STANDARD
TZOFFSETFROM:-0400
TZOFFSETTO:-0500
TZNAME:EST
DTSTART:20241103T060000
END:STANDARD
BEGIN:DAYLIGHT
TZOFFSETFROM:-0500
TZOFFSETTO:-0400
TZNAME:EDT
DTSTART:20250309T070000
END:DAYLIGHT
BEGIN:STANDARD
TZOFFSETFROM:-0400
TZOFFSETTO:-0500
TZNAME:EST
DTSTART:20251102T060000
END:STANDARD
BEGIN:DAYLIGHT
TZOFFSETFROM:-0500
TZOFFSETTO:-0400
TZNAME:EDT
DTSTART:20260308T070000
END:DAYLIGHT
BEGIN:STANDARD
TZOFFSETFROM:-0400
TZOFFSETTO:-0500
TZNAME:EST
DTSTART:20261101T060000
END:STANDARD
END:VTIMEZONE
BEGIN:VEVENT
DTSTART;TZID=America/New_York:20250814T100000
DTEND;TZID=America/New_York:20250814T110000
DTSTAMP:20260419T150708
CREATED:20250729T183504Z
LAST-MODIFIED:20250730T145608Z
UID:47012-1755165600-1755169200@livableraleigh.com
SUMMARY:Updating Raleigh's Historic Preservation Rules
DESCRIPTION:A draft ordinance with proposed changes to the historic preservation sections of the Unified Development Ordinance (UDO) will be shared at two upcoming public meetings: \n\n\n\n\nWednesday\, August 13 at 7 p.m. – Five Points Center for Active Adults\nRegister *this link has been updated\n\n\n\n\nThursday\, August 14 at 10 a.m. – Virtual Session\nRegister\n\n\n\nThe updates enhance consistency with state law and fix unclear or imprecise language. \n\n\nWhile the meetings are a chance to ask questions and learn more\, all formal feedback must be submitted through the Text Change Engagement Portal beginning August 13. This ensures your input is recorded and considered as part of the public review process.
URL:https://livableraleigh.com/event/updating-raleighs-historic-preservation-rules-2/
LOCATION:NC
CATEGORIES:Engagement Filter,Historic Development Commission
END:VEVENT
END:VCALENDAR