BEGIN:VCALENDAR
VERSION:2.0
PRODID:-//Livable Raleigh - ECPv6.15.20//NONSGML v1.0//EN
CALSCALE:GREGORIAN
METHOD:PUBLISH
X-ORIGINAL-URL:https://livableraleigh.com
X-WR-CALDESC:Events for Livable Raleigh
REFRESH-INTERVAL;VALUE=DURATION:PT1H
X-Robots-Tag:noindex
X-PUBLISHED-TTL:PT1H
BEGIN:VTIMEZONE
TZID:America/New_York
BEGIN:DAYLIGHT
TZOFFSETFROM:-0500
TZOFFSETTO:-0400
TZNAME:EDT
DTSTART:20240310T070000
END:DAYLIGHT
BEGIN:STANDARD
TZOFFSETFROM:-0400
TZOFFSETTO:-0500
TZNAME:EST
DTSTART:20241103T060000
END:STANDARD
BEGIN:DAYLIGHT
TZOFFSETFROM:-0500
TZOFFSETTO:-0400
TZNAME:EDT
DTSTART:20250309T070000
END:DAYLIGHT
BEGIN:STANDARD
TZOFFSETFROM:-0400
TZOFFSETTO:-0500
TZNAME:EST
DTSTART:20251102T060000
END:STANDARD
BEGIN:DAYLIGHT
TZOFFSETFROM:-0500
TZOFFSETTO:-0400
TZNAME:EDT
DTSTART:20260308T070000
END:DAYLIGHT
BEGIN:STANDARD
TZOFFSETFROM:-0400
TZOFFSETTO:-0500
TZNAME:EST
DTSTART:20261101T060000
END:STANDARD
END:VTIMEZONE
BEGIN:VEVENT
DTSTART;TZID=America/New_York:20250603T160000
DTEND;TZID=America/New_York:20250603T173000
DTSTAMP:20260419T181349
CREATED:20250502T152604Z
LAST-MODIFIED:20250602T170720Z
UID:45068-1748966400-1748971800@livableraleigh.com
SUMMARY:RHDC Community Awareness Committee
DESCRIPTION:Public Meeting – June 3\, 2025\n\n\n\nThe Community Awareness Committee of the Raleigh Historic Development Commissionwill conduct a public meeting on Tuesday\, June 3 at 4 p.m. in conference room 809 of One Exchange Plaza\, Raleigh\, NC 27601. \nFor questions about the meeting\, please contact historicpreservation@raleighnc.gov. \n\n1. Call to Order\n\n\nA. Call to Order and Welcome\n\n\n\n\n\n\n2. Public Comment\n\n\nA. This is an opportunity for the public to comment on items or issues that are not otherwise on the agenda. Please limit comments to 3 minutes per speaker\n\n\n\n\n\n\n3. Old Business\n\n\nA. Historic Bike Ride Debrief\n\n\n\n\n\n\n4. New Business\n\n\nA. Work Plan Check-In\n\n\nB. SWAG Items\n\n\nC. RHDC Social Media Calendar\n\n\n\n\n\n\n5. Other Business\n\n\nA. Pending Discussion Items\n\n\n\n\n\n\n6. Adjournment\n\n\n\n\nThe Community Awareness Committee meets on the first Tuesday of the month at 4 p.m. at One Exchange Plaza\, conference room 809. Meeting agendas are added to the BoardDocs agenda management portal.
URL:https://livableraleigh.com/event/rhdc-community-awareness-committee-28/
LOCATION:One Exchange Plaza\, 1 Exchange Plaza\, Raleigh\, NY\, 27601
CATEGORIES:Historic Development Commission
END:VEVENT
END:VCALENDAR