BEGIN:VCALENDAR
VERSION:2.0
PRODID:-//Livable Raleigh - ECPv6.15.20//NONSGML v1.0//EN
CALSCALE:GREGORIAN
METHOD:PUBLISH
X-WR-CALNAME:Livable Raleigh
X-ORIGINAL-URL:https://livableraleigh.com
X-WR-CALDESC:Events for Livable Raleigh
REFRESH-INTERVAL;VALUE=DURATION:PT1H
X-Robots-Tag:noindex
X-PUBLISHED-TTL:PT1H
BEGIN:VTIMEZONE
TZID:America/New_York
BEGIN:DAYLIGHT
TZOFFSETFROM:-0500
TZOFFSETTO:-0400
TZNAME:EDT
DTSTART:20230312T070000
END:DAYLIGHT
BEGIN:STANDARD
TZOFFSETFROM:-0400
TZOFFSETTO:-0500
TZNAME:EST
DTSTART:20231105T060000
END:STANDARD
BEGIN:DAYLIGHT
TZOFFSETFROM:-0500
TZOFFSETTO:-0400
TZNAME:EDT
DTSTART:20240310T070000
END:DAYLIGHT
BEGIN:STANDARD
TZOFFSETFROM:-0400
TZOFFSETTO:-0500
TZNAME:EST
DTSTART:20241103T060000
END:STANDARD
BEGIN:DAYLIGHT
TZOFFSETFROM:-0500
TZOFFSETTO:-0400
TZNAME:EDT
DTSTART:20250309T070000
END:DAYLIGHT
BEGIN:STANDARD
TZOFFSETFROM:-0400
TZOFFSETTO:-0500
TZNAME:EST
DTSTART:20251102T060000
END:STANDARD
END:VTIMEZONE
BEGIN:VEVENT
DTSTART;TZID=America/New_York:20241016T083000
DTEND;TZID=America/New_York:20241016T103000
DTSTAMP:20260420T060230
CREATED:20240902T130652Z
LAST-MODIFIED:20241010T163124Z
UID:40345-1729067400-1729074600@livableraleigh.com
SUMMARY:Raleigh Historic Development Commission Meeting
DESCRIPTION:Public Meeting – October 16\, 2024\n\n\n\nThe Raleigh Historic Development Commission will conduct a public meeting on Wednesday\, October 16 at 8:30 a.m. at the Raleigh Municipal Building\, 222 W. Hargett Street in the City Council Chamber. \nPublic participation is available in person and remotely via voicemail. Visit the RHDC pagefor details on how to leave a public comment. \nFor questions about the meeting\, please contact historicpreservation@raleighnc.gov \n\n1. Call to Order\n\n\nA. Roll Call\n\n\nB. Welcome New Commissioner\n\n\n\n\n\n\n2. Consent Items\n\n\nA. Approval of Minutes\nThis Agenda Item Contains an Attachment.\n\n\n\n\n\n3. Public Comment\n\n\nA. Public Comment – Limit to 3 minutes\n\n\nB. Voice Mail Public Comment\n\n\n\n\n\n\n4. Old Business\n\n\nA. Annual Retreat\nThis Agenda Item Contains an Attachment.\n\n\n\n\n\n5. New Business\n\n\nA. Recombination/Recorded Plat: RCMP-0208-2024 (504 Tilden St)\nThis Agenda Item Contains an Attachment.\n\nB. LGBTQIA+ Historic Context Draft Report – Public Input\n\n\n\n\n\n\n6. Committee Reports\n\n\nA. Research\n\n\nB. Community Awareness\n\n\nC. Certificate of Appropriateness\n\n\n\n\n\n\n7. Other Business\n\n\nA. Report of Commissioners\n\n\nB. Report of Historic Preservation Unit\nThis Agenda Item Contains an Attachment.\n\n\n\n\n\n8. Adjournment\n\n\nA. Adjourn Meeting\n\n\n\n\n\n\nThe Commission typically meets on the third Wednesday of each month at 8:30 a.m. Meeting agendas are added to the BoardDocs agenda management portal. \nAgenda and ParticipationVisit the RHDC webpage for additional information on how to participate in person or by voicemail comment.
URL:https://livableraleigh.com/event/raleigh-historic-development-commission-meeting-21/
LOCATION:Raleigh Municipal Building\, 222 W. Hargett St.\, Raleigh\, NC\, 27601\, United States
CATEGORIES:Historic Development Commission
END:VEVENT
END:VCALENDAR