BEGIN:VCALENDAR
VERSION:2.0
PRODID:-//Livable Raleigh - ECPv6.15.20//NONSGML v1.0//EN
CALSCALE:GREGORIAN
METHOD:PUBLISH
X-ORIGINAL-URL:https://livableraleigh.com
X-WR-CALDESC:Events for Livable Raleigh
REFRESH-INTERVAL;VALUE=DURATION:PT1H
X-Robots-Tag:noindex
X-PUBLISHED-TTL:PT1H
BEGIN:VTIMEZONE
TZID:America/New_York
BEGIN:DAYLIGHT
TZOFFSETFROM:-0500
TZOFFSETTO:-0400
TZNAME:EDT
DTSTART:20230312T070000
END:DAYLIGHT
BEGIN:STANDARD
TZOFFSETFROM:-0400
TZOFFSETTO:-0500
TZNAME:EST
DTSTART:20231105T060000
END:STANDARD
BEGIN:DAYLIGHT
TZOFFSETFROM:-0500
TZOFFSETTO:-0400
TZNAME:EDT
DTSTART:20240310T070000
END:DAYLIGHT
BEGIN:STANDARD
TZOFFSETFROM:-0400
TZOFFSETTO:-0500
TZNAME:EST
DTSTART:20241103T060000
END:STANDARD
BEGIN:DAYLIGHT
TZOFFSETFROM:-0500
TZOFFSETTO:-0400
TZNAME:EDT
DTSTART:20250309T070000
END:DAYLIGHT
BEGIN:STANDARD
TZOFFSETFROM:-0400
TZOFFSETTO:-0500
TZNAME:EST
DTSTART:20251102T060000
END:STANDARD
END:VTIMEZONE
BEGIN:VEVENT
DTSTART;TZID=America/New_York:20240415T170000
DTEND;TZID=America/New_York:20240415T180000
DTSTAMP:20260422T204734
CREATED:20240410T190328Z
LAST-MODIFIED:20240410T190328Z
UID:37505-1713200400-1713204000@livableraleigh.com
SUMMARY:RHDC COA Committee Training
DESCRIPTION:RHDC COA Committee Training\n\n\n\n\nPublic Meeting – April 15\, 2024\n\n\n\n\n\n\nThe RHDC Certificate of Appropriateness Committee will conduct its annual training on Monday\, April 15 at 5:00 p.m. at the Mordecai Historic Park Visitor’s Center\, 1101 Wake Forest Rd. \nFor more information about the meeting\, please contact historicpreservation@raleighnc.gov. \n\n1. Call to Order\n\n\nA. Roll Call\n\n\n\n\n\n\n2. Training\n\n\nA. Annual COA Committee Training\n\n\n\n\n\n\n3. Adjournment\n\n\nA. Adjourn Meeting
URL:https://livableraleigh.com/event/rhdc-coa-committee-training/
LOCATION:Mordecai Historic Park\, 1 Mimosa St\, Raleigh\, NC\, 27604
CATEGORIES:Engagement Filter,Historic Development Commission
END:VEVENT
END:VCALENDAR