BEGIN:VCALENDAR
VERSION:2.0
PRODID:-//Livable Raleigh - ECPv6.15.20//NONSGML v1.0//EN
CALSCALE:GREGORIAN
METHOD:PUBLISH
X-WR-CALNAME:Livable Raleigh
X-ORIGINAL-URL:https://livableraleigh.com
X-WR-CALDESC:Events for Livable Raleigh
REFRESH-INTERVAL;VALUE=DURATION:PT1H
X-Robots-Tag:noindex
X-PUBLISHED-TTL:PT1H
BEGIN:VTIMEZONE
TZID:America/New_York
BEGIN:DAYLIGHT
TZOFFSETFROM:-0500
TZOFFSETTO:-0400
TZNAME:EDT
DTSTART:20250309T070000
END:DAYLIGHT
BEGIN:STANDARD
TZOFFSETFROM:-0400
TZOFFSETTO:-0500
TZNAME:EST
DTSTART:20251102T060000
END:STANDARD
BEGIN:DAYLIGHT
TZOFFSETFROM:-0500
TZOFFSETTO:-0400
TZNAME:EDT
DTSTART:20260308T070000
END:DAYLIGHT
BEGIN:STANDARD
TZOFFSETFROM:-0400
TZOFFSETTO:-0500
TZNAME:EST
DTSTART:20261101T060000
END:STANDARD
BEGIN:DAYLIGHT
TZOFFSETFROM:-0500
TZOFFSETTO:-0400
TZNAME:EDT
DTSTART:20270314T070000
END:DAYLIGHT
BEGIN:STANDARD
TZOFFSETFROM:-0400
TZOFFSETTO:-0500
TZNAME:EST
DTSTART:20271107T060000
END:STANDARD
END:VTIMEZONE
BEGIN:VEVENT
DTSTART;TZID=America/New_York:20260203T160000
DTEND;TZID=America/New_York:20260203T173000
DTSTAMP:20260419T163624
CREATED:20251231T212736Z
LAST-MODIFIED:20260127T223019Z
UID:49990-1770134400-1770139800@livableraleigh.com
SUMMARY:RHDC Community Awareness Committee
DESCRIPTION:The Community Awareness Committee of the Raleigh Historic Development Commissionwill conduct a public meeting on Tuesday\, February 3 at 4 p.m. in conference room 809 of One Exchange Plaza\, Raleigh\, NC 27601. \nWe’ll be monitoring the weather closely and will share any updates if conditions change. \nFor questions about the meeting\, please contact historicpreservation@raleighnc.gov. \nA. \nCall to Order \n  \nB. \nPublic Comment \n  \nThis is an opportunity for the public to comment on items or issues that are not otherwise on the agenda. Please limit comments to 3 minutes per speaker. \nC. \nOld Business \n  \nC.1 \nRHDC Website Conversion \n  \nThe conversion of the RHDC’s independent website to the City of Raleigh website is an ongoing long-term project. The work is led by the City’s Historic Preservation Unit staff with assistance from the RHDC’s Community Awareness Committee. Any recently published webpages will be highlighted for informational purposes. \nC.2 \nRHDC Landmark Cards \n  \nDuring the pandemic\, the Commission designed and printed collectible trading cards for a small number of Raleigh Historic Landmark properties. The Committee will share updates on efforts to develop a more easily edited card design and discuss next steps for publishing a new series of historic landmark collectible cards. \nD. \nNew Business \n  \nD.1 \nHistoric Bike Ride \n  \nThe committee will continue planning for the 2026 Raleigh Historic Bike Ride on May 2nd. Bike/ped city staff will attend to discuss the preliminary America250 theme site selections and propose a ride route. \nD.2 \nRHDC Social Media \n  \nThe Committee will review public engagement from the previous month to determine if additional action or attention is needed. Commissioners will select planned social media topics for the upcoming month and prepare posts. \nE. \nOther Business \n  \nF. \nAdjournment \nThe Community Awareness Committee meets on the first Tuesday of the month at 4 p.m. at One Exchange Plaza\, conference room 809. Upcoming meeting agendas for the RHDC Community Awareness Committee can be found on our City Council\, Boards and Commissions Agendas and Minutes page.
URL:https://livableraleigh.com/event/rhdc-community-awareness-committee-35/
LOCATION:One Exchange Plaza\, 1 Exchange Plaza\, Raleigh\, NY\, 27601
CATEGORIES:Historic Development Commission
END:VEVENT
BEGIN:VEVENT
DTSTART;TZID=America/New_York:20260204T083000
DTEND;TZID=America/New_York:20260204T100000
DTSTAMP:20260419T163624
CREATED:20251231T213044Z
LAST-MODIFIED:20260129T185518Z
UID:49996-1770193800-1770199200@livableraleigh.com
SUMMARY:RHDC Research Committee
DESCRIPTION:The Research Committee of the Raleigh Historic Development Commission will conduct a public meeting on Wednesday\, February 4 at 8:30 a.m. in conference room 809 of One Exchange Plaza\, Raleigh\, NC 27601. \nFor questions about the meeting\, please contact historicpreservation@raleighnc.gov \n\n\n\nA.\n\nCall to Order\n\n\n\n\n\n\n\n\n\n\n\n\n\n\n\n\n\n\n\n\n\n\n\nB.\n\nPublic Comment\n\n\n\n\n\n\n\n\n\n\n\n\n\n\n\n\n\n\n\n\n\n\n\nC.\n\nOld Business\n\n\n\n\n\n\n\n\n\n\n\n\n\n\n\n\n\n\n\n\n\n\n\nC.1\n\n2026 Inquiry Letters for RHL\n\n\n\n\n\n\n\n\n\n\n\n\n\n\n\n\n\n\n\n\n\n\nThe Committee will review the Places Worthy of Preservation list and recently completed reports to send letters of interest. If the Committee agrees that the properties should be sent landmark inquiry letters\, the letters will be prepared and signed at the next meeting.\n.\nAt the December 2025 Research Committee meeting\, the Committee decided to review modernist properties.  A list of properties classified as modern is attached.  See the complete list of Properties Worthy of Preservation at raleighnc.gov\, search term: ”landmarks”.\n.\nRecently completed reports:\nBlack Heritage and Historic Places: 1945-1975 report [raleighnc.gov\, search term: ”black heritage”]\n\nLGBTQIA+ Historic Context Study [raleighnc.gov\, search term: ”lgbtq”]\n\n\n\n\n\n\n\n\n\n\n\n\n\nD.\n\nNew Business\n\n\n\n\n\n\n\n\n\n\n\n\n\n\n\n\n\n\n\n\n\n\n\nE.\n\nOther Business\n\n\n\n\n\n\n\n\n\n\n\n\n\n\n\n\n\n\n\n\n\n\n\nF.\n\nAdjournment\n\n\n\n\n\n\n\n\nThe Research Committee meets on the first Wednesday of the month at 8:30 a.m. in Conference Room 809\, One Exchange Plaza building. Upcoming meeting agendas for the RHDC Research Committee can be found on our City Council\, Boards and Commissions Agendas and Minutes page.
URL:https://livableraleigh.com/event/rhdc-research-committee-46/
LOCATION:One Exchange Plaza\, 1 Exchange Plaza\, Raleigh\, NY\, 27601
CATEGORIES:Historic Development Commission
END:VEVENT
BEGIN:VEVENT
DTSTART;TZID=America/New_York:20260211T083000
DTEND;TZID=America/New_York:20260211T103000
DTSTAMP:20260419T163624
CREATED:20251231T215446Z
LAST-MODIFIED:20260129T191827Z
UID:50023-1770798600-1770805800@livableraleigh.com
SUMMARY:Raleigh Historic Development Commission
DESCRIPTION:The Commission typically meets on the second Wednesday of each month at 8:30 a.m. Upcoming meeting agendas for the RHDC can be found on our City Council\, Boards and Commissions Agendas and Minutes page. \nRaleigh Historic Development Commission public meetings will be broadcast live on RTN 11 and on our live streaming webpage. To watch past meetings\, visit our video services page. \nAgenda and Participation\nVisit the RHDC webpage for additional information on how to participate in person or by voicemail comment.
URL:https://livableraleigh.com/event/raleigh-historic-development-commission-14/
LOCATION:Raleigh Municipal Building\, 222 W. Hargett St.\, Raleigh\, NC\, 27601\, United States
CATEGORIES:Historic Development Commission,Virtual
END:VEVENT
BEGIN:VEVENT
DTSTART;TZID=America/New_York:20260216T170000
DTEND;TZID=America/New_York:20260216T200000
DTSTAMP:20260419T163624
CREATED:20260206T211312Z
LAST-MODIFIED:20260211T190952Z
UID:51299-1771261200-1771272000@livableraleigh.com
SUMMARY:RHDC Certificate of Appropriateness Committee - Annual Training
DESCRIPTION:Annual Training – February 16\, 2026\n\n\n\nThe RHDC Certificate of Appropriateness Committee will conduct their annual training on Monday\, February 16\, 2026\, at 5 p.m. at One Exchange Plaza in Conference Room 809. \nFor more information\, please contact historicpreservation@raleighnc.gov. \n\n\n\nA.\n\nCall to Order\n\n\n\n\n\n\n\n\n\n\n\n\n\n\n\n\n\n\n\n\n\n\n\nA.1\n\nRoll Call\n\n\n\n\n\n\n\n\n\n\n\n\n\n\n\n\n\n\n\n\n\n\n\n\n\nB.\n\nAnnual Training\n\n\n\n\n\n\n\n\n\n\n\n\n\n\n\n\n\n\n\n\n\n\nThe COA Committee will hold their annual training. \n\n\n\n\n\n\n\n\n\nC.\n\nAdjournment\n\n\n\n\n\n\n\n\n\n\n\nThe RHDC Certificate of Appropriateness Committee will receive annual training on COA legal processes and decisions.
URL:https://livableraleigh.com/event/rhdc-certificate-of-appropriateness-committee-annual-training/
LOCATION:One Exchange Plaza\, 1 Exchange Plaza\, Raleigh\, NY\, 27601
CATEGORIES:Historic Development Commission
END:VEVENT
BEGIN:VEVENT
DTSTART;TZID=America/New_York:20260226T170000
DTEND;TZID=America/New_York:20260226T200000
DTSTAMP:20260419T163624
CREATED:20251231T225427Z
LAST-MODIFIED:20260210T162759Z
UID:50069-1772125200-1772136000@livableraleigh.com
SUMMARY:RHDC Certificate of Appropriateness Committee
DESCRIPTION:The RHDC Certificate of Appropriateness Committee will conduct a public meeting on Thursday\, February 26 at 5:00 p.m. in City Council Chamber\, Room 201\, 222 West Hargett Street\, Raleigh\, NC 27601. \nFor questions about the meeting\, please contact historicpreservation@raleighnc.gov \n\n\n\nA.\n\nCall to Order\n\n\n\n\n\n\n\n\n\n\n\n\n\n\n\n\n\n\n\n\n\n\n\nA.1\n\nRoll Call\n\n\n\n\n\n\n\n\n\n\n\n\n\n\n\n\n\n\n\n\n\n\n\nA.2\n\nApproval of Agenda\n\n\n\n\n\n\n\n\n\n\n\n\n\n\n\n\n\n\n\n\n\n\n\nA.3\n\nApproval of Minutes\n\n\n\n\n\n\n\n\n\n\n\n\n\n\n\n\n\n\n\n\n\n\n\nA.4\n\nMinor Work Report\n\n\n\n\n\n\n\n\n\n\n\n\n\n\n\n\n\n\n\n\n\n\n\n\n\nB.\n\nEvidentiary Hearings – New Applications\n\n\n\n\n\n\n\n\n\n\n\n\n\n\n\n\n\n\n\n\n\n\n\nB.1\n\nCOA-0003-2026 (112 N East St)\n\n\n\n\n\n\n\n\n\n\n\n\n\n\n\n\n\n\n\n\n\n\nOakwood Historic Overlay District (HOD-G)\n.\nProperty Owner: Daniel and Naina Khera-McRackan\nApplicant: Naina Khera-McRackan\n\nProject Contact: Alison Croop for Louis Cherry Architecture\n\n.\nNature of Project: Remove tree\n\n\n\n\n\n\n\n\n\nB.2\n\nCOA-0007-2026 (315 Oakwood Ave)\n\n\n\n\n\n\n\n\n\n\n\n\n\n\n\n\n\n\n\n\n\n\nOakwood Historic Overlay District (HOD-G)\n.\nProperty Owner: John and Rebecca O’Grady\nApplicant: John O’Grady\n\nProject Contact: John O’Grady\n\n.\nNature of Project: Install solar panels\n\n\n\n\n\n\n\n\n\n\n\nC.\n\nOther Business\n\n\n\n\n\n\n\n\n\n\n\n\n\n\n\n\n\n\n\n\n\n\n\nD.\n\nAdjourment\n\n\n\n\nRHDC Certificate of Appropriateness Committee public meetings are held in the Raleigh Municipal Building\, City Council Chamber. A broadcast is available via the following methods: the city’s website\, the city’s YouTube Channel\, or Channel RTN-11. \nAgenda and Participation\nVisit the Certificate of Appropriateness webpage for additional information on how to participate. Upcoming meeting agendas for the RHDC COA can be found on our City Council\, Boards and Commissions Agendas and Minutes page. \nPLEASE NOTE: Applications should be submitted using the city’s online Permit and Development Portal. If you have any questions about the application process or about the meeting date\, time\, etc.\, please contact staff at historicpreservation@raleighnc.gov.
URL:https://livableraleigh.com/event/rhdc-certificate-of-appropriateness-committee-37/
LOCATION:Raleigh Municipal Building\, 222 W. Hargett St.\, Raleigh\, NC\, 27601\, United States
CATEGORIES:Historic Development Commission,Virtual
END:VEVENT
END:VCALENDAR