BEGIN:VCALENDAR
VERSION:2.0
PRODID:-//Livable Raleigh - ECPv6.15.20//NONSGML v1.0//EN
CALSCALE:GREGORIAN
METHOD:PUBLISH
X-ORIGINAL-URL:https://livableraleigh.com
X-WR-CALDESC:Events for Livable Raleigh
REFRESH-INTERVAL;VALUE=DURATION:PT1H
X-Robots-Tag:noindex
X-PUBLISHED-TTL:PT1H
BEGIN:VTIMEZONE
TZID:America/New_York
BEGIN:DAYLIGHT
TZOFFSETFROM:-0500
TZOFFSETTO:-0400
TZNAME:EDT
DTSTART:20240310T070000
END:DAYLIGHT
BEGIN:STANDARD
TZOFFSETFROM:-0400
TZOFFSETTO:-0500
TZNAME:EST
DTSTART:20241103T060000
END:STANDARD
BEGIN:DAYLIGHT
TZOFFSETFROM:-0500
TZOFFSETTO:-0400
TZNAME:EDT
DTSTART:20250309T070000
END:DAYLIGHT
BEGIN:STANDARD
TZOFFSETFROM:-0400
TZOFFSETTO:-0500
TZNAME:EST
DTSTART:20251102T060000
END:STANDARD
BEGIN:DAYLIGHT
TZOFFSETFROM:-0500
TZOFFSETTO:-0400
TZNAME:EDT
DTSTART:20260308T070000
END:DAYLIGHT
BEGIN:STANDARD
TZOFFSETFROM:-0400
TZOFFSETTO:-0500
TZNAME:EST
DTSTART:20261101T060000
END:STANDARD
END:VTIMEZONE
BEGIN:VEVENT
DTSTART;TZID=America/New_York:20251001T083000
DTEND;TZID=America/New_York:20251001T100000
DTSTAMP:20260419T102115
CREATED:20250830T213705Z
LAST-MODIFIED:20250925T150412Z
UID:47653-1759307400-1759312800@livableraleigh.com
SUMMARY:RHDC Research Committee
DESCRIPTION:Public Meeting – October 1\, 2025\n\n\n\nThe Research Committee of the Raleigh Historic Development Commission will conduct a public meeting on Wednesday\, October 1 at 8:30 a.m. at One Exchange Plaza\, conference room 809. \nFor questions about the meeting\, please contact historicpreservation@raleighnc.gov \n\n\n\nA.\n\nCall to Order\n\n\n\n\n\n\n\n\n\n\nThe previous meeting notes are attached. \n  \n\n\n\n\n\n\n\n\n\nB.\n\nPublic Comment\n\n\n\n\n\n\n\n\n\n\nThis is an opportunity for the public to comment on items or issues that are not otherwise on the agenda. Please limit comments to 3 minutes per speaker. \n\n\n\n\n\n\n\n\n\nC.\n\nOld Business\n\n\n\n\n\n\n\n\n\n\n\nC.1\n\n2025 Inquiry Letters for RHL\n\n\n\n\n\n\n\n\n\n\nThe Committee will review the Places Worthy of Preservation list and recently completed reports to send letters of interest. If the Committee agrees that the properties should be sent landmark inquiry letters\, the letters will be prepared and signed at the next meeting.\n .\nSee the complete list of Properties Worthy of Preservation [raleighnc.gov\, search term: “landmarks”].\n.\nRecently completed reports:\nBlack Heritage and Historic Places: 1945-1975 report [raleighnc.gov\, search term: “black heritage”]\n\nLGBTQIA+ Historic Context Study [raleighnc.gov\, search term: “lgbtq”]\n\n\n\n\n\n\n\n\n\n\n\n\n\nD.\n\nNew Business\n\n\n\n\n\n\n\n\n\n\n\nE.\n\nOther Business\n\n\n\n\n\n\n\n\n\n\n\nF.\n\nAdjournment\n\n\n\n\n\n\n\n\n\n\n\nThe Research Committee meets on the first Wednesday of the month at 8:30 a.m. in Conference Room 809\, One Exchange Plaza building. Meeting agendas are added to the BoardDocs agenda management portal.
URL:https://livableraleigh.com/event/rhdc-research-committee-40/
LOCATION:One Exchange Plaza\, 1 Exchange Plaza\, Raleigh\, NY\, 27601
CATEGORIES:Historic Development Commission
END:VEVENT
BEGIN:VEVENT
DTSTART;TZID=America/New_York:20251007T160000
DTEND;TZID=America/New_York:20251007T173000
DTSTAMP:20260419T102115
CREATED:20250909T153000Z
LAST-MODIFIED:20251002T194819Z
UID:47946-1759852800-1759858200@livableraleigh.com
SUMMARY:RHDC Community Awareness Committee
DESCRIPTION:NOTE: The City of Raleigh has launched a new agenda management portal called “eScribe” that will improve access and transparency for Raleigh Historic Development Commission meeting agendas and minutes. \nThe October 7 Community Awareness Committee agenda is now live and can be accessed through the new City Council\, Boards and Commissions: Agendas and Minutes webpage. \n\n\n\n\n\n\n\n\n\nPublic Meeting – October 7\, 2025\n\n\n\nThe Community Awareness Committee of the Raleigh Historic Development Commissionwill conduct a public meeting on Tuesday\, October 7 at 4 p.m. in conference room 809 of One Exchange Plaza\, Raleigh\, NC 27601. \nFor questions about the meeting\, please contact historicpreservation@raleighnc.gov \n\n\n\nA. \n\nCall to Order\n\n\n\n\n \n\n\n\n\n\n\nThe previous meeting notes are attached. \n\n\n\n\n\n\n\n\n\nB.\n\nPublic Comment\n\n\n\n\n\n\n\n\n\n\nThis is an opportunity for the public to comment on items or issues that are not otherwise on the agenda. Please limit comments to 3 minutes per speaker. \n\n\n\n\n\n\n\n\n\nC.\n\nOld Business\n\n\n\n\n\n\n\n\n\n\n\nC.1\n\nRHDC Website Conversion\n\n\n\n\n \n\n\n\n\n\n\nThe conversion of the RHDC’s independent website to the City of Raleigh website is an ongoing long-term project. The work is led by the City’s Historic Preservation Unit staff with assistancefrom the RHDC’s Community Awareness Committee. Any recently published webpages will be highlighted for informational purposes. \n\n\n\n\n\n\n\n\n\nC.2\n\nRHDC Landmark Cards\n\n\n\n\n \n\n\n\n\n\n\nDuring the pandemic\, the Commission designed and printed collectible trading cards for a small number of Raleigh Historic Landmark properties. The Committee will share updates on efforts to develop a more easily edited card design and discuss next steps for publishing a new series of historic landmark collectible cards. \n\n\n\n\n\n\n\n\n\n\n\nD.\n\nNew Business\n\n\n\n\n\n\n\n\n\n\n\nD.1\n\nRHDC Social Media\n\n\n\n\n \n\n\n\n\n\nThe Committee will review public engagement from the previous month to determine if additional action or attention is needed. Commissioners will select planned social media topics for the upcoming month and prepare posts.\n\n\n\n\n\n\n\n\n\n\nE.\n\nOther Business\n\n\n\n\n\n\n\n\n\n\nOther business may be discussed as needed. \n\n\n\n\n\n\n\n\n\nF.\n\nAdjournment\n\n\n\n\n\n\n\n\nThe Community Awareness Committee meets on the first Tuesday of the month at 4 p.m. at One Exchange Plaza\, conference room 809. Meeting agendas are added to the BoardDocs agenda management portal.
URL:https://livableraleigh.com/event/rhdc-community-awareness-committee-32/
LOCATION:One Exchange Plaza\, 1 Exchange Plaza\, Raleigh\, NY\, 27601
CATEGORIES:Historic Development Commission
END:VEVENT
BEGIN:VEVENT
DTSTART;TZID=America/New_York:20251008T083000
DTEND;TZID=America/New_York:20251008T103000
DTSTAMP:20260419T102115
CREATED:20250910T225559Z
LAST-MODIFIED:20251002T194615Z
UID:48075-1759912200-1759919400@livableraleigh.com
SUMMARY:Raleigh Historic Development Commission
DESCRIPTION:Public Meeting – October 8\, 2025\n\n\n\nNOTE: The City of Raleigh has launched a new agenda management portal called “eScribe” that will improve access and transparency for Raleigh Historic Development Commission meeting agendas and minutes. \nThe October 8 Raleigh Historic Development Commission agenda is now live and can be accessed through the new City Council\, Boards and Commissions: Agendas and Minuteswebpage. \n\nThe Raleigh Historic Development Commission will conduct a public meeting on Wednesday\, October 8 at 8:30 a.m. at the Raleigh Municipal Building\, 222 W. Hargett Street in the City Council Chamber. \nPublic participation is available in person and remotely via voicemail. Visit the RHDC pagefor details on how to leave a public comment. \nFor questions about the meeting\, please contact historicpreservation@raleighnc.gov \n\n\n\nA.\n\nCall to Order\n\n\n\n\n\n\n\n\n\n\n\nB.\n\nConsent Agenda\n\n\n\n\n\n\n\n\n\n\n\nB.1\n\nApproval of Minutes\n\n\n\n\n\n\n\n\n\n\nDraft minutes from the September meeting are attached. \n\n\n\n\n\n\n\n\n\n\n\nC.\n\nPublic Comment\n\n\n\n\n\n\n\n\n\n\n\nC.1\n\nPublic Comments\n\n\n\n\n\n\n\n\n\n\n\nC.2\n\nVoicemail Comments\n\n\n\n\n\n\n\n\n\n\n\n\n\nD.\n\nOld Business\n\n\n\n\n\n\n\n\n\n\n\nE.\n\nNew Business\n\n\n\n\n\n\n\n\n\n\n\nE.1\n\nRHDC Quasi-Judicial Training\n\n\n\n\n\n\n\n\n\nCity Attorney Patrick Jones will be present to provide a brief quasi-judicial training for the Commission. The UDO (Unified Development Ordinance) states that RHDC is responsible fordeciding subdivision requests in HOD-G\, HOD-S and those parcels containing Raleigh Historic Landmarks in a quasi-judicial hearing. This training is provided in anticipation of upcoming subdivision reviews.\n\n\n\n\n\n\n\n\n\n\nF.\n\nCommittee Reports\n\n\n\n\n\n\n\n\n\n\n\nF.1\n\nResearch\n\n\n\n\n\n\n\n\n\n\n\nF.2\n\nNominations\n\n\n\n\n\n\n\n\n\n\n\nF.3\n\nCertificate of Appropriateness (COA)\n\n\n\n\n\n\n\n\n\n\n\nF.4\n\nCommunity Awareness\n\n\n\n\n\n\n\n\n\n\n\n\n\nG.\n\nOther Business\n\n\n\n\n\n\n\n\n\n\n\nG.1\n\nReport of Commissioners\n\n\n\n\n\n\n\n\n\n\n\nG.2\n\nReport of Historic Preservation Unit\n\n\n\n\n\n\n\n\n\n\nThe October 8\, 2025 Report of the Historic Preservation Unit is attached. \n\n\n\n\n\n\n\n\n\n\n\nH.\n\nAdjournment\n\n\n\n\n\n\n\nThe Commission typically meets on the second Wednesday of each month at 8:30 a.m. Meeting agendas are added to the BoardDocs agenda management portal. \nRaleigh Historic Development Commission public meetings will be broadcast live on RTN 11 and on our live streaming webpage. To watch past meetings\, visit our video services page. \nAgenda and Participation\nVisit the RHDC webpage for additional information on how to participate in person or by voicemail comment.
URL:https://livableraleigh.com/event/raleigh-historic-development-commission-10/
LOCATION:Raleigh Municipal Building\, 222 W. Hargett St.\, Raleigh\, NC\, 27601\, United States
CATEGORIES:Historic Development Commission
END:VEVENT
BEGIN:VEVENT
DTSTART;TZID=America/New_York:20251023T170000
DTEND;TZID=America/New_York:20251023T200000
DTSTAMP:20260419T102115
CREATED:20250912T160011Z
LAST-MODIFIED:20251014T220045Z
UID:48166-1761238800-1761249600@livableraleigh.com
SUMMARY:RHDC Certificate of Appropriateness Committee
DESCRIPTION:A. Call to Order A.1 Roll Call \n\n\n  \n\n\n\nA.2 Approval of Agenda \nThe Committee will vote to approve of the order of the Evidentiary Hearing portion of the agenda. \n\n\n\n\n\n\nA.3 Approval of Minutes \nDraft meeting minutes with Decisions and Findings of Facts will be attached by 10/21/25. \n\n\n\n\n\n\nA.4 Minor Work Report \nA total of 10 minor works were approved from 09-11-25 to 10-07-25.\nTo view approved Minor Work COA applications\, visit the Development Approvals webpage at raleighnc.gov [search tearm: development approvals]. \n\n\n\n \n\n\n\nEvidentiary Hearings – Old Applications\nEvidentiary Hearings – New Applications\n\n\n\n   \n\n\n\nC.1 COA-0126-2025 (407 Cutler St) \nBoylan Heights Historic Overlay District (HOD-G) . \n\n\n\n\n\n1 of 2 \n\n\n\n\n\n\n\nProperty Owner: Steven and Kimberly Darroch Applicant: Steven and Kimberly Darroch \nProject Contact: Ashley Morris (Pell St Studio PLLC)\n.\nNature of Project: Construct dormer addition; alter rear fenestration; remove non-historic window on front elevation; install new window on front facade\, remove rear dormer windows and replace with patio doors; install balcony \n\n\n\n\n\n\nC.2 COA-0132-2025 (703 N Bloodworth St) \nOakwood Historic Overlay District (HOD-G)\n.\nProperty Owner: Day Peake and Jason McKenzie Applicant: Day Peake and Jason McKenzie Project Contact: Day Peake and Jason McKenzie . \nNature of Project: Remove 36″ fence; install 48″ fence; remove existing front porch balustrade; construct decorative sawnwork balustrade \n\n\n\n \n\n\nD. Other Business E. Adjourment \n\n\n  \nRHDC Certificate of Appropriateness Committee public meetings are held in the Raleigh Municipal Building\, City Council Chamber. A broadcast is available via the following methods: the city’s website; the city’s YouTube Channel or Channel RTN-11. \nAgenda and Participation\nVisit the Certificate of Appropriateness webpage for additional information and how to participate. Meeting agendas are added to the BoardDocs agenda management portal. \nPLEASE NOTE: Applications should be submitted using the city’s online Permit and Development Portal. If you have any questions about the application process or about the meeting date\, time\, etc.\, please contact staff at historicpreservation@raleighnc.gov.
URL:https://livableraleigh.com/event/rhdc-certificate-of-appropriateness-committee-34/
LOCATION:Raleigh Municipal Building\, 222 W. Hargett St.\, Raleigh\, NC\, 27601\, United States
CATEGORIES:Historic Development Commission
END:VEVENT
END:VCALENDAR