BEGIN:VCALENDAR
VERSION:2.0
PRODID:-//Livable Raleigh - ECPv6.15.20//NONSGML v1.0//EN
CALSCALE:GREGORIAN
METHOD:PUBLISH
X-ORIGINAL-URL:https://livableraleigh.com
X-WR-CALDESC:Events for Livable Raleigh
REFRESH-INTERVAL;VALUE=DURATION:PT1H
X-Robots-Tag:noindex
X-PUBLISHED-TTL:PT1H
BEGIN:VTIMEZONE
TZID:America/New_York
BEGIN:DAYLIGHT
TZOFFSETFROM:-0500
TZOFFSETTO:-0400
TZNAME:EDT
DTSTART:20240310T070000
END:DAYLIGHT
BEGIN:STANDARD
TZOFFSETFROM:-0400
TZOFFSETTO:-0500
TZNAME:EST
DTSTART:20241103T060000
END:STANDARD
BEGIN:DAYLIGHT
TZOFFSETFROM:-0500
TZOFFSETTO:-0400
TZNAME:EDT
DTSTART:20250309T070000
END:DAYLIGHT
BEGIN:STANDARD
TZOFFSETFROM:-0400
TZOFFSETTO:-0500
TZNAME:EST
DTSTART:20251102T060000
END:STANDARD
BEGIN:DAYLIGHT
TZOFFSETFROM:-0500
TZOFFSETTO:-0400
TZNAME:EDT
DTSTART:20260308T070000
END:DAYLIGHT
BEGIN:STANDARD
TZOFFSETFROM:-0400
TZOFFSETTO:-0500
TZNAME:EST
DTSTART:20261101T060000
END:STANDARD
END:VTIMEZONE
BEGIN:VEVENT
DTSTART;TZID=America/New_York:20250902T160000
DTEND;TZID=America/New_York:20250902T173000
DTSTAMP:20260419T115100
CREATED:20250726T160202Z
LAST-MODIFIED:20250828T151853Z
UID:46913-1756828800-1756834200@livableraleigh.com
SUMMARY:RHDC Community Awareness Committee
DESCRIPTION:Public Meeting – September 2\, 2025\n\n\n\nThe Community Awareness Committee of the Raleigh Historic Development Commissionwill conduct a public meeting on Tuesday\, September 2 at 4 p.m. in conference room 809 of One Exchange Plaza\, Raleigh\, NC 27601. \nFor questions about the meeting\, please contact historicpreservation@raleighnc.gov. \n\n\n\n\n\n\n\n\n\n\nThe Community Awareness Committee meets on the first Tuesday of the month at 4 p.m. at One Exchange Plaza\, conference room 809. Meeting agendas are added to the BoardDocs agenda management portal.
URL:https://livableraleigh.com/event/rhdc-community-awareness-committee-31/
LOCATION:One Exchange Plaza\, 1 Exchange Plaza\, Raleigh\, NY\, 27601
CATEGORIES:Historic Development Commission
END:VEVENT
BEGIN:VEVENT
DTSTART;TZID=America/New_York:20250903T083000
DTEND;TZID=America/New_York:20250903T100000
DTSTAMP:20260419T115100
CREATED:20250726T160703Z
LAST-MODIFIED:20250902T123249Z
UID:46917-1756888200-1756893600@livableraleigh.com
SUMMARY:RHDC Research Committee
DESCRIPTION:Public Meeting – September 3\, 2025\n\n\n\nThe Research Committee of the Raleigh Historic Development Commission will conduct a public meeting on Wednesday\, September 3 at 8:30 a.m. at One Exchange Plaza\, conference room 809. \nFor questions about the meeting\, please contact historicpreservation@raleighnc.gov \n\n1. Call to Order\n\n\nA. Call to Order and Welcome\nThis Agenda Item Contains an Attachment.\n\n\n\n\n\n2. New Business\n\n\nA. Historic Landmark Application – Morley and Carol Kare House (2204 Barfield Ct)\nThis Agenda Item Contains an Attachment.\n\n\n\n\n\n3. Old Business\n\n\nA. 2025 Inquiry Letters for RHL\n\n\n\n\n\n\n4. Public Comment\n\n\nA. This is an opportunity for the public to comment on items or issues that are not otherwise on the agenda. Please limit comments to 3 minutes per speaker.\n\n\n\n\n\n\n5. Pending Business\n\n\nA. Items not being discussed\n\n\n\n\n\n\n6. Adjournment\n\n\n\n\n\n\n\n\n\n\n\nThe Research Committee meets on the first Wednesday of the month at 8:30 a.m. in Conference Room 809\, One Exchange Plaza building. Meeting agendas are added to the BoardDocs agenda management portal.
URL:https://livableraleigh.com/event/rhdc-research-committee-39/
LOCATION:One Exchange Plaza\, 1 Exchange Plaza\, Raleigh\, NY\, 27601
CATEGORIES:Historic Development Commission
END:VEVENT
BEGIN:VEVENT
DTSTART;TZID=America/New_York:20250910T083000
DTEND;TZID=America/New_York:20250910T103000
DTSTAMP:20260419T115100
CREATED:20250726T163218Z
LAST-MODIFIED:20250904T171041Z
UID:46949-1757493000-1757500200@livableraleigh.com
SUMMARY:Raleigh Historic Development Commission
DESCRIPTION:Public Meeting – September 10\, 2025\n\n\n\nNOTE: The City of Raleigh has launched a new agenda management portal called “eScribe” that will improve access and transparency for Raleigh Historic Development Commission meeting agendas and minutes. \nThe September 10 Raleigh Historic Development Commission agenda is now live and can be accessed through the new City Council\, Boards and Commissions: Agendas and Minutes webpage. \n\nThe Raleigh Historic Development Commission will conduct a public meeting on Wednesday\, September 10 at 8:30 a.m. at the Raleigh Municipal Building\, 222 W. Hargett Street in the City Council Chamber. \nPublic participation is available in person and remotely via voicemail. Visit the RHDC pagefor details on how to leave a public comment. \nFor questions about the meeting\, please contact historicpreservation@raleighnc.gov \n\n\n\n\n\n\nAgenda\n\nA.\n\nCall to Order\n\n\n\n\n\n\n\n\n\n\nB.\n\nConsent Agenda\n\n\n\n\n\n\n\n\n\n\nB.1\n\nApproval of Minutes\n\n\n\n\n\n\n\n\n\nDraft Minutes for the August 13 regular meeting and August 18 retreat are attached. \n\n\n\n\n\n\n\n\n\n\n\nC.\n\nPublic Comment\n\n\n\n\n\n\n\n\nC.1\n\nPublic Comments\n\n\n\n\n\n\n\n\nC.2\n\nVoicemail Comments\n\n\n\n\n\n\n\n\n\n\nD.\n\nOld Business\n\n\n\n\n\n\n\n\n\n\nD.1\n\nDemolition by Neglect Investigation – 419 N Person St\n\n\n\n\n\n\n\n\n\nCollette Kinane\, Planning and Development\n.\nAt the July 9\, 2025 meeting the Commission voted to make a formal investigation of the property in light of the Demolition by Neglect Standards. Commissioners have prepared an evaluation which will be presented at the meeting and is available as an attachment.\n\n\n\n\n\n\n\n\nRecommended Action: Apply the Demolition by Neglect Standards (UDO 11.8.5) and make a determination as to whether the property is undergoing Demolition by Neglect.\n\n\n\n\n\n\n\n\nD.2\n\nAnnual Report and Work Plan\n\n\n\n\n\n\n\n\n\nTania Tully\, Planning and Development\n.\nAt the August 18 annual retreat\, RHDC approved the attached fiscal year 2025 Annual Report and fiscal year 2026 proposed Work Plan. Both will be presented to City Council on September 16 – the Annual Report as information and the Work Plan for approval.\n\n\n\n\n\n\n\n\n\n\n\nE.\n\nNew Business\n\n\n\n\n\n\n\n\nE.1\n\nRezoning Case – Z-25-25\n\n\n\n\n\n\n\n\n\nStaff Contact: Erin Morton Pugh\, Senior Preservation Planner\nArthur Cashwell\, Senior Planner\n.\nThe site is located within the Oakwood Historic Overlay District (HOD-G) and the Oakwood National Register Historic District. The property is a noncontributing property in the district containing a 2006 infill 2-½ story house and 1-story garage.\n.\nArthur Cashwell\, case planner\, will make a brief presentation on the application and its current status. Additional documentation on the case can be found on the City’s Rezoning Cases webpage (visit raleighnc.gov search term: rezoning cases). The RHDC staff memo providing additional analysis is attached.\n\n\n\n\n\n\n\n\nRecommended Action: Vote to recommend a decision on the application to City Council.\n\n\n\n\n\n\n\n\nE.2\n\nRezoning Case – Z-31-25\n\n\n\n\n\n\n\n\n\nStaff Contact: Erin Morton Pugh\, Senior Preservation Planner\nHiram Marziano\, Senior Planner\n.\nThe site is located within the Blount Street Historic Overlay District (HOD-G). The property is historic and contributing to the district. The lot contains a ca. 1930 2-½ story primary structure and 1-½ story deteriorated garage. The Blount Street HOD-G designation report is linked in the staff memo for reference.\n.\nHiram Marziano\, case planner\, will make a brief presentation on the application and its current status. Additional documentation on the case can be found on the City’s Rezoning Cases webpage (raleighnc.gov search term: rezoning cases). The RHDC staff memo providing additional analysis is attached.\n\n\n\n\n\n\n\n\nRecommended Action: Vote to recommend a decision on the application to City Council.\n\n\n\n\n\n\n\n\nE.3\n\nApplication for Historic Landmark Designation – Morley and Carol Kare House – 2204 Barfield Ct\n\n\n\n\n\n\n\n\n\nCollette Kinane\, Planning and Development\n.\nOne historic landmark designation application has been received:\n.\nMorley and Carol Kare House\, 2204 Barfield Ct\n.\nA short presentation will be made on the proposed designation.\n.\nCriteria for Designation\nNo building\, structure\, site\, area or object shall be recommended for designation as a historic landmark unless it is deemed and found by the Historic Development Commission to be of special significance in terms of its historical\, prehistorical\, architectural\, archaeological and cultural importance and to possess integrity of design\, setting\, workmanship\, materials\, feeling and association.\n\n\n\n\n\n\n\n\nRecommended Action:Vote to recommend to the City Council that the application be referred to the Department of Natural and Cultural Resources\, Division of Archives and History for its analysis and comments and to authorize a joint public hearing.\n\n\n\n\n\n\n\n\nE.4\n\nPreservation and RHDC Text Change\n\n\n\n\n\n\n\n\n\nTania Tully\, Planning and Development\n.\nA draft ordinance for changes to the historic preservation related sections of the Unified Development Ordinance (UDO) has been prepared. The amendment is largely based on ensuring that these sections align with state law; specifically\, N.C. General Statutes Chapter 160D. The text change also addresses staff identified issues in the code that warranted further review and revision. Staff will present the proposed changes and the review process. The draft ordinance and a staff memo are attached.\n\n\n\n\n\n\n\n\nRecommended Action: Vote to recommend to the Planning Commission approval of the text change\, approval with edits\, or defer action to the October 8\, 2025 meeting.\n\n\n\n\n\n\n\n\n\n\nF.\n\nCommittee Reports\n\n\n\n\n\n\n\n\nF.1\n\nResearch\n\n\n\n\n\n\n\n\n\nDavid Serxner\, Chair will report on recent Committee activity. \n\n\n\n\n\n\n\n\n\nF.2\n\nCommunity Awareness\n\n\n\n\n\n\n\n\n\nJon Anderson\, Chair will report on recent Committee activity. \n\n\n\n\n\n\n\n\n\nF.3\n\nCertificate of Appropriateness (COA)\n\n\n\n\n\n\nWes Tripp\, Chair will report on recent Committee activity. \n\n\n\n\n\n\n\n\n\n\n\nG.\n\nOther Business\n\n\n\n\n\n\n\n\nG.1\n\nReport of Commissioners\n\n\n\n\n\n\n\n\nG.2\n\nReport of Historic Preservation Unit\n\n\n\n\n\n\n\n\n\nThe September 10\, 2025 Report of the Historic Preservtaion Unit is attached. \n\n\n\n\n\n\n\n\n\n\n\nH.\n\nAdjournment\n\n\n\n\n\n\n\nThe Commission typically meets on the second Wednesday of each month at 8:30 a.m. Meeting agendas are added to the BoardDocs agenda management portal. \nRaleigh Historic Development Commission public meetings will be broadcast live on RTN 11 and on our live streaming webpage. To watch past meetings\, visit our video services page. \nAgenda and Participation\nVisit the RHDC webpage for additional information on how to participate in person or by voicemail comment.
URL:https://livableraleigh.com/event/raleigh-historic-development-commission-9/
LOCATION:Raleigh Municipal Building\, 222 W. Hargett St.\, Raleigh\, NC\, 27601\, United States
CATEGORIES:Historic Development Commission
END:VEVENT
BEGIN:VEVENT
DTSTART;TZID=America/New_York:20250925T170000
DTEND;TZID=America/New_York:20250925T200000
DTSTAMP:20260419T115100
CREATED:20250726T171921Z
LAST-MODIFIED:20250913T013232Z
UID:46992-1758819600-1758830400@livableraleigh.com
SUMMARY:RHDC Certificate of Appropriateness Committee
DESCRIPTION:RHDC Certificate of Appropriateness Committee public meetings are held in the Raleigh Municipal Building\, City Council Chamber. A broadcast is available via the following methods: the city’s website; the city’s YouTube Channel or Channel RTN-11. \nAgenda and Participation\nVisit the Certificate of Appropriateness webpage for additional information and how to participate. Meeting agendas are added to the BoardDocs agenda management portal. \nPLEASE NOTE: Applications should be submitted using the city’s online Permit and Development Portal. If you have any questions about the application process or about the meeting date\, time\, etc.\, please contact staff at historicpreservation@raleighnc.gov. \n\nA. Call to Order – Chair\n\n\n1. Roll Call\n\n\n2. Approval of Agenda\n\n\n3. Approval of Minutes: August 28\, 2025\n\n\n4. Minor Work Report\nThis Agenda Item Contains an Attachment.\n\n\n\n\n\nB. Evidentiary Hearings – Old Applications\n\n\n1. COA-0082-2025: 810-816 BROOKLYN ST\nThis Agenda Item Contains an Attachment.\n\n\n\n\n\nC. Evidentiary Hearings – New Applications\n\n\n1. COA-0117-2025: 920 W LENOIR ST\nThis Agenda Item Contains an Attachment.\n\n\n\n\n\nD. Other Business\n\n\n1. Committee Discussion\n\n\n\n\n\n\nE. Adjourment
URL:https://livableraleigh.com/event/rhdc-certificate-of-appropriateness-committee-33/
LOCATION:Raleigh Municipal Building\, 222 W. Hargett St.\, Raleigh\, NC\, 27601\, United States
CATEGORIES:Historic Development Commission
END:VEVENT
END:VCALENDAR