BEGIN:VCALENDAR
VERSION:2.0
PRODID:-//Livable Raleigh - ECPv6.15.20//NONSGML v1.0//EN
CALSCALE:GREGORIAN
METHOD:PUBLISH
X-WR-CALNAME:Livable Raleigh
X-ORIGINAL-URL:https://livableraleigh.com
X-WR-CALDESC:Events for Livable Raleigh
REFRESH-INTERVAL;VALUE=DURATION:PT1H
X-Robots-Tag:noindex
X-PUBLISHED-TTL:PT1H
BEGIN:VTIMEZONE
TZID:America/New_York
BEGIN:DAYLIGHT
TZOFFSETFROM:-0500
TZOFFSETTO:-0400
TZNAME:EDT
DTSTART:20240310T070000
END:DAYLIGHT
BEGIN:STANDARD
TZOFFSETFROM:-0400
TZOFFSETTO:-0500
TZNAME:EST
DTSTART:20241103T060000
END:STANDARD
BEGIN:DAYLIGHT
TZOFFSETFROM:-0500
TZOFFSETTO:-0400
TZNAME:EDT
DTSTART:20250309T070000
END:DAYLIGHT
BEGIN:STANDARD
TZOFFSETFROM:-0400
TZOFFSETTO:-0500
TZNAME:EST
DTSTART:20251102T060000
END:STANDARD
BEGIN:DAYLIGHT
TZOFFSETFROM:-0500
TZOFFSETTO:-0400
TZNAME:EDT
DTSTART:20260308T070000
END:DAYLIGHT
BEGIN:STANDARD
TZOFFSETFROM:-0400
TZOFFSETTO:-0500
TZNAME:EST
DTSTART:20261101T060000
END:STANDARD
END:VTIMEZONE
BEGIN:VEVENT
DTSTART;TZID=America/New_York:20250701T160000
DTEND;TZID=America/New_York:20250701T173000
DTSTAMP:20260419T150013
CREATED:20250530T032359Z
LAST-MODIFIED:20250625T143518Z
UID:45819-1751385600-1751391000@livableraleigh.com
SUMMARY:RHDC Community Awareness Committee -- CANCELLED
DESCRIPTION:The Community Awareness Committee meets on the first Tuesday of the month at 4 p.m. at One Exchange Plaza\, conference room 809. Meeting agendas are added to the BoardDocs agenda management portal.
URL:https://livableraleigh.com/event/rhdc-community-awareness-committee-29/
LOCATION:One Exchange Plaza\, 1 Exchange Plaza\, Raleigh\, NY\, 27601
CATEGORIES:Historic Development Commission
END:VEVENT
BEGIN:VEVENT
DTSTART;TZID=America/New_York:20250702T083000
DTEND;TZID=America/New_York:20250702T100000
DTSTAMP:20260419T150013
CREATED:20250530T032631Z
LAST-MODIFIED:20250630T134742Z
UID:45823-1751445000-1751450400@livableraleigh.com
SUMMARY:RHDC Research Committee
DESCRIPTION:The Research Committee of the Raleigh Historic Development Commission will conduct a public meeting on Wednesday\, July 2 at 8:30 a.m. at One Exchange Plaza\, conference room 809. \nFor questions about the meeting\, please contact historicpreservation@raleighnc.gov \n\n1. Call to Order\n\n\nA. Call to Order and Welcome\n\n\n\n\n\n\n2. Old Business\n\n\nA. RHDC Work Plan – Preserving Black Churches Project\n\n\n\n\n\n\n3. New Business\n\n\nA. Historic Landmark Application – State Capital Holiday Inn (320 Hillsborough St)\nThis Agenda Item Contains an Attachment.\n\nB. 2025 Inquiry Letters for RHL\nThis Agenda Item Contains an Attachment.\n\n\n\n\n\n4. Public Comment\n\n\nA. This is an opportunity for the public to comment on items or issues that are not otherwise on the agenda. Please limit comments to 3 minutes per speaker.\n\n\n\n\n\n\n5. Pending Business\n\n\nA. Items not being discussed\n\n\n\n\n\n\n6. Adjournment\n\nThe Research Committee meets on the first Wednesday of the month at 8:30 a.m. in Conference Room 809\, One Exchange Plaza building. Meeting agendas are added to the BoardDocs agenda management portal.
URL:https://livableraleigh.com/event/rhdc-research-committee-37/
LOCATION:One Exchange Plaza\, 1 Exchange Plaza\, Raleigh\, NY\, 27601
CATEGORIES:Historic Development Commission
END:VEVENT
BEGIN:VEVENT
DTSTART;TZID=America/New_York:20250709T083000
DTEND;TZID=America/New_York:20250709T103000
DTSTAMP:20260419T150013
CREATED:20250530T033535Z
LAST-MODIFIED:20250702T162620Z
UID:45837-1752049800-1752057000@livableraleigh.com
SUMMARY:Raleigh Historic Development Commission
DESCRIPTION:The Raleigh Historic Development Commission will conduct a public meeting on Wednesday\, July 9 at 8:30 a.m. at the Raleigh Municipal Building\, 222 W. Hargett Street in the City Council Chamber. \nPublic participation is available in person and remotely via voicemail. Visit the RHDC pagefor details on how to leave a public comment. \nFor questions about the meeting\, please contact historicpreservation@raleighnc.gov \n\n1. Call to Order\n\n\nA. Roll Call\n\n\n\n\n\n\n2. Consent Items\n\n\nA. Approval of Minutes\nThis Agenda Item Contains an Attachment.\n\n\n\n\n\n3. Public Comment\n\n\nA. Public Comment – Limit to 3 minutes\n\n\nB. Voice Mail Public Comment\n\n\n\n\n\n\n4. Old Business\n\n\nA. Historic Landmark Designation Application: Bill and Betty Weber House\nThis Agenda Item Contains an Attachment.\n\n\n\n\n\n5. New Business\n\n\nA. Demolition by Neglect: 419 N Person St\nThis Agenda Item Contains an Attachment.\n\nB. Demolition by Neglect: 304 E Jones St\nThis Agenda Item Contains an Attachment.\n\n\n\n\n\n6. Committee Reports\n\n\nA. Research\n\n\nB. Community Awareness\n\n\nC. Certificate of Appropriateness\n\n\n\n\n\n\n7. Other Business\n\n\nA. Report of Commissioners\n\n\nB. Report of Historic Preservation Unit\nThis Agenda Item Contains an Attachment.\n\n\n\n\n\n8. Adjournment\n\n\nA. Adjourn Meeting\n\n\n\nThe Commission typically meets on the second Wednesday of each month at 8:30 a.m. Meeting agendas are added to the BoardDocs agenda management portal. \nRaleigh Historic Development Commission public meetings will be broadcast live on RTN 11 and on our live streaming webpage. To watch past meetings\, visit our video services page. \nAgenda and Participation\nVisit the RHDC webpage for additional information on how to participate in person or by voicemail comment.
URL:https://livableraleigh.com/event/raleigh-historic-development-commission-7/
LOCATION:Raleigh Municipal Building\, 222 W. Hargett St.\, Raleigh\, NC\, 27601\, United States
CATEGORIES:Historic Development Commission
END:VEVENT
BEGIN:VEVENT
DTSTART;TZID=America/New_York:20250724T170000
DTEND;TZID=America/New_York:20250724T200000
DTSTAMP:20260419T150013
CREATED:20250530T040320Z
LAST-MODIFIED:20250724T170749Z
UID:45855-1753376400-1753387200@livableraleigh.com
SUMMARY:RHDC Certificate of Appropriateness Committee
DESCRIPTION:A. Call to Order – Chair\n\n\n1. Roll Call\n\n\n2. Approval of Agenda\n\n\n3. Approval of Minutes: June 26\, 2025\nThis Agenda Item Contains an Attachment.\n\n4. Minor Work Report\nThis Agenda Item Contains an Attachment.\n\n\n\n\n\nB. Evidentiary Hearings – New Applications\n\n\n1. COA-0078-2025: 1101 HILLSBOROUGH ST\nThis Agenda Item Contains an Attachment.\n\n2. COA-0080-2025: 603 ELM ST\nThis Agenda Item Contains an Attachment.\n\n3. COA-0082-2025: 810-816 BROOKLYN ST\nThis Agenda Item Contains an Attachment.\n\n\n\n\n\nC. Other Business\n\n\n1. Committee Discussion\n\n\n\n\n\n\nD. Adjourment\n\n\n1. Adjourn Meeting\n\n\n\nRHDC Certificate of Appropriateness Committee public meetings are held in the Raleigh Municipal Building\, City Council Chamber. A broadcast is available via the following methods: the city’s website; the city’s YouTube Channel or Channel RTN-11. \nAgenda and Participation\nVisit the Certificate of Appropriateness webpage for additional information and how to participate. Meeting agendas are added to the BoardDocs agenda management portal. \nPLEASE NOTE: Applications should be submitted using the city’s online Permit and Development Portal. If you have any questions about the application process or about the meeting date\, time\, etc.\, please contact staff at historicpreservation@raleighnc.gov.
URL:https://livableraleigh.com/event/rhdc-certificate-of-appropriateness-committee-31/
LOCATION:Raleigh Municipal Building\, 222 W. Hargett St.\, Raleigh\, NC\, 27601\, United States
CATEGORIES:Historic Development Commission
END:VEVENT
END:VCALENDAR