BEGIN:VCALENDAR
VERSION:2.0
PRODID:-//Livable Raleigh - ECPv6.15.20//NONSGML v1.0//EN
CALSCALE:GREGORIAN
METHOD:PUBLISH
X-ORIGINAL-URL:https://livableraleigh.com
X-WR-CALDESC:Events for Livable Raleigh
REFRESH-INTERVAL;VALUE=DURATION:PT1H
X-Robots-Tag:noindex
X-PUBLISHED-TTL:PT1H
BEGIN:VTIMEZONE
TZID:America/New_York
BEGIN:DAYLIGHT
TZOFFSETFROM:-0500
TZOFFSETTO:-0400
TZNAME:EDT
DTSTART:20240310T070000
END:DAYLIGHT
BEGIN:STANDARD
TZOFFSETFROM:-0400
TZOFFSETTO:-0500
TZNAME:EST
DTSTART:20241103T060000
END:STANDARD
BEGIN:DAYLIGHT
TZOFFSETFROM:-0500
TZOFFSETTO:-0400
TZNAME:EDT
DTSTART:20250309T070000
END:DAYLIGHT
BEGIN:STANDARD
TZOFFSETFROM:-0400
TZOFFSETTO:-0500
TZNAME:EST
DTSTART:20251102T060000
END:STANDARD
BEGIN:DAYLIGHT
TZOFFSETFROM:-0500
TZOFFSETTO:-0400
TZNAME:EDT
DTSTART:20260308T070000
END:DAYLIGHT
BEGIN:STANDARD
TZOFFSETFROM:-0400
TZOFFSETTO:-0500
TZNAME:EST
DTSTART:20261101T060000
END:STANDARD
END:VTIMEZONE
BEGIN:VEVENT
DTSTART;TZID=America/New_York:20250503T100000
DTEND;TZID=America/New_York:20250503T120000
DTSTAMP:20260419T181131
CREATED:20250410T155545Z
LAST-MODIFIED:20250410T155545Z
UID:44715-1746266400-1746273600@livableraleigh.com
SUMMARY:Raleigh Historic Bike Ride with RHDC & BPAC
DESCRIPTION:Saturday\, May 3 (Rain Date if needed: May 10)\nNash Square Park\n10 a.m. to noon \nMay is Preservation Month and Bike Month! Hop on your bike for a ride into history. The 2ndannual Raleigh Historic Bike Ride will feature a 4-mile route including stops at six sites identified in our recently completed LGBTQIA+ Historic Context Study! RHDC volunteers at each site will share a brief history of the property. The stops include: \n\nNash Square Park\, NW corner (200 S McDowell St)\nSir Walter Raleigh Hotel (400 Fayetteville St)\nCameron Court Apartments (905 Hillsborough St)\nWomen’s Culture Collective Coffeehouse (119 Hawthorne Rd)\nPullen Memorial Baptist Church (1805 Hillsborough St)\nLegends Nightclub (330 W Hargett St)\n\nThis ride is being held by the Raleigh Historic Development Commission (RHDC)\, in partnership with the Bicycle and Pedestrian Advisory Commission (BPAC) and Raleigh Sister Cities. \nCome Prepared: \nThe ride will begin and end at the northwest corner of Nash Square Park. Riders are encouraged to bring their own bikes and helmets. Free Cardinal Share e-bikes will also be available. \nWater and restrooms are not provided before/after the ride or along the route – please plan accordingly. \nREGISTER TO ATTEND
URL:https://livableraleigh.com/event/raleigh-historic-bike-ride-with-rhdc-bpac/
LOCATION:Nash Square\, 200 S McDowell St\, Raleigh\, 27601\, United States
CATEGORIES:Bicycle & Pedestrian Advisory Commission,Engagement Filter,Historic Development Commission
END:VEVENT
BEGIN:VEVENT
DTSTART;TZID=America/New_York:20250506T160000
DTEND;TZID=America/New_York:20250506T173000
DTSTAMP:20260419T181131
CREATED:20250404T002702Z
LAST-MODIFIED:20250502T153638Z
UID:44552-1746547200-1746552600@livableraleigh.com
SUMMARY:RHDC Community Awareness Committee
DESCRIPTION:Public Meeting – May 6\, 2025\n\n\n\nThe Community Awareness Committee of the Raleigh Historic Development Commissionwill conduct a public meeting on Tuesday\, May 6 at 4 p.m. in conference room 809 of One Exchange Plaza\, Raleigh\, NC 27601. \nFor questions about the meeting\, please contact historicpreservation@raleighnc.gov. \n\n1. Call to Order\n\n\nA. Call to Order and Welcome\nThis Agenda Item Contains an Attachment.\n\n\n\n\n\n2. Public Comment\n\n\nA. This is an opportunity for the public to comment on items or issues that are not otherwise on the agenda. Please limit comments to 3 minutes per speaker\n\n\n\n\n\n\n3. Old Business\n\n\nA. Raleigh Historic Bike Ride\n\n\n\n\n\n\n4. New Business\n\n\nA. Out! Raleigh Pride Tabling\n\n\nB. RHDC Social Media Calendar\n\n\nC. SWAG Items\n\n\n\n\n\n\n5. Other Business\n\n\nA. Pending Discussion Items\n\n\n\n\n\n\n6. Adjournment\n\n\n\n\nThe Community Awareness Committee meets on the first Tuesday of the month at 4 p.m. at One Exchange Plaza\, conference room 809. Meeting agendas are added to the BoardDocs agenda management portal.
URL:https://livableraleigh.com/event/rhdc-community-awareness-committee-27/
LOCATION:One Exchange Plaza\, 1 Exchange Plaza\, Raleigh\, NY\, 27601
CATEGORIES:Historic Development Commission
END:VEVENT
BEGIN:VEVENT
DTSTART;TZID=America/New_York:20250507T083000
DTEND;TZID=America/New_York:20250507T100000
DTSTAMP:20260419T181131
CREATED:20250404T002905Z
LAST-MODIFIED:20250404T002905Z
UID:44556-1746606600-1746612000@livableraleigh.com
SUMMARY:RHDC Research Committee
DESCRIPTION:The Research Committee meets on the first Wednesday of the month at 8:30 a.m. in Conference Room 108\, Suite 100 of the One Exchange Plaza building. Meeting agendas are added to the BoardDocs agenda management portal.
URL:https://livableraleigh.com/event/rhdc-research-committee-31/
LOCATION:One Exchange Plaza\, 1 Exchange Plaza\, Raleigh\, NY\, 27601
CATEGORIES:Historic Development Commission
END:VEVENT
BEGIN:VEVENT
DTSTART;TZID=America/New_York:20250513T160000
DTEND;TZID=America/New_York:20250513T170000
DTSTAMP:20260419T181131
CREATED:20250404T205246Z
LAST-MODIFIED:20250507T124550Z
UID:44581-1747152000-1747155600@livableraleigh.com
SUMMARY:RHDC Nominations Committee -- Canceled
DESCRIPTION:The Nominations Committee for the Raleigh Historic Development Commission (RHDC) generally meets on the second Tuesday of the month at 4 p.m. January through May (and some special meetings throughout the year) in conference room 108\, Suite 100 of the One Exchange Plaza building. Meeting agendas are added to the BoardDocs agenda management portal.
URL:https://livableraleigh.com/event/rhdc-nominations-committee-16/
LOCATION:One Exchange Plaza\, 1 Exchange Plaza\, Raleigh\, NY\, 27601
CATEGORIES:Historic Development Commission
END:VEVENT
BEGIN:VEVENT
DTSTART;TZID=America/New_York:20250514T083000
DTEND;TZID=America/New_York:20250514T103000
DTSTAMP:20260419T181131
CREATED:20250404T205503Z
LAST-MODIFIED:20250507T124642Z
UID:44585-1747211400-1747218600@livableraleigh.com
SUMMARY:Raleigh Historic Development Commission -- Canceled
DESCRIPTION:The Commission typically meets on the second Wednesday of each month at 8:30 a.m. Meeting agendas are added to the BoardDocs agenda management portal. \nRaleigh Historic Development Commission public meetings will be broadcast live on RTN 11 and on our live streaming webpage. To watch past meetings\, visit our video services page. \nAgenda and Participation\nVisit the RHDC webpage for additional information on how to participate in person or by voicemail comment.
URL:https://livableraleigh.com/event/raleigh-historic-development-commission-5/
LOCATION:Raleigh Municipal Building\, 222 W. Hargett St.\, Raleigh\, NC\, 27601\, United States
CATEGORIES:Historic Development Commission
END:VEVENT
BEGIN:VEVENT
DTSTART;TZID=America/New_York:20250521T083000
DTEND;TZID=America/New_York:20250521T100000
DTSTAMP:20260419T181131
CREATED:20250510T015706Z
LAST-MODIFIED:20250519T192826Z
UID:45313-1747816200-1747821600@livableraleigh.com
SUMMARY:RHDC Research Committee
DESCRIPTION:Public Meeting – May 21\, 2025\n\n\n\nThe Research Committee of the Raleigh Historic Development Commission will conduct a public meeting on Wednesday\, May 21 at 8:30 a.m. at One Exchange Plaza\, Suite 301\, Nash conference room. \nFor questions about the meeting\, please contact historicpreservation@raleighnc.gov \n\n1. Call to Order\n\n\nA. Call to Order and Welcome\n\n\n\n\n\n\n2. New Business\n\n\nA. RHDC Work Plan – Preserving Black Churches Project\nThis Agenda Item Contains an Attachment.\n\n\n\n\n\n3. Public Comment\n\n\nA. This is an opportunity for the public to comment on items or issues that are not otherwise on the agenda. Please limit comments to 3 minutes per speaker.\n\n\n\n\n\n\n4. Pending Business\n\n\nA. Items not being discussed\n\n\n\n\n\n\n5. Adjournment\n\n\n\n\nThe Research Committee meets on the first Wednesday of the month at 8:30 a.m. in Nash Conference Room\, Suite 300 of the One Exchange Plaza building. Meeting agendas are added to the BoardDocs agenda management portal.
URL:https://livableraleigh.com/event/rhdc-research-committee-35/
LOCATION:One Exchange Plaza\, 1 Exchange Plaza\, Raleigh\, NY\, 27601
CATEGORIES:Historic Development Commission
END:VEVENT
BEGIN:VEVENT
DTSTART;TZID=America/New_York:20250522T170000
DTEND;TZID=America/New_York:20250522T200000
DTSTAMP:20260419T181131
CREATED:20250404T231451Z
LAST-MODIFIED:20250521T143741Z
UID:44621-1747933200-1747944000@livableraleigh.com
SUMMARY:RHDC Certificate of Appropriateness Committee
DESCRIPTION:A. Call to Order – Chair\n\n\n1. Roll Call\n\n\n2. Approval of Agenda\n\n\n3. Approval of Minutes: April 24\, 2025\nThis Agenda Item Contains an Attachment.\n\n4. Minor Work Report\nThis Agenda Item Contains an Attachment.\n\n\n\n\n\nB. Evidentiary Hearings – New Applications\n\n\n1. COA-0022-2025: 404 N BLOODWORTH ST\nThis Agenda Item Contains an Attachment.\n\n2. COA-0047-2025: 616 N EAST ST\nThis Agenda Item Contains an Attachment.\n\n3. COA-0048-2025: 111 N BLOODWORTH ST\nThis Agenda Item Contains an Attachment.\n\n4. COA-0051-2025: 208 E LENOIR ST\nThis Agenda Item Contains an Attachment.\n\n\n\n\n\nC. Other Business\n\n\n1. Committee Discussion\n\n\n\n\n\n\nD. Adjourment\n\n\n1. Adjourn Meeting\n\n\n\nRHDC Certificate of Appropriateness Committee public meetings are held in the Raleigh Municipal Building\, City Council Chamber. A broadcast is available via the following methods: the city’s website; the city’s YouTube Channel or Channel RTN-11. \nAgenda and Participation\nVisit the Certificate of Appropriateness webpage for additional information and how to participate. Meeting agendas are added to the BoardDocs agenda management portal. \nPLEASE NOTE: Applications should be submitted using the city’s online Permit and Development Portal. If you have any questions about the application process or about the meeting date\, time\, etc.\, please contact staff at historicpreservation@raleighnc.gov.
URL:https://livableraleigh.com/event/rhdc-certificate-of-appropriateness-committee-29/
LOCATION:Raleigh Municipal Building\, 222 W. Hargett St.\, Raleigh\, NC\, 27601\, United States
CATEGORIES:Historic Development Commission
END:VEVENT
BEGIN:VEVENT
DTSTART;TZID=America/New_York:20250528T083000
DTEND;TZID=America/New_York:20250528T100000
DTSTAMP:20260419T181131
CREATED:20250510T015852Z
LAST-MODIFIED:20250523T184417Z
UID:45315-1748421000-1748426400@livableraleigh.com
SUMMARY:RHDC Research Committee
DESCRIPTION:Special Meeting – May 28\, 2025\n\n\n\nThe Research Committee of the Raleigh Historic Development Commission will conduct a public meeting on Wednesday\, May 28 at 9:00 a.m. at St. Paul AME Church\, 402 W Edenton St. \nFor questions about the meeting\, please contact historicpreservation@raleighnc.gov \n\n1. Call to Order\n\n\nA. Call to Order and Welcome\n\n\n\n\n\n\n2. New Business\n\n\nA. RHDC Work Plan – Preserving Black Churches Project\nThis Agenda Item Contains an Attachment.\n\n\n\n\n\n3. Public Comment\n\n\nA. This is an opportunity for the public to comment on items or issues that are not otherwise on the agenda. Please limit comments to 3 minutes per speaker.\n\n\n\n\n\n\n4. Pending Business\n\n\nA. Items not being discussed\n\n\n\n\n\n\n5. Adjournment\n\n\n\n\nThe Research Committee meets on the first Wednesday of the month at 8:30 a.m. in Nash Conference Room\, Suite 300 of the One Exchange Plaza building. Meeting agendas are added to the BoardDocs agenda management portal.
URL:https://livableraleigh.com/event/rhdc-research-committee-36/
LOCATION:One Exchange Plaza\, 1 Exchange Plaza\, Raleigh\, NY\, 27601
CATEGORIES:Historic Development Commission
END:VEVENT
END:VCALENDAR