BEGIN:VCALENDAR
VERSION:2.0
PRODID:-//Livable Raleigh - ECPv6.15.20//NONSGML v1.0//EN
CALSCALE:GREGORIAN
METHOD:PUBLISH
X-WR-CALNAME:Livable Raleigh
X-ORIGINAL-URL:https://livableraleigh.com
X-WR-CALDESC:Events for Livable Raleigh
REFRESH-INTERVAL;VALUE=DURATION:PT1H
X-Robots-Tag:noindex
X-PUBLISHED-TTL:PT1H
BEGIN:VTIMEZONE
TZID:America/New_York
BEGIN:DAYLIGHT
TZOFFSETFROM:-0500
TZOFFSETTO:-0400
TZNAME:EDT
DTSTART:20240310T070000
END:DAYLIGHT
BEGIN:STANDARD
TZOFFSETFROM:-0400
TZOFFSETTO:-0500
TZNAME:EST
DTSTART:20241103T060000
END:STANDARD
BEGIN:DAYLIGHT
TZOFFSETFROM:-0500
TZOFFSETTO:-0400
TZNAME:EDT
DTSTART:20250309T070000
END:DAYLIGHT
BEGIN:STANDARD
TZOFFSETFROM:-0400
TZOFFSETTO:-0500
TZNAME:EST
DTSTART:20251102T060000
END:STANDARD
BEGIN:DAYLIGHT
TZOFFSETFROM:-0500
TZOFFSETTO:-0400
TZNAME:EDT
DTSTART:20260308T070000
END:DAYLIGHT
BEGIN:STANDARD
TZOFFSETFROM:-0400
TZOFFSETTO:-0500
TZNAME:EST
DTSTART:20261101T060000
END:STANDARD
END:VTIMEZONE
BEGIN:VEVENT
DTSTART;TZID=America/New_York:20250401T160000
DTEND;TZID=America/New_York:20250401T170000
DTSTAMP:20260419T192905
CREATED:20250302T002732Z
LAST-MODIFIED:20250331T150357Z
UID:43883-1743523200-1743526800@livableraleigh.com
SUMMARY:RHDC Nominations Committee -- Updated
DESCRIPTION:The April meeting originally scheduled for April 8 has been moved to April 1. \nPublic Meeting – April 1\, 2025\n\n\n\nThe Nominations Committee of the Raleigh Historic Development Commission will conduct a public meeting on Tuesday\, April 1 at 8:30 a.m. in conference room 809\, 8th floor of One Exchange Plaza\, Raleigh\, NC 27601. \nFor questions about the meeting\, please contact historicpreservation@raleighnc.gov. \n\n1. Call to Order\n\n\n1.01 Call to Order and Welcome\n\n\n\n\n\n\n2. New Business\n\n\n2.01 Upcoming Vacancies\n\n\n\n\n\n\n3. Adjournment\n\n\n\n\nThe Nominations Committee for the Raleigh Historic Development Commission (RHDC) generally meets on the second Tuesday of the month at 4 p.m. January through May (and some special meetings throughout the year) in conference room 108\, Suite 100 of the One Exchange Plaza building. Meeting agendas are added to the BoardDocs agenda management portal.
URL:https://livableraleigh.com/event/rhdc-nominations-committee-15/
LOCATION:One Exchange Plaza\, 1 Exchange Plaza\, Raleigh\, NY\, 27601
CATEGORIES:Historic Development Commission
END:VEVENT
BEGIN:VEVENT
DTSTART;TZID=America/New_York:20250401T160000
DTEND;TZID=America/New_York:20250401T173000
DTSTAMP:20260419T192905
CREATED:20250302T000143Z
LAST-MODIFIED:20250327T222124Z
UID:43857-1743523200-1743528600@livableraleigh.com
SUMMARY:RHDC Community Awareness Committee
DESCRIPTION:Public Meeting – April 1\, 2025\n\n\n\nThe Community Awareness Committee of the Raleigh Historic Development Commissionwill conduct a public meeting on Tuesday\, April 1 at 4 p.m. in the conference room 809 of One Exchange Plaza\, Raleigh\, NC 27601. \nFor questions about the meeting\, please contact historicpreservation@raleighnc.gov. \n\n\n\n1. Call to Order\n\n\nA. Call to Order and Welcome\nThis Agenda Item Contains an Attachment.\n\n\n\n\n\n2. Public Comment\n\n\nA. This is an opportunity for the public to comment on items or issues that are not otherwise on the agenda. Please limit comments to 3 minutes per speaker\n\n\n\n\n\n\n3. Old Business\n\n\nA. Raleigh Historic Bike Ride\n\n\n\n\n\n\n4. New Business\n\n\nA. RHDC Social Media Calendar\n\n\n\n\n\n\n5. Other Business\n\n\nA. SWAG Items\n\n\nB. Pending Discussion Items\n\n\n\n\n\n\n6. Adjournment\n\nThe Community Awareness Committee meets on the first Tuesday of the month at 4:00 p.m. in Conference Room 108\, Suite 100 of the One Exchange Plaza building. Meeting agendas are added to the BoardDocs agenda management portal.
URL:https://livableraleigh.com/event/rhdc-community-awareness-committee-26/
LOCATION:One Exchange Plaza\, 1 Exchange Plaza\, Raleigh\, NY\, 27601
CATEGORIES:Historic Development Commission
END:VEVENT
BEGIN:VEVENT
DTSTART;TZID=America/New_York:20250402T083000
DTEND;TZID=America/New_York:20250402T100000
DTSTAMP:20260419T192905
CREATED:20250302T001024Z
LAST-MODIFIED:20250329T105853Z
UID:43861-1743582600-1743588000@livableraleigh.com
SUMMARY:RHDC Research Committee
DESCRIPTION:Public Meeting – April 2\, 2025\n\n\n\nThe Research Committee of the Raleigh Historic Development Commission will conduct a public meeting on Wednesday\, April 2 at 8:30 a.m. at One Exchange Plaza\, Suite 301\, Nash conference room. \nFor questions about the meeting\, please contact historicpreservation@raleighnc.gov \n\n1. Call to Order\n\n\nA. Call to Order and Welcome\n\n\n\n\n\n\n2. New Business\n\n\nA. RHL Pre-Application Review – House (415 Cutler Street)\nThis Agenda Item Contains an Attachment.\n\nB. RHDC Work Plan – Preserving Black Churches Project\nThis Agenda Item Contains an Attachment.\n\n\n\n\n\n3. Public Comment\n\n\nA. This is an opportunity for the public to comment on items or issues that are not otherwise on the agenda. Please limit comments to 3 minutes per speaker.\n\n\n\n\n\n\n4. Pending Business\n\n\nA. Items not being discussed\n\n\n\n\n\n\n5. Adjournment\n\n\n\n\nThe Research Committee meets on the first Wednesday of the month at 8:30 a.m. in Conference Room 108\, Suite 100 of the One Exchange Plaza building. Meeting agendas are added to the BoardDocs agenda management portal.
URL:https://livableraleigh.com/event/rhdc-research-committee-29/
LOCATION:One Exchange Plaza\, 1 Exchange Plaza\, Raleigh\, NY\, 27601
CATEGORIES:Historic Development Commission
END:VEVENT
BEGIN:VEVENT
DTSTART;TZID=America/New_York:20250409T083000
DTEND;TZID=America/New_York:20250409T103000
DTSTAMP:20260419T192905
CREATED:20250302T003057Z
LAST-MODIFIED:20250403T171846Z
UID:43887-1744187400-1744194600@livableraleigh.com
SUMMARY:Raleigh Historic Development Commission
DESCRIPTION:Public Meeting – April 9\, 2025\n\n\n\nThe Raleigh Historic Development Commission will conduct a public meeting on Wednesday\, April 9 at 8:30 a.m. at the Raleigh Municipal Building\, 222 W. Hargett Street in the in the City Council Chamber. \nPublic participation is available in person and remotely via voicemail. Visit the RHDC pagefor details on how to leave a public comment. \nFor questions about the meeting\, please contact historicpreservation@raleighnc.gov \n\n1. Call to Order\n\n\nA. Roll Call\n\n\n\n\n\n\n2. Consent Items\n\n\nA. Approval of Minutes\nThis Agenda Item Contains an Attachment.\n\n\n\n\n\n3. Public Comment\n\n\nA. Public Comment – Limit to 3 minutes\n\n\nB. Voice Mail Public Comment\n\n\n\n\n\n\n4. Old Business\n\n\nA. LGBTQIA+ Historic Context Study\nThis Agenda Item Contains an Attachment.\n\n\n\n\n\n5. New Business\n\n\nA. Raleigh Historic Landmark Application: Bill and Betty Weber House\nThis Agenda Item Contains an Attachment.\n\n\n\n\n\n6. Committee Reports\n\n\nA. Research\n\n\nB. Community Awareness\n\n\nC. Nominations\nThis Agenda Item Contains an Attachment.\n\nD. Certificate of Appropriateness\n\n\n\n\n\n\n7. Other Business\n\n\nA. Report of Commissioners\n\n\nB. Report of Historic Preservation Unit\nThis Agenda Item Contains an Attachment.\n\n\n\n\n\n8. Adjournment\n\n\nA. Adjourn Meeting\n\n\n\n\n\n\nThe Commission typically meets on the second Wednesday of each month at 8:30 a.m. Meeting agendas are added to the BoardDocs agenda management portal. \nRaleigh Historic Development Commission public meetings will be broadcast live on RTN 11 and on our live streaming webpage. To watch past meetings\, visit our video services page. \nAgenda and Participation\nVisit the RHDC webpage for additional information on how to participate in person or by voicemail comment.
URL:https://livableraleigh.com/event/raleigh-historic-development-commission-4/
LOCATION:Raleigh Municipal Building\, 222 W. Hargett St.\, Raleigh\, NC\, 27601\, United States
CATEGORIES:Historic Development Commission
END:VEVENT
BEGIN:VEVENT
DTSTART;TZID=America/New_York:20250416T083000
DTEND;TZID=America/New_York:20250416T213000
DTSTAMP:20260419T192905
CREATED:20250410T162028Z
LAST-MODIFIED:20250414T182559Z
UID:44719-1744792200-1744839000@livableraleigh.com
SUMMARY:RHDC Research Committee
DESCRIPTION:Public Meeting – April 16\, 2025\n\n\n\nThe Research Committee of the Raleigh Historic Development Commission will conduct a public meeting on Wednesday\, April 16 at 8:30 a.m. at One Exchange Plaza\, Suite 301\, Nash conference room. \nFor questions about the meeting\, please contact historicpreservation@raleighnc.gov \n\n1. Call to Order\n\n\nA. Call to Order and Welcome\n\n\n\n\n\n\n2. New Business\n\n\nA. RHDC Work Plan – Preserving Black Churches Project\nThis Agenda Item Contains an Attachment.\n\n\n\n\n\n3. Public Comment\n\n\nA. This is an opportunity for the public to comment on items or issues that are not otherwise on the agenda. Please limit comments to 3 minutes per speaker.\n\n\n\n\n\n\n4. Pending Business\n\n\nA. Items not being discussed\n\n\n\n\n\n\n5. Adjournment\n\n\n\n\nThe Research Committee meets on the first Wednesday of the month at 8:30 a.m. in Nash Conference Room\, Suite 300 of the One Exchange Plaza building. Meeting agendas are added to the BoardDocsagenda management portal.
URL:https://livableraleigh.com/event/rhdc-research-committee-32/
LOCATION:One Exchange Plaza\, 1 Exchange Plaza\, Raleigh\, NY\, 27601
CATEGORIES:Engagement Filter,Historic Development Commission
END:VEVENT
BEGIN:VEVENT
DTSTART;TZID=America/New_York:20250424T170000
DTEND;TZID=America/New_York:20250424T200000
DTSTAMP:20260419T192905
CREATED:20250302T023435Z
LAST-MODIFIED:20250410T155338Z
UID:43935-1745514000-1745524800@livableraleigh.com
SUMMARY:RHDC Certificate of Appropriateness Committee
DESCRIPTION:Public Meeting – April 24\, 2025\n\n\n\n\n\n\nThe RHDC Certificate of Appropriateness Committee will conduct a public meeting on Thursday\, April 24 at 5 p.m. at the Raleigh Municipal Building\, 222 W. Hargett Street in the City Council Chamber. \nFor more information about the meeting\, please contact historicpreservation@raleighnc.govor visit the RHDC Certificate of Appropriateness webpage. \n\nA. Call to Order – Chair\n\n\n1. Roll Call\n\n\n2. Approval of Agenda\n\n\n3. Approval of Minutes: March 27\, 2025\n\n\n4. Minor Work Report\nThis Agenda Item Contains an Attachment.\n\n\n\n\n\nB. Evidentiary Hearings – New Applications\n\n\n1. COA-0032-2025: 514 1/2 COLE ST\nThis Agenda Item Contains an Attachment.\n\n2. COA-0036-2025: 1027 W SOUTH ST\nThis Agenda Item Contains an Attachment.\n\n3. COA-0037-2025: 603 N EAST ST\nThis Agenda Item Contains an Attachment.\n\n\n\n\n\nC. Other Business\n\n\n1. Committee Discussion\n\n\n\n\n\n\nD. Adjourment\n\n\n1. Adjourn Meeting\n\n\n\n\n\n\n\n\n\nRHDC Certificate of Appropriateness Committee public meetings are held in the Raleigh Municipal Building\, City Council Chamber. A broadcast is available via the following methods: the city’s website; the city’s YouTube Channel or Channel RTN-11. \nAgenda and Participation\nVisit the Certificate of Appropriateness webpage for additional information and how to participate. Meeting agendas are added to the BoardDocs agenda management portal. \nPLEASE NOTE: Applications should be submitted using the city’s online Permit and Development Portal. If you have any questions about the application process or about the meeting date\, time\, etc.\, please contact staff at historicpreservation@raleighnc.gov.
URL:https://livableraleigh.com/event/rhdc-certificate-of-appropriateness-committee-28/
LOCATION:Raleigh Municipal Building\, 222 W. Hargett St.\, Raleigh\, NC\, 27601\, United States
CATEGORIES:Historic Development Commission
END:VEVENT
BEGIN:VEVENT
DTSTART;TZID=America/New_York:20250430T083000
DTEND;TZID=America/New_York:20250430T093000
DTSTAMP:20260419T192905
CREATED:20250423T133849Z
LAST-MODIFIED:20250423T133849Z
UID:44849-1746001800-1746005400@livableraleigh.com
SUMMARY:RHDC Research Committee
DESCRIPTION:Public Meeting – April 30\, 2025\n\n\n\nThe Research Committee of the Raleigh Historic Development Commission will conduct a public meeting on Wednesday\, April 30 at 8:30 a.m. at One Exchange Plaza\, Suite 301\, Nash conference room. \nFor questions about the meeting\, please contact historicpreservation@raleighnc.gov \n\n1. Call to Order\n\n\nA. Call to Order and Welcome\n\n\n\n\n\n\n2. New Business\n\n\nA. RHDC Work Plan – Preserving Black Churches Project\nThis Agenda Item Contains an Attachment.\n\n\n\n\n\n3. Public Comment\n\n\nA. This is an opportunity for the public to comment on items or issues that are not otherwise on the agenda. Please limit comments to 3 minutes per speaker.\n\n\n\n\n\n\n4. Pending Business\n\n\nA. Items not being discussed\n\n\n\n\n\n\n5. Adjournment
URL:https://livableraleigh.com/event/rhdc-research-committee-33/
LOCATION:One Exchange Plaza\, 1 Exchange Plaza\, Raleigh\, NY\, 27601
CATEGORIES:Engagement Filter,Historic Development Commission
END:VEVENT
END:VCALENDAR