BEGIN:VCALENDAR
VERSION:2.0
PRODID:-//Livable Raleigh - ECPv6.15.20//NONSGML v1.0//EN
CALSCALE:GREGORIAN
METHOD:PUBLISH
X-WR-CALNAME:Livable Raleigh
X-ORIGINAL-URL:https://livableraleigh.com
X-WR-CALDESC:Events for Livable Raleigh
REFRESH-INTERVAL;VALUE=DURATION:PT1H
X-Robots-Tag:noindex
X-PUBLISHED-TTL:PT1H
BEGIN:VTIMEZONE
TZID:America/New_York
BEGIN:DAYLIGHT
TZOFFSETFROM:-0500
TZOFFSETTO:-0400
TZNAME:EDT
DTSTART:20240310T070000
END:DAYLIGHT
BEGIN:STANDARD
TZOFFSETFROM:-0400
TZOFFSETTO:-0500
TZNAME:EST
DTSTART:20241103T060000
END:STANDARD
BEGIN:DAYLIGHT
TZOFFSETFROM:-0500
TZOFFSETTO:-0400
TZNAME:EDT
DTSTART:20250309T070000
END:DAYLIGHT
BEGIN:STANDARD
TZOFFSETFROM:-0400
TZOFFSETTO:-0500
TZNAME:EST
DTSTART:20251102T060000
END:STANDARD
BEGIN:DAYLIGHT
TZOFFSETFROM:-0500
TZOFFSETTO:-0400
TZNAME:EDT
DTSTART:20260308T070000
END:DAYLIGHT
BEGIN:STANDARD
TZOFFSETFROM:-0400
TZOFFSETTO:-0500
TZNAME:EST
DTSTART:20261101T060000
END:STANDARD
END:VTIMEZONE
BEGIN:VEVENT
DTSTART;TZID=America/New_York:20250304T160000
DTEND;TZID=America/New_York:20250304T173000
DTSTAMP:20260419T205902
CREATED:20250202T131715Z
LAST-MODIFIED:20250228T210648Z
UID:43313-1741104000-1741109400@livableraleigh.com
SUMMARY:RHDC Community Awareness Committee
DESCRIPTION:The Community Awareness Committee of the Raleigh Historic Development Commissionwill conduct a public meeting on Tuesday\, March 4 at 4 p.m. in the conference room 108 on the 1st floor of One Exchange Plaza\, Raleigh\, NC 27601. \nFor questions about the meeting\, please contact historicpreservation@raleighnc.gov. \n\n1. Call to Order\n\n\nA. Call to Order and Welcome\nThis Agenda Item Contains an Attachment.\n\n\n\n\n\n2. Public Comment\n\n\nA. This is an opportunity for the public to comment on items or issues that are not otherwise on the agenda. Please limit comments to 3 minutes per speaker\n\n\n\n\n\n\n3. Old Business\n\n\nA. SWAG Items\n\n\n\n\n\n\n4. New Business\n\n\nA. RHDC Social Media Calendar\n\n\nB. Raleigh Historic Bike Ride\n\n\n\n\n\n\n5. Other Business\n\n\nA. Pending Discussion Items\n\n\n\n\n\n\n6. Adjournment\n\nThe Community Awareness Committee meets on the first Tuesday of the month at 4:00 p.m. in Conference Room 108\, Suite 100 of the One Exchange Plaza building. Meeting agendas are added to the BoardDocs agenda management portal.
URL:https://livableraleigh.com/event/rhdc-community-awareness-committee-25/
LOCATION:One Exchange Plaza\, 1 Exchange Plaza\, Raleigh\, NY\, 27601
CATEGORIES:Historic Development Commission
END:VEVENT
BEGIN:VEVENT
DTSTART;TZID=America/New_York:20250305T083000
DTEND;TZID=America/New_York:20250305T100000
DTSTAMP:20260419T205902
CREATED:20250202T170050Z
LAST-MODIFIED:20250228T210804Z
UID:43317-1741163400-1741168800@livableraleigh.com
SUMMARY:RHDC Research Committee
DESCRIPTION:The Research Committee of the Raleigh Historic Development Commission will conduct a public meeting on Wednesday\, March 5 at 8:30 a.m. at One Exchange Plaza\, conference room 809. \nFor questions about the meeting\, please contact historicpreservation@raleighnc.gov \n\n1. Call to Order\n\n\nA. Call to Order and Welcome\n\n\n\n\n\n\n2. New Business\n\n\nA. RHDC Work Plan – Preserving Black Churches Project\nThis Agenda Item Contains an Attachment.\n\n\n\n\n\n3. Public Comment\n\n\nA. This is an opportunity for the public to comment on items or issues that are not otherwise on the agenda. Please limit comments to 3 minutes per speaker.\n\n\n\n\n\n\n4. Pending Business\n\n\nA. Items not being discussed\n\n\n\n\n\n\n5. Adjournment\n\nThe Research Committee meets on the first Wednesday of the month at 8:30 a.m. in Conference Room 108\, Suite 100 of the One Exchange Plaza building. Meeting agendas are added to the BoardDocs agenda management portal.
URL:https://livableraleigh.com/event/rhdc-research-committee-27/
LOCATION:One Exchange Plaza\, 1 Exchange Plaza\, Raleigh\, NY\, 27601
CATEGORIES:Historic Development Commission
END:VEVENT
BEGIN:VEVENT
DTSTART;TZID=America/New_York:20250311T160000
DTEND;TZID=America/New_York:20250311T170000
DTSTAMP:20260419T205902
CREATED:20250202T172410Z
LAST-MODIFIED:20250308T005923Z
UID:43341-1741708800-1741712400@livableraleigh.com
SUMMARY:RHDC Nominations Committee -- Cancelled
DESCRIPTION:The Nominations Committee for the Raleigh Historic Development Commission (RHDC) generally meets on the second Tuesday of the month at 4 p.m. January through May (and some special meetings throughout the year) in conference room 108\, Suite 100 of the One Exchange Plaza building. Meeting agendas are added to the BoardDocs agenda management portal.
URL:https://livableraleigh.com/event/rhdc-nominations-committee-14/
LOCATION:One Exchange Plaza\, 1 Exchange Plaza\, Raleigh\, NY\, 27601
CATEGORIES:Historic Development Commission
END:VEVENT
BEGIN:VEVENT
DTSTART;TZID=America/New_York:20250312T083000
DTEND;TZID=America/New_York:20250312T103000
DTSTAMP:20260419T205902
CREATED:20250202T172630Z
LAST-MODIFIED:20250306T154738Z
UID:43345-1741768200-1741775400@livableraleigh.com
SUMMARY:Raleigh Historic Development Commission
DESCRIPTION:Public Meeting – March 12\, 2025\n\n\n\nThe Raleigh Historic Development Commission will conduct a public meeting on Wednesday\, March 12 at 8:30 a.m. at the Raleigh Municipal Building\, 222 W. Hargett Street in the in the City Council Chamber. \nPublic participation is available in person and remotely via voicemail. Visit the RHDC pagefor details on how to leave a public comment. \nFor questions about the meeting\, please contact historicpreservation@raleighnc.gov \n\n1. Call to Order\n\n\nA. Roll Call\n\n\n\n\n\n\n2. Consent Items\n\n\nA. Approval of Minutes\nThis Agenda Item Contains an Attachment.\n\n\n\n\n\n3. Public Comment\n\n\nA. Public Comment – Limit to 3 minutes\n\n\nB. Voice Mail Public Comment\n\n\n\n\n\n\n4. New Business\n\n\nA. Rezoning Case: Z-2-25 (201 Bragg St)\nThis Agenda Item Contains an Attachment.\n\n\n\n\n\n5. Committee Reports\n\n\nA. Research\n\n\nB. Community Awareness\n\n\nC. Certificate of Appropriateness\n\n\n\n\n\n\n6. Other Business\n\n\nA. Report of Commissioners\n\n\nB. Report of Historic Preservation Unit\nThis Agenda Item Contains an Attachment.\n\n\n\n\n\n7. Adjournment\n\n\nA. Adjourn Meeting\n\n\n\n\n\n\nThe Commission typically meets on the second Wednesday of each month at 8:30 a.m. Meeting agendas are added to the BoardDocs agenda management portal. \nRaleigh Historic Development Commission public meetings will be broadcast live on RTN 11 and on our live streaming webpage. To watch past meetings\, visit our video services page. \nAgenda and Participation\nVisit the RHDC webpage for additional information on how to participate in person or by voicemail comment.
URL:https://livableraleigh.com/event/raleigh-historic-development-commission-3/
LOCATION:Raleigh Municipal Building\, 222 W. Hargett St.\, Raleigh\, NC\, 27601\, United States
CATEGORIES:Historic Development Commission
END:VEVENT
BEGIN:VEVENT
DTSTART;TZID=America/New_York:20250319T083000
DTEND;TZID=America/New_York:20250319T100000
DTSTAMP:20260419T205902
CREATED:20250308T190801Z
LAST-MODIFIED:20250314T164255Z
UID:44087-1742373000-1742378400@livableraleigh.com
SUMMARY:RHDC Research Committee
DESCRIPTION:Public Meeting – March 19\, 2025\n\n\n\nThe Research Committee of the Raleigh Historic Development Commission will conduct a public meeting on Wednesday\, March 19 at 8:30 a.m. at One Exchange Plaza\, conference room 809. \nFor questions about the meeting\, please contact historicpreservation@raleighnc.gov \n\n1. Call to Order\n\n\nA. Call to Order and Welcome\nThis Agenda Item Contains an Attachment.\n\n\n\n\n\n2. New Business\n\n\nA. RHDC Work Plan – Preserving Black Churches Project\nThis Agenda Item Contains an Attachment.\n\n\n\n\n\n3. Public Comment\n\n\nA. This is an opportunity for the public to comment on items or issues that are not otherwise on the agenda. Please limit comments to 3 minutes per speaker.\n\n\n\n\n\n\n4. Pending Business\n\n\nA. Items not being discussed\n\n\n\n\n\n\n5. Adjournment\n\n\n\n\nThe Research Committee meets on the first Wednesday of the month at 8:30 a.m. in Conference Room 809 of the One Exchange Plaza building. Meeting agendas are added to the BoardDocs agenda management portal.
URL:https://livableraleigh.com/event/rhdc-research-committee-30/
LOCATION:One Exchange Plaza\, 1 Exchange Plaza\, Raleigh\, NY\, 27601
CATEGORIES:Historic Development Commission
END:VEVENT
BEGIN:VEVENT
DTSTART;TZID=America/New_York:20250327T170000
DTEND;TZID=America/New_York:20250327T200000
DTSTAMP:20260419T205902
CREATED:20250202T190637Z
LAST-MODIFIED:20250313T172607Z
UID:43390-1743094800-1743105600@livableraleigh.com
SUMMARY:RHDC Certificate of Appropriateness Committee
DESCRIPTION:Public Meeting – March 27\, 2025\n\n\n\n\n\n\nThe RHDC Certificate of Appropriateness Committee will conduct a public meeting on Thursday\, March 27 at 5 p.m. at the Raleigh Municipal Building\, 222 W. Hargett Street in the City Council Chamber. \nFor more information about the meeting\, please contact historicpreservation@raleighnc.govor visit the RHDC Certificate of Appropriateness webpage. \n\nA. Call to Order – Chair\n\n\n1. Roll Call\n\n\n2. Approval of Agenda\n\n\n3. Approval of Minutes: February 27\, 2025\n\n\n4. Minor Work Report\nThis Agenda Item Contains an Attachment.\n\n\n\n\n\nB. Evidentiary Hearings – Old Applications\n\n\n1. COA-0135-2024: 909 OBERLIN RD\nThis Agenda Item Contains an Attachment.\n\n\n\n\n\nC. Evidentiary Hearings – New Applications\n\n\n1. COA-0016-2025: 905 W LENOIR ST\nThis Agenda Item Contains an Attachment.\n\n2. COA-0018-2025: 410 GLENWOOD AVE\nThis Agenda Item Contains an Attachment.\n\n\n\n\n\nD. Other Business\n\n\n1. Committee Discussion\n\n\n\n\n\n\nE. Adjourment\n\n\n1. Adjourn Meeting\n\n\n\n\n\n\n\n\n\nRHDC Certificate of Appropriateness Committee public meetings are held in the Raleigh Municipal Building\, City Council Chamber. A broadcast is available via the following methods: the city’s website; the city’s YouTube Channel or Channel RTN-11. \nAgenda and Participation\nVisit the Certificate of Appropriateness webpage for additional information and how to participate. Meeting agendas are added to the BoardDocs agenda management portal. \nPLEASE NOTE: Applications should be submitted using the city’s online Permit and Development Portal. If you have any questions about the application process or about the meeting date\, time\, etc.\, please contact staff at historicpreservation@raleighnc.gov.
URL:https://livableraleigh.com/event/rhdc-certificate-of-appropriateness-committee-26/
LOCATION:Raleigh Municipal Building\, 222 W. Hargett St.\, Raleigh\, NC\, 27601\, United States
CATEGORIES:Historic Development Commission
END:VEVENT
END:VCALENDAR