BEGIN:VCALENDAR
VERSION:2.0
PRODID:-//Livable Raleigh - ECPv6.15.20//NONSGML v1.0//EN
CALSCALE:GREGORIAN
METHOD:PUBLISH
X-ORIGINAL-URL:https://livableraleigh.com
X-WR-CALDESC:Events for Livable Raleigh
REFRESH-INTERVAL;VALUE=DURATION:PT1H
X-Robots-Tag:noindex
X-PUBLISHED-TTL:PT1H
BEGIN:VTIMEZONE
TZID:America/New_York
BEGIN:DAYLIGHT
TZOFFSETFROM:-0500
TZOFFSETTO:-0400
TZNAME:EDT
DTSTART:20240310T070000
END:DAYLIGHT
BEGIN:STANDARD
TZOFFSETFROM:-0400
TZOFFSETTO:-0500
TZNAME:EST
DTSTART:20241103T060000
END:STANDARD
BEGIN:DAYLIGHT
TZOFFSETFROM:-0500
TZOFFSETTO:-0400
TZNAME:EDT
DTSTART:20250309T070000
END:DAYLIGHT
BEGIN:STANDARD
TZOFFSETFROM:-0400
TZOFFSETTO:-0500
TZNAME:EST
DTSTART:20251102T060000
END:STANDARD
BEGIN:DAYLIGHT
TZOFFSETFROM:-0500
TZOFFSETTO:-0400
TZNAME:EDT
DTSTART:20260308T070000
END:DAYLIGHT
BEGIN:STANDARD
TZOFFSETFROM:-0400
TZOFFSETTO:-0500
TZNAME:EST
DTSTART:20261101T060000
END:STANDARD
END:VTIMEZONE
BEGIN:VEVENT
DTSTART;TZID=America/New_York:20250204T160000
DTEND;TZID=America/New_York:20250204T173000
DTSTAMP:20260419T223542
CREATED:20250102T160604Z
LAST-MODIFIED:20250131T213510Z
UID:42816-1738684800-1738690200@livableraleigh.com
SUMMARY:RHDC Community Awareness Committee
DESCRIPTION:Public Meeting – February 4\, 2025\n\n\n\nThe Community Awareness Committee of the Raleigh Historic Development Commissionwill conduct a public meeting on Tuesday\, February 4 at 4 p.m. in the conference room 108 on the 1st floor of One Exchange Plaza\, Raleigh\, NC 27601. \nFor questions about the meeting\, please contact historicpreservation@raleighnc.gov. \n\n1. Call to Order\n\n\nA. Call to Order and Welcome\nThis Agenda Item Contains an Attachment.\n\n\n\n\n\n2. Public Comment\n\n\nA. This is an opportunity for the public to comment on items or issues that are not otherwise on the agenda. Please limit comments to 3 minutes per speaker\n\n\n\n\n\n\n3. Old Business\n\n\nA. SWAG Items\nThis Agenda Item Contains an Attachment.\n\nB. 2025 Annual Work Plan\nThis Agenda Item Contains an Attachment.\n\n\n\n\n\n4. New Business\n\n\nA. RHDC Social Media Calendar\n\n\nB. Raleigh Historic Bike Ride\n\n\n\n\n\n\n5. Other Business\n\n\nA. Pending Discussion Items\n\n\n\n\n\n\n6. Adjournment\n\n\n\n\nThe Community Awareness Committee meets on the first Tuesday of the month at 4:00 p.m. in Conference Room 108\, Suite 100 of the One Exchange Plaza building. Meeting agendas are added to the BoardDocs agenda management portal.
URL:https://livableraleigh.com/event/rhdc-community-awareness-committee-24/
LOCATION:One Exchange Plaza\, 1 Exchange Plaza\, Raleigh\, NY\, 27601
CATEGORIES:Historic Development Commission
END:VEVENT
BEGIN:VEVENT
DTSTART;TZID=America/New_York:20250205T083000
DTEND;TZID=America/New_York:20250205T100000
DTSTAMP:20260419T223542
CREATED:20250102T160836Z
LAST-MODIFIED:20250131T174658Z
UID:42820-1738744200-1738749600@livableraleigh.com
SUMMARY:RHDC Research Committee
DESCRIPTION:The Research Committee of the Raleigh Historic Development Commission will conduct a public meeting on Wednesday\, February 5 at 8:30 a.m. at One Exchange Plaza\, Suite 100\, conference room 108. \nFor questions about the meeting\, please contact historicpreservation@raleighnc.gov \n1. Call to Order\n\n\nA. Call to Order and Welcome\nThis Agenda Item Contains an Attachment.\n\n\n\n\n\n2. New Business\n\n\nA. RHL Pre-Application Review – Kline House (807 Mordecai Dr)\nThis Agenda Item Contains an Attachment.\n\nB. RHL Pre-Application Review – Upchurch Property (4909 Forestville Rd)\nThis Agenda Item Contains an Attachment.\n\nC. RHDC Work Plan – Preserving Black Churches Project\nThis Agenda Item Contains an Attachment.\n\n\n\n\n\n3. Public Comment\n\n\nA. This is an opportunity for the public to comment on items or issues that are not otherwise on the agenda. Please limit comments to 3 minutes per speaker.\n\n\n\n\n\n\n4. Pending Business\n\n\nA. Items not being discussed\n\n\n\n\n\n\n5. Adjournment\n\nThe Research Committee meets on the first Wednesday of the month at 8:30 a.m. in Conference Room 108\, Suite 100 of the One Exchange Plaza building. Meeting agendas are added to the BoardDocs agenda management portal.
URL:https://livableraleigh.com/event/rhdc-research-committee-26/
LOCATION:One Exchange Plaza\, 1 Exchange Plaza\, Raleigh\, NY\, 27601
CATEGORIES:Historic Development Commission
END:VEVENT
BEGIN:VEVENT
DTSTART;TZID=America/New_York:20250211T160000
DTEND;TZID=America/New_York:20250211T170000
DTSTAMP:20260419T223542
CREATED:20250102T161723Z
LAST-MODIFIED:20250205T151651Z
UID:42834-1739289600-1739293200@livableraleigh.com
SUMMARY:RHDC Nominations Committee
DESCRIPTION:Public Meeting – February 11\, 2025\n\n\n\nThe Nominations Committee of the Raleigh Historic Development Commission will conduct a public meeting on Tuesday\, February 11 at 4:00 p.m. in conference room 108\, Suite 100 of One Exchange Plaza\, Raleigh\, NC 27601. \nFor questions about the meeting\, please contact historicpreservation@raleighnc.gov. \n\n1. Call to Order\n\n\n1.01 Call to Order and Welcome\n\n\n\n\n\n\n2. New Business\n\n\n2.01 Vacancy Announcement Methods\n\n\n2.02 Upcoming Vacancies\n\n\n\n\n\n\n3. Adjournment\n\n\n\n\nThe Nominations Committee for the Raleigh Historic Development Commission (RHDC) generally meets on the second Tuesday of the month at 4 p.m. January through May (and some special meetings throughout the year) in conference room 108\, Suite 100 of the One Exchange Plaza building. Meeting agendas are added to the BoardDocs agenda management portal.
URL:https://livableraleigh.com/event/rhdc-nominations-committee-13/
LOCATION:One Exchange Plaza\, 1 Exchange Plaza\, Raleigh\, NY\, 27601
CATEGORIES:Historic Development Commission
END:VEVENT
BEGIN:VEVENT
DTSTART;TZID=America/New_York:20250212T083000
DTEND;TZID=America/New_York:20250212T103000
DTSTAMP:20260419T223542
CREATED:20250102T162033Z
LAST-MODIFIED:20250206T215417Z
UID:42840-1739349000-1739356200@livableraleigh.com
SUMMARY:Raleigh Historic Development Commission
DESCRIPTION:Public Meeting – February 12\, 2025\n\n\n\nThe Raleigh Historic Development Commission will conduct a public meeting on Wednesday\, February 12 at 8:30 a.m. at the Raleigh Municipal Building\, 222 W. Hargett Street in the in the City Council Chamber. \nPlease note the new day and location. \n\n1. Call to Order\n\n\nA. Roll Call\n\n\n\n\n\n\n2. Consent Items\n\n\nA. Approval of Minutes\nThis Agenda Item Contains an Attachment.\n\n\n\n\n\n3. Public Comment\n\n\nA. Public Comment – Limit to 3 minutes\n\n\nB. Voice Mail Public Comment\n\n\n\n\n\n\n4. New Business\n\n\nA. Forestville Road Park\n\n\nB. Rezoning Case: Z-53-24 – Top Greene Assemblage\n\n\nC. Demolition by Neglect: 313 E Cabarrus St\nThis Agenda Item Contains an Attachment.\n\nD. Demolition by Neglect: 316 E Cabarrus St\nThis Agenda Item Contains an Attachment.\n\nE. Raleigh Historic Landmark Plaques\nThis Agenda Item Contains an Attachment.\n\nF. Election of Officers\n\n\n\n\n\n\n5. Committee Reports\n\n\nA. Research\n\n\nB. Community Awareness\nThis Agenda Item Contains an Attachment.\n\nC. Certificate of Appropriateness\n\n\n\n\n\n\n6. Other Business\n\n\nA. Report of Commissioners\nThis Agenda Item Contains an Attachment.\n\nB. Report of Historic Preservation Unit\nThis Agenda Item Contains an Attachment.\n\n\n\n\n\n7. Adjournment\n\n\nA. Adjourn Meeting\n\n\n\nPublic participation is available in person and remotely via voicemail. Visit the RHDC pagefor details on how to leave a public comment. \nFor questions about the meeting\, please contact historicpreservation@raleighnc.gov \n\n\n\nThe Commission typically meets on the second Wednesday of each month at 8:30 a.m. Meeting agendas are added to the BoardDocs agenda management portal. \nRaleigh Historic Development Commission public meetings will be broadcast live on RTN 11 and on our live streaming webpage. To watch past meetings\, visit our video services page. \nAgenda and Participation\nVisit the RHDC webpage for additional information on how to participate in person or by voicemail comment.
URL:https://livableraleigh.com/event/raleigh-historic-development-commission-2/
LOCATION:Raleigh Municipal Building\, 222 W. Hargett St.\, Raleigh\, NC\, 27601\, United States
CATEGORIES:Historic Development Commission
END:VEVENT
BEGIN:VEVENT
DTSTART;TZID=America/New_York:20250219T083000
DTEND;TZID=America/New_York:20250219T093000
DTSTAMP:20260419T223542
CREATED:20250214T160030Z
LAST-MODIFIED:20250217T205719Z
UID:43633-1739953800-1739957400@livableraleigh.com
SUMMARY:RHDC Research Committee -- cancelled
DESCRIPTION:Public Meeting – February 19\, 2025\n\n\n\nThe Research Committee of the Raleigh Historic Development Commission will conduct a public meeting on Wednesday\, February 19 at 8:30 a.m. at One Exchange Plaza\, Suite 100\, conference room 108. \nFor questions about the meeting\, please contact historicpreservation@raleighnc.gov \n\n1. Call to Order\n\n\nA. Call to Order and Welcome\n\n\n\n\n\n\n2. New Business\n\n\nA. RHDC Work Plan – Preserving Black Churches Project\nThis Agenda Item Contains an Attachment.\n\n\n\n\n\n3. Public Comment\n\n\nA. This is an opportunity for the public to comment on items or issues that are not otherwise on the agenda. Please limit comments to 3 minutes per speaker.\n\n\n\n\n\n\n4. Pending Business\n\n\nA. Items not being discussed\n\n\n\n\n\n\n5. Adjournment
URL:https://livableraleigh.com/event/rhdc-research-committee-28/
LOCATION:NC
CATEGORIES:Engagement Filter,Historic Development Commission
END:VEVENT
BEGIN:VEVENT
DTSTART;TZID=America/New_York:20250227T170000
DTEND;TZID=America/New_York:20250227T200000
DTSTAMP:20260419T223542
CREATED:20250111T164013Z
LAST-MODIFIED:20250221T193703Z
UID:43003-1740675600-1740686400@livableraleigh.com
SUMMARY:RHDC Certificate of Appropriateness Committee
DESCRIPTION:A. Call to Order – Chair\n\n\n1. Roll Call\n\n\n2. Approval of Agenda\n\n\n3. Approval of Minutes: January 23\, 2025\n\n\n4. Minor Work Report\nThis Agenda Item Contains an Attachment.\n\n\n\n\n\nB. Evidentiary Hearings – Old Applications\n\n\n1. COA-0135-2024: 909 OBERLIN RD\nThis Agenda Item Contains an Attachment.\n\n2. COA-0153-2024: 305 KINSEY ST\nThis Agenda Item Contains an Attachment.\n\n3. COA-0136-2024: 415 N BOUNDARY ST\nThis Agenda Item Contains an Attachment.\n\n\n\n\n\nC. Evidentiary Hearings – New Applications\n\n\n1. COA-0006-2025: 603 N EAST ST\nThis Agenda Item Contains an Attachment.\n\n2. COA-0143-2024: 920 W LENOIR ST\nThis Agenda Item Contains an Attachment.\n\n3. COA-0003-2025: 516 N BLOUNT ST\nThis Agenda Item Contains an Attachment.\n\n\n\n\n\nD. Other Business\n\n\n1. Committee Discussion\n\n\n\n\n\n\nE. Adjourment\n\n\n1. Adjourn Meeting\n\n\n\nRHDC Certificate of Appropriateness Committee public meetings are held in the Raleigh Municipal Building\, City Council Chamber. A broadcast is available via the following methods: the city’s website; the city’s YouTube Channel or Channel RTN-11. \nAgenda and Participation\nVisit the Certificate of Appropriateness webpage for additional information and how to participate. Meeting agendas are added to the BoardDocs agenda management portal. \nPLEASE NOTE: Applications should be submitted using the city’s online Permit and Development Portal. If you have any questions about the application process or about the meeting date\, time\, etc.\, please contact staff at historicpreservation@raleighnc.gov.
URL:https://livableraleigh.com/event/rhdc-certificate-of-appropriateness-committee-27/
LOCATION:Raleigh Municipal Building\, 222 W. Hargett St.\, Raleigh\, NC\, 27601\, United States
CATEGORIES:Historic Development Commission
END:VEVENT
END:VCALENDAR