BEGIN:VCALENDAR
VERSION:2.0
PRODID:-//Livable Raleigh - ECPv6.15.20//NONSGML v1.0//EN
CALSCALE:GREGORIAN
METHOD:PUBLISH
X-WR-CALNAME:Livable Raleigh
X-ORIGINAL-URL:https://livableraleigh.com
X-WR-CALDESC:Events for Livable Raleigh
REFRESH-INTERVAL;VALUE=DURATION:PT1H
X-Robots-Tag:noindex
X-PUBLISHED-TTL:PT1H
BEGIN:VTIMEZONE
TZID:America/New_York
BEGIN:DAYLIGHT
TZOFFSETFROM:-0500
TZOFFSETTO:-0400
TZNAME:EDT
DTSTART:20230312T070000
END:DAYLIGHT
BEGIN:STANDARD
TZOFFSETFROM:-0400
TZOFFSETTO:-0500
TZNAME:EST
DTSTART:20231105T060000
END:STANDARD
BEGIN:DAYLIGHT
TZOFFSETFROM:-0500
TZOFFSETTO:-0400
TZNAME:EDT
DTSTART:20240310T070000
END:DAYLIGHT
BEGIN:STANDARD
TZOFFSETFROM:-0400
TZOFFSETTO:-0500
TZNAME:EST
DTSTART:20241103T060000
END:STANDARD
BEGIN:DAYLIGHT
TZOFFSETFROM:-0500
TZOFFSETTO:-0400
TZNAME:EDT
DTSTART:20250309T070000
END:DAYLIGHT
BEGIN:STANDARD
TZOFFSETFROM:-0400
TZOFFSETTO:-0500
TZNAME:EST
DTSTART:20251102T060000
END:STANDARD
END:VTIMEZONE
BEGIN:VEVENT
DTSTART;TZID=America/New_York:20241203T160000
DTEND;TZID=America/New_York:20241203T173000
DTSTAMP:20260420T012522
CREATED:20241102T151316Z
LAST-MODIFIED:20241127T161356Z
UID:42185-1733241600-1733247000@livableraleigh.com
SUMMARY:RHDC Community Awareness Committee
DESCRIPTION:Public Meeting – December 3\, 2024\n\n\n\nThe Community Awareness Committee of the Raleigh Historic Development Commissionwill conduct a public meeting on Tuesday\, December 3 at 4 p.m. in the conference room 108 on the 1st floor of One Exchange Plaza\, Raleigh\, NC 27601. \nFor questions about the meeting\, please contact historicpreservation@raleighnc.gov. \n\n1. Call to Order\n\n\nA. Call to Order and Welcome\nThis Agenda Item Contains an Attachment.\n\n\n\n\n\n2. Public Comment\n\n\nA. This is an opportunity for the public to comment on items or issues that are not otherwise on the agenda. Please limit comments to 3 minutes per speaker\n\n\n\n\n\n\n3. Old Business\n\n\nA. Website Conversion\n\n\nB. Tabling Event Recap\n\n\nC. SWAG Items\n\n\nD. 2025 Annual Work Plan\n\n\n\n\n\n\n4. New Business\n\n\nA. Raleigh Historic Bike Ride\n\n\nB. RHDC Social Media Calendar\n\n\n\n\n\n\n5. Other Business\n\n\nA. Pending Discussion Items\n\n\n\n\n\n\n6. Adjournment\n\n\n\n\nThe Community Awareness Committee meets on the first Tuesday of the month at 4:00 p.m. in the Nash conference room\, Suite 300 of the One Exchange Plaza building. Meeting agendas are added to the BoardDocs agenda management portal.
URL:https://livableraleigh.com/event/rhdc-community-awareness-committee-23/
LOCATION:One Exchange Plaza\, 1 Exchange Plaza\, Raleigh\, NY\, 27601
CATEGORIES:Historic Development Commission
END:VEVENT
BEGIN:VEVENT
DTSTART;TZID=America/New_York:20241204T083000
DTEND;TZID=America/New_York:20241204T100000
DTSTAMP:20260420T012522
CREATED:20241102T151654Z
LAST-MODIFIED:20241127T161801Z
UID:42191-1733301000-1733306400@livableraleigh.com
SUMMARY:RHDC Research Committee
DESCRIPTION:Public Meeting – December 4\, 2024\n\n\n\nThe Research Committee of the Raleigh Historic Development Commission will conduct a public meeting on Wednesday\, December 4 at 8:30 a.m. at One Exchange Plaza\, Suite 100\, conference room 108. \nFor questions about the meeting\, please contact historicpreservation@raleighnc.gov \n\n1. Call to Order\n\n\nA. Call to Order and Welcome\n\n\n\n\n\n\n2. New Business\n\n\nA. RHDC Work Plan – Preserving Black Churches Project\n\n\n\n\n\n\n3. Public Comment\n\n\nA. This is an opportunity for the public to comment on items or issues that are not otherwise on the agenda. Please limit comments to 3 minutes per speaker.\n\n\n\n\n\n\n4. Pending Business\n\n\nA. Items not being discussed\n\n\n\n\n\n\n5. Adjournment\n\n\n\n\nThe Research Committee meets on the first Wednesday of the month at 8:30 a.m. in conference room 108\, Suite 100 of the One Exchange Plaza building. Meeting agendas are added to the BoardDocs agenda management portal.
URL:https://livableraleigh.com/event/rhdc-research-committee-24/
LOCATION:One Exchange Plaza\, 1 Exchange Plaza\, Raleigh\, NY\, 27601
CATEGORIES:Historic Development Commission
END:VEVENT
BEGIN:VEVENT
DTSTART;TZID=America/New_York:20241212T170000
DTEND;TZID=America/New_York:20241212T200000
DTSTAMP:20260420T012522
CREATED:20241103T153129Z
LAST-MODIFIED:20241127T225807Z
UID:42229-1734022800-1734033600@livableraleigh.com
SUMMARY:RHDC Certificate of Appropriateness Committee
DESCRIPTION:Public Meetings – December 12 & 13\, 2024\n\n\n\n\n\n\nThe RHDC Certificate of Appropriateness Committee will conduct two public meetings\, one on Thursday\, December 12 at 5:15 p.m. and another one on Friday\, December 13 at 9:00 a.m. Both will be held at the Raleigh Municipal Building\, 222 W. Hargett Street in the City Council Chamber. Please view each meeting agenda for all cases scheduled to be heard in December. \nFor more information about the meeting\, please contact historicpreservation@raleighnc.govor visit the RHDC Certificate of Appropriateness webpage. \n\nA. Call to Order – Chair\n\n\n1. Roll Call\n\n\n2. Approval of Agenda\n\n\n3. Approval of Minutes: October 24\, 2024\n\n\n4. Minor Work Report\nThis Agenda Item Contains an Attachment.\n\n\n\n\n\nB. Evidentiary Hearings – Old Applications\n\n\n1. COA-0119-2024: 504 TILDEN ST\nThis Agenda Item Contains an Attachment.\n\n\n\n\n\nC. Evidentiary Hearings – New Applications\n\n\n1. COA-0134-2024: 521 E JONES ST\nThis Agenda Item Contains an Attachment.\n\n2. COA-0135-2024: 909 OBERLIN RD\nThis Agenda Item Contains an Attachment.\n\n3. COA-0136-2024: 415 N BOUNDARY ST\nThis Agenda Item Contains an Attachment.\n\n\n\n\n\nD. Other Business\n\n\n1. Committee Discussion\n\n\n\n\n\n\nE. Adjourment\n\n\n1. Adjourn Meeting\n\n\n\n\n\n\n\n\n\nRHDC Certificate of Appropriateness Committee public meetings are held in the Raleigh Municipal Building\, City Council Chamber. A broadcast is available via the following methods: the city’s website; the city’s YouTube Channel or Channel RTN-11. \nAgenda and ParticipationVisit the Certificate of Appropriateness webpage for additional information and how to participate. Meeting agendas are added to the BoardDocs agenda management portal. \nPLEASE NOTE: Applications should be submitted using the city’s online Permit and Development Portal. If you have any questions about the application process or about the meeting date\, time\, etc.\, please contact staff at historicpreservation@raleighnc.gov.
URL:https://livableraleigh.com/event/rhdc-certificate-of-appropriateness-committee-23/
LOCATION:Raleigh Municipal Building\, 222 W. Hargett St.\, Raleigh\, NC\, 27601\, United States
CATEGORIES:Historic Development Commission
END:VEVENT
BEGIN:VEVENT
DTSTART;TZID=America/New_York:20241213T090000
DTEND;TZID=America/New_York:20241213T100000
DTSTAMP:20260420T012522
CREATED:20241127T230028Z
LAST-MODIFIED:20241212T003410Z
UID:42469-1734080400-1734084000@livableraleigh.com
SUMMARY:RHDC Certificate of Appropriateness Committee
DESCRIPTION:Public Meetings – December 12 & 13\, 2024\n\n\n\n\n\n\nThe RHDC Certificate of Appropriateness Committee will conduct two public meetings\, one on Thursday\, December 12 at 5:15 p.m. and another one on Friday\, December 13 at 9:00 a.m. Both will be held at the Raleigh Municipal Building\, 222 W. Hargett Street in the City Council Chamber. Please view each meeting agenda for all cases scheduled to be heard in December. \nFor more information about the meeting\, please contact historicpreservation@raleighnc.govor visit the RHDC Certificate of Appropriateness webpage. \n\nA. Call to Order – Chair\n\n\n1. Roll Call\n\n\n2. Approval of Agenda\n\n\n\n\n\n\nB. Evidentiary Hearings – New Applications\n\n\n1. COA-0138-2024: 500 N BLOUNT ST\nThis Agenda Item Contains an Attachment.\n\n2. COA-0140-2024: 1526 TRYON RD\nThis Agenda Item Contains an Attachment.\n\n3. COA-0141-2024: 317 E JONES ST\nThis Agenda Item Contains an Attachment.\n\n4. COA-0139-2024: 311 E EDENTON ST\nThis Agenda Item Contains an Attachment.\n\n5. COA-0155-2024: 307 E EDENTON ST\nThis Agenda Item Contains an Attachment.\n\n6. COA-0156-2024: 325 E EDENTON ST\nThis Agenda Item Contains an Attachment.\n\n\n\n\n\nC. Other Business\n\n\n1. Committee Discussion\n\n\n\n\n\n\nD. Adjourment\n\n\n1. Adjourn Meeting
URL:https://livableraleigh.com/event/rhdc-certificate-of-appropriateness-committee-24/
LOCATION:Raleigh Municipal Building\, 222 W. Hargett St.\, Raleigh\, NC\, 27601\, United States
CATEGORIES:Engagement Filter,Historic Development Commission
END:VEVENT
BEGIN:VEVENT
DTSTART;TZID=America/New_York:20241218T083000
DTEND;TZID=America/New_York:20241218T103000
DTSTAMP:20260420T012522
CREATED:20241103T153243Z
LAST-MODIFIED:20241214T111739Z
UID:42231-1734510600-1734517800@livableraleigh.com
SUMMARY:Raleigh Historic Development Commission Meeting
DESCRIPTION:1. Call to Order\n\n\nA. Roll Call\n\n\n\n\n\n\n2. Consent Items\n\n\nA. Approval of Minutes\nThis Agenda Item Contains an Attachment.\n\n\n\n\n\n3. Public Comment\n\n\nA. Public Comment – Limit to 3 minutes\n\n\nB. Voice Mail Public Comment\n\n\n\n\n\n\n4. New Business\n\n\nA. Preservation Revolving Loan Request\nThis Agenda Item Contains an Attachment.\n\nB. Preserving Black Churches Event\n\n\nC. Certified Local Government Annual Report\nThis Agenda Item Contains an Attachment.\n\n\n\n\n\n5. Committee Reports\n\n\nA. Research\n\n\nB. Community Awareness\n\n\nC. Certificate of Appropriateness\n\n\n\n\n\n\n6. Other Business\n\n\nA. Report of Commissioners\n\n\nB. Report of Historic Preservation Unit\nThis Agenda Item Contains an Attachment.\n\n\n\n\n\n7. Adjournment\n\n\nA. Adjourn Meeting\n\n\n\nThe Commission typically meets on the third Wednesday of each month at 8:30 a.m. Meeting agendas are added to the BoardDocs agenda management portal. \nAgenda and ParticipationVisit the RHDC webpage for additional information on how to participate in person or by voicemail comment.
URL:https://livableraleigh.com/event/raleigh-historic-development-commission-meeting-23/
LOCATION:Raleigh Municipal Building\, 222 W. Hargett St.\, Raleigh\, NC\, 27601\, United States
CATEGORIES:Historic Development Commission
END:VEVENT
END:VCALENDAR