BEGIN:VCALENDAR
VERSION:2.0
PRODID:-//Livable Raleigh - ECPv6.15.20//NONSGML v1.0//EN
CALSCALE:GREGORIAN
METHOD:PUBLISH
X-ORIGINAL-URL:https://livableraleigh.com
X-WR-CALDESC:Events for Livable Raleigh
REFRESH-INTERVAL;VALUE=DURATION:PT1H
X-Robots-Tag:noindex
X-PUBLISHED-TTL:PT1H
BEGIN:VTIMEZONE
TZID:America/New_York
BEGIN:DAYLIGHT
TZOFFSETFROM:-0500
TZOFFSETTO:-0400
TZNAME:EDT
DTSTART:20230312T070000
END:DAYLIGHT
BEGIN:STANDARD
TZOFFSETFROM:-0400
TZOFFSETTO:-0500
TZNAME:EST
DTSTART:20231105T060000
END:STANDARD
BEGIN:DAYLIGHT
TZOFFSETFROM:-0500
TZOFFSETTO:-0400
TZNAME:EDT
DTSTART:20240310T070000
END:DAYLIGHT
BEGIN:STANDARD
TZOFFSETFROM:-0400
TZOFFSETTO:-0500
TZNAME:EST
DTSTART:20241103T060000
END:STANDARD
BEGIN:DAYLIGHT
TZOFFSETFROM:-0500
TZOFFSETTO:-0400
TZNAME:EDT
DTSTART:20250309T070000
END:DAYLIGHT
BEGIN:STANDARD
TZOFFSETFROM:-0400
TZOFFSETTO:-0500
TZNAME:EST
DTSTART:20251102T060000
END:STANDARD
END:VTIMEZONE
BEGIN:VEVENT
DTSTART;TZID=America/New_York:20241105T160000
DTEND;TZID=America/New_York:20241105T173000
DTSTAMP:20260420T024611
CREATED:20241005T234233Z
LAST-MODIFIED:20241102T000740Z
UID:41455-1730822400-1730827800@livableraleigh.com
SUMMARY:RHDC Community Awareness Committee
DESCRIPTION:1. Call to Order\n\n\nA. Call to Order and Welcome\nThis Agenda Item Contains an Attachment.\n\n\n\n\n\n2. Public Comment\n\n\nA. This is an opportunity for the public to comment on items or issues that are not otherwise on the agenda. Please limit comments to 3 minutes per speaker\n\n\n\n\n\n\n3. Old Business\n\n\nA. RHDC Website Conversion\n\n\nB. June-Oct 2024 RHDC Social Media Calendar\n\n\nC. RHDC SWAG\n\n\n\n\n\n\n4. New Business\n\n\nA. RHDC Annual Retreat\n\n\nB. Nov/Dec 2024 RHDC Social Media Calendar\n\n\n\n\n\n\n5. Pending Business\n\n\nA. Pending Discussion Items\n\n\n\n\n\n\n6. Adjournment\n\nThe Community Awareness Committee meets on the first Tuesday of the month at 4:00 p.m. in the Nash conference room\, Suite 300 of the One Exchange Plaza building. Meeting agendas are added to the BoardDocs agenda management portal.
URL:https://livableraleigh.com/event/rhdc-community-awareness-committee-22/
LOCATION:One Exchange Plaza\, 1 Exchange Plaza\, Raleigh\, NY\, 27601
CATEGORIES:Historic Development Commission
END:VEVENT
BEGIN:VEVENT
DTSTART;TZID=America/New_York:20241106T083000
DTEND;TZID=America/New_York:20241106T100000
DTSTAMP:20260420T024611
CREATED:20241005T234942Z
LAST-MODIFIED:20241102T000628Z
UID:41457-1730881800-1730887200@livableraleigh.com
SUMMARY:RHDC Research Committee -- canceled
DESCRIPTION:The Research Committee meets on the first Wednesday of the month at 8:30 a.m. in conference room 108\, Suite 100 of the One Exchange Plaza building. Meeting agendas are added to the BoardDocs agenda management portal.
URL:https://livableraleigh.com/event/rhdc-research-committee-23/
LOCATION:One Exchange Plaza\, 1 Exchange Plaza\, Raleigh\, NY\, 27601
CATEGORIES:Historic Development Commission
END:VEVENT
BEGIN:VEVENT
DTSTART;TZID=America/New_York:20241120T083000
DTEND;TZID=America/New_York:20241120T103000
DTSTAMP:20260420T024611
CREATED:20241006T015015Z
LAST-MODIFIED:20241114T180134Z
UID:41512-1732091400-1732098600@livableraleigh.com
SUMMARY:Raleigh Historic Development Commission Meeting
DESCRIPTION:The Raleigh Historic Development Commission will conduct a public meeting on Wednesday\, November 20 at 8:30 a.m. at the Raleigh Municipal Building\, 222 W. Hargett Street in the Conference Room 305. \nPublic participation is available in person and remotely via voicemail. Visit the RHDC pagefor details on how to leave a public comment. \nFor questions about the meeting\, please contact historicpreservation@raleighnc.gov \n1. Call to Order\n\n\nA. Roll Call\n\n\n\n\n\n\n2. Consent Items\n\n\nA. Approval of Minutes\nThis Agenda Item Contains an Attachment.\n\n\n\n\n\n3. Public Comment\n\n\nA. Public Comment – Limit to 3 minutes\n\n\nB. Voice Mail Public Comment\n\n\n\n\n\n\n4. Old Business\n\n\nA. Charles & Maude Heck House (200 Hawthorne Rd) – HLD-0001-2024\nThis Agenda Item Contains an Attachment.\n\nB. Deitrick #2 (1900 McDonald Lane) – HLD-0002-2024\nThis Agenda Item Contains an Attachment.\n\n\n\n\n\n5. New Business\n\n\nA. 617 S Blount Street Unfit Housing Case – Prince Hall HOD\nThis Agenda Item Contains an Attachment.\n\nB. Raleigh’s Next Comprehensive Plan\n\n\nC. 2025 Meeting Dates\nThis Agenda Item Contains an Attachment.\n\n\n\n\n\n6. Committee Reports\n\n\nA. Research\n\n\nB. Community Awareness\n\n\nC. Certificate of Appropriateness\n\n\n\n\n\n\n7. Other Business\n\n\nA. Report of Commissioners\n\n\nB. Report of Historic Preservation Unit\nThis Agenda Item Contains an Attachment.\n\n\n\n\n\n8. Adjournment\n\n\nA. Adjourn Meeting\n\n\n\nThe Commission typically meets on the third Wednesday of each month at 8:30 a.m. Meeting agendas are added to the BoardDocs agenda management portal. \nAgenda and ParticipationVisit the RHDC webpage for additional information on how to participate in person or by voicemail comment.
URL:https://livableraleigh.com/event/raleigh-historic-development-commission-meeting-22/
LOCATION:Raleigh Municipal Building\, 222 W. Hargett St.\, Raleigh\, NC\, 27601\, United States
CATEGORIES:Historic Development Commission
END:VEVENT
END:VCALENDAR