BEGIN:VCALENDAR
VERSION:2.0
PRODID:-//Livable Raleigh - ECPv6.15.20//NONSGML v1.0//EN
CALSCALE:GREGORIAN
METHOD:PUBLISH
X-ORIGINAL-URL:https://livableraleigh.com
X-WR-CALDESC:Events for Livable Raleigh
REFRESH-INTERVAL;VALUE=DURATION:PT1H
X-Robots-Tag:noindex
X-PUBLISHED-TTL:PT1H
BEGIN:VTIMEZONE
TZID:America/New_York
BEGIN:DAYLIGHT
TZOFFSETFROM:-0500
TZOFFSETTO:-0400
TZNAME:EDT
DTSTART:20230312T070000
END:DAYLIGHT
BEGIN:STANDARD
TZOFFSETFROM:-0400
TZOFFSETTO:-0500
TZNAME:EST
DTSTART:20231105T060000
END:STANDARD
BEGIN:DAYLIGHT
TZOFFSETFROM:-0500
TZOFFSETTO:-0400
TZNAME:EDT
DTSTART:20240310T070000
END:DAYLIGHT
BEGIN:STANDARD
TZOFFSETFROM:-0400
TZOFFSETTO:-0500
TZNAME:EST
DTSTART:20241103T060000
END:STANDARD
BEGIN:DAYLIGHT
TZOFFSETFROM:-0500
TZOFFSETTO:-0400
TZNAME:EDT
DTSTART:20250309T070000
END:DAYLIGHT
BEGIN:STANDARD
TZOFFSETFROM:-0400
TZOFFSETTO:-0500
TZNAME:EST
DTSTART:20251102T060000
END:STANDARD
END:VTIMEZONE
BEGIN:VEVENT
DTSTART;TZID=America/New_York:20240806T160000
DTEND;TZID=America/New_York:20240806T173000
DTSTAMP:20260420T105404
CREATED:20240702T132045Z
LAST-MODIFIED:20240805T202150Z
UID:39030-1722960000-1722965400@livableraleigh.com
SUMMARY:RHDC Community Awareness Committee -- Cancelled
DESCRIPTION:Public Meeting – August 6\, 2024\n\n\n\nThe Community Awareness Committee of the Raleigh Historic Development Commissionwill conduct a public meeting on Tuesday\, August 6 at 4 p.m. in the Nash conference room on the 3rd floor of One Exchange Plaza\, Raleigh\, NC 27601. \nFor questions about the meeting\, please contact historicpreservation@raleighnc.gov. \n\n1. Call to Order\n\n\nA. Call to Order and Welcome\nThis Agenda Item Contains an Attachment.\n\n\n\n\n\n2. Public Comment\n\n\nA. This is an opportunity for the public to comment on items or issues that are not otherwise on the agenda. Please limit comments to 3 minutes per speaker\n\n\n\n\n\n\n3. Old Business\n\n\nA. June/July 2024 RHDC Social Media Calendar\n\n\nB. RHDC SWAG\n\n\n\n\n\n\n4. New Business\n\n\nA. August/September 2024 RHDC Social Media Calendar\n\n\n\n\n\n\n5. Pending Business\n\n\nA. Pending Discussion Items\n\n\nB. RHDC Website Conversion\n\n\n\n\n\n\n6. Adjournment\n\n\n\n\nThe Community Awareness Committee meets on the first Tuesday of the month at 4:00 p.m. in the Nash conference room\, Suite 300 of the One Exchange Plaza building. Meeting agendas are added to the BoardDocs agenda management portal.
URL:https://livableraleigh.com/event/rhdc-community-awareness-committee-19/
LOCATION:One Exchange Plaza\, 1 Exchange Plaza\, Raleigh\, NY\, 27601
CATEGORIES:Historic Development Commission
END:VEVENT
BEGIN:VEVENT
DTSTART;TZID=America/New_York:20240807T083000
DTEND;TZID=America/New_York:20240807T100000
DTSTAMP:20260420T105404
CREATED:20240702T132248Z
LAST-MODIFIED:20240730T131450Z
UID:39034-1723019400-1723024800@livableraleigh.com
SUMMARY:RHDC Research Committee
DESCRIPTION:Public Meeting – August 7\, 2024\n\n\n\nThe Research Committee of the Raleigh Historic Development Commission will conduct a public meeting on Wednesday\, August 7 at 8:30 a.m. at One Exchange Plaza\, Suite 100\, conference room 108. \nFor questions about the meeting\, please contact historicpreservation@raleighnc.gov \n\n1. Call to Order\n\n\nA. Call to Order and Welcome\nThis Agenda Item Contains an Attachment.\n\n\n\n\n\n2. New Business\n\n\nA. Historic Landmark Application – Charles and Maude Heck House (200 Hawthorne Lane)\nThis Agenda Item Contains an Attachment.\n\nB. 2023 Inquiry Letters for RHL\n\n\n\n\n\n\n3. Public Comment\n\n\nA. This is an opportunity for the public to comment on items or issues that are not otherwise on the agenda. Please limit comments to 3 minutes per speaker.\n\n\n\n\n\n\n4. Pending Business\n\n\nA. Items not being discussed\n\n\n\n\n\n\n5. Adjournment\n\n\n\n\nThe Research Committee meets on the first Wednesday of the month at 8:30 a.m. in conference room 108\, Suite 100 of the One Exchange Plaza building. Meeting agendas are added to the BoardDocs agenda management portal.
URL:https://livableraleigh.com/event/rhdc-research-committee-20/
LOCATION:One Exchange Plaza\, 1 Exchange Plaza\, Raleigh\, NY\, 27601
CATEGORIES:Historic Development Commission
END:VEVENT
BEGIN:VEVENT
DTSTART;TZID=America/New_York:20240821T083000
DTEND;TZID=America/New_York:20240821T103000
DTSTAMP:20260420T105404
CREATED:20240719T013710Z
LAST-MODIFIED:20240814T212325Z
UID:39478-1724229000-1724236200@livableraleigh.com
SUMMARY:Raleigh Historic Development Commission Meeting
DESCRIPTION:Public Meeting – August 21\, 2024\n\n\n\nThe Raleigh Historic Development Commission will conduct a public meeting on Wednesday\, August 21 at 8:30 a.m. at the Raleigh Municipal Building\, 222 W. Hargett Street in the City Council Chamber. \nPlease note the new day\, time and location. \nPubic participation is available in person and remotely via voicemail. Visit the RHDC pagefor details on how to leave a public comment. \nFor questions about the meeting\, please contact historicpreservation@raleighnc.gov \n\n1. Call to Order\n\n\nA. Roll Call\n\n\n\n\n\n\n2. Consent Items\n\n\nA. Approval of Minutes from July 16\, 2024\nThis Agenda Item Contains an Attachment.\n\n\n\n\n\n3. Public Comment\n\n\nA. Public Comment – Limit to 3 minutes\n\n\nB. Voice Mail Public Comment\n\n\n\n\n\n\n4. New Business\n\n\nA. Raleigh Historic Landmark Application: Charles and Maude Heck House (200 Hawthorne Rd)\nThis Agenda Item Contains an Attachment.\n\nB. NAPC Forum Follow-up\n\n\nC. Annual Retreat\n\n\n\n\n\n\n5. Committee Reports\n\n\nA. Research\n\n\nB. Community Awareness\n\n\nC. Certificate of Appropriateness\n\n\n\n\n\n\n6. Other Business\n\n\nA. Report of Commissioners\n\n\nB. Report of Historic Preservation Unit\nThis Agenda Item Contains an Attachment.\n\n\n\n\n\n7. Adjournment\n\n\nA. Adjourn Meeting\n\n\n\n\n\n\nThe Commission typically meets on the third Wednesday of each month at 8:30 a.m. Meeting agendas are added to the BoardDocs agenda management portal. \nAgenda and ParticipationVisit the RHDC webpage for additional information on how to participate in person or by voicemail comment.
URL:https://livableraleigh.com/event/raleigh-historic-development-commission-meeting-19/
LOCATION:Raleigh Municipal Building\, 222 W. Hargett St.\, Raleigh\, NC\, 27601\, United States
CATEGORIES:Historic Development Commission
END:VEVENT
BEGIN:VEVENT
DTSTART;TZID=America/New_York:20240822T170000
DTEND;TZID=America/New_York:20240822T200000
DTSTAMP:20260420T105404
CREATED:20240703T125934Z
LAST-MODIFIED:20240809T173947Z
UID:39106-1724346000-1724356800@livableraleigh.com
SUMMARY:RHDC Certificate of Appropriateness Committee
DESCRIPTION:Public Meeting – August 22\, 2024\n\n\n\n\n\n\nThe RHDC Certificate of Appropriateness Committee will conduct a public meeting on Thursday\, August 22 at 5 p.m. at the Raleigh Municipal Building\, 222 W. Hargett Street in the City Council Chamber. \nFor more information about the meeting\, please contact historicpreservation@raleighnc.govor visit the RHDC Certificate of Appropriateness webpage. \n\nA. Call to Order – Chair\n\n\n1. Roll Call\n\n\n2. Approval of Agenda\n\n\n3. Approval of Minutes: July 25\, 2024\n\n\n4. Minor Work Report\nThis Agenda Item Contains an Attachment.\n\n\n\n\n\nB. Evidentiary Hearings – Old Applications\n\n\n1. COA-0053-2024: 601 ELM STREET\nThis Agenda Item Contains an Attachment.\n\n\n\n\n\nC. Evidentiary Hearings – New Applications\n\n\n1. COA-0069-2024: 1105 W LENOIR STREET\nThis Agenda Item Contains an Attachment.\n\n2. COA-0079-2024: 120 E EDENTON STREET\nThis Agenda Item Contains an Attachment.\n\n3. COA-0081-2024: 531 MOSELEY LANE\nThis Agenda Item Contains an Attachment.\n\n4. COA-0083-2024: 514 1/2 COLE STREET\nThis Agenda Item Contains an Attachment.\n\n5. COA-0084-2024: 524 S BOYLAN AVENUE\nThis Agenda Item Contains an Attachment.\n\n6. COA-0086-2024: 907 W SOUTH STREET\nThis Agenda Item Contains an Attachment.\n\n\n\n\n\nD. Deferred – Not Being Heard\n\n\n1. COA-0055-2024: 1102 GLENWOOD AVENUE\n\n\n\n\n\n\nE. Other Business\n\n\n1. Committee Discussion\n\n\n\n\n\n\nF. Adjourment\n\n\n1. Adjourn Meeting\n\n\n\n\n\n\n\n\n\nRHDC Certificate of Appropriateness Committee public meetings are held in the Raleigh Municipal Building\, City Council Chamber. A broadcast is available via the following methods: the city’s website; the city’s YouTube Channel or Channel RTN-11. \nAgenda and ParticipationVisit the Certificate of Appropriateness webpage for additional information and how to participate. Meeting agendas are added to the BoardDocs agenda management portal. \nPLEASE NOTE: Applications should be submitted using the city’s online Permit and Development Portal. If you have any questions about the application process or about the meeting date\, time\, etc.\, please contact staff at historicpreservation@raleighnc.gov.
URL:https://livableraleigh.com/event/rhdc-certificate-of-appropriateness-committee-20/
LOCATION:Raleigh Municipal Building\, 222 W. Hargett St.\, Raleigh\, NC\, 27601\, United States
CATEGORIES:Historic Development Commission
END:VEVENT
END:VCALENDAR