BEGIN:VCALENDAR
VERSION:2.0
PRODID:-//Livable Raleigh - ECPv6.15.20//NONSGML v1.0//EN
CALSCALE:GREGORIAN
METHOD:PUBLISH
X-ORIGINAL-URL:https://livableraleigh.com
X-WR-CALDESC:Events for Livable Raleigh
REFRESH-INTERVAL;VALUE=DURATION:PT1H
X-Robots-Tag:noindex
X-PUBLISHED-TTL:PT1H
BEGIN:VTIMEZONE
TZID:America/New_York
BEGIN:DAYLIGHT
TZOFFSETFROM:-0500
TZOFFSETTO:-0400
TZNAME:EDT
DTSTART:20230312T070000
END:DAYLIGHT
BEGIN:STANDARD
TZOFFSETFROM:-0400
TZOFFSETTO:-0500
TZNAME:EST
DTSTART:20231105T060000
END:STANDARD
BEGIN:DAYLIGHT
TZOFFSETFROM:-0500
TZOFFSETTO:-0400
TZNAME:EDT
DTSTART:20240310T070000
END:DAYLIGHT
BEGIN:STANDARD
TZOFFSETFROM:-0400
TZOFFSETTO:-0500
TZNAME:EST
DTSTART:20241103T060000
END:STANDARD
BEGIN:DAYLIGHT
TZOFFSETFROM:-0500
TZOFFSETTO:-0400
TZNAME:EDT
DTSTART:20250309T070000
END:DAYLIGHT
BEGIN:STANDARD
TZOFFSETFROM:-0400
TZOFFSETTO:-0500
TZNAME:EST
DTSTART:20251102T060000
END:STANDARD
END:VTIMEZONE
BEGIN:VEVENT
DTSTART;TZID=America/New_York:20240702T160000
DTEND;TZID=America/New_York:20240702T173000
DTSTAMP:20260422T072855
CREATED:20240601T210357Z
LAST-MODIFIED:20240628T195852Z
UID:38478-1719936000-1719941400@livableraleigh.com
SUMMARY:RHDC Community Awareness Committee
DESCRIPTION:1. Call to Order\n\n\nA. Call to Order and Welcome\nThis Agenda Item Contains an Attachment.\n\n\n\n\n\n2. Public Comment\n\n\nA. This is an opportunity for the public to comment on items or issues that are not otherwise on the agenda. Please limit comments to 3 minutes per speaker\n\n\n\n\n\n\n3. Old Business\n\n\nA. July/August 2024 RHDC Social Media Calendar\n\n\nB. RHDC SWAG\n\n\n\n\n\n\n4. New Business\n\n\nA. William Henley Deitrick mobile tour\n\n\n\n\n\n\n5. Pending Business\n\n\nA. Items not being discussed\n\n\nB. RHDC Website Conversion\n\n\n\n\n\n\n6. Adjournment\n\nThe Community Awareness Committee meets on the first Tuesday of the month at 4:00 p.m. in the Nash conference room\, Suite 300 of the One Exchange Plaza building. Meeting agendas are added to the BoardDocs agenda management portal.
URL:https://livableraleigh.com/event/rhdc-community-awareness-committee-18/
LOCATION:One Exchange Plaza\, 1 Exchange Plaza\, Raleigh\, NY\, 27601
CATEGORIES:Historic Development Commission
END:VEVENT
BEGIN:VEVENT
DTSTART;TZID=America/New_York:20240703T083000
DTEND;TZID=America/New_York:20240703T100000
DTSTAMP:20260422T072855
CREATED:20240601T210554Z
LAST-MODIFIED:20240628T195740Z
UID:38482-1719995400-1720000800@livableraleigh.com
SUMMARY:RHDC Research Committee
DESCRIPTION:1. Call to Order\n\n\nA. Call to Order and Welcome\nThis Agenda Item Contains an Attachment.\n\n\n\n\n\n2. New Business\n\n\nA. RHL Pre-Application Review – Sears Winona House (1102 Glenwood Avenue)\n\n\nB. 2023 Inquiry Letters for RHL\n\n\n\n\n\n\n3. Public Comment\n\n\nA. This is an opportunity for the public to comment on items or issues that are not otherwise on the agenda. Please limit comments to 3 minutes per speaker.\n\n\n\n\n\n\n4. Pending Business\n\n\nA. Items not being discussed\n\n\n\n\n\n\n5. Adjournment\n\nThe Research Committee meets on the first Wednesday of the month at 8:30 a.m. in conference room 108\, Suite 100 of the One Exchange Plaza building. Meeting agendas are added to the BoardDocs agenda management portal.
URL:https://livableraleigh.com/event/rhdc-research-committee-19/
LOCATION:One Exchange Plaza\, 1 Exchange Plaza\, Raleigh\, NY\, 27601
CATEGORIES:Historic Development Commission
END:VEVENT
BEGIN:VEVENT
DTSTART;TZID=America/New_York:20240716T073000
DTEND;TZID=America/New_York:20240716T093000
DTSTAMP:20260422T072855
CREATED:20240601T223613Z
LAST-MODIFIED:20240712T181354Z
UID:38512-1721115000-1721122200@livableraleigh.com
SUMMARY:Raleigh Historic Development Commission Meeting
DESCRIPTION:Public Meeting – July 16\, 2024\n\n\n\nThe Raleigh Historic Development Commission will conduct a public meeting on Tuesday\, July 16 at 7:45 a.m. in Suite 100\, One Exchange Plaza\, Raleigh\, NC 27601. \nPubic participation is now available in person and remotely via voicemail. To leave a public comment for the Raleigh Historic Development Commission\, call 855-925-2801 and enter code 1887. Visit the RHDC page for more details. \nFor questions about the meeting\, please contact historicpreservation@raleighnc.gov \n\n1. Call to Order\n\n\nA. Roll Call\n\n\n\n\n\n\n2. Consent Items\n\n\nA. Approval of Minutes from June 18\, 2024\n\n\n\n\n\n\n3. Public Comment\n\n\nA. Public Comment – Limit to 3 minutes\n\n\nB. Voice Mail Public Comment\n\n\n\n\n\n\n4. New Business\n\n\nA. Recombination/Recorded Plat: RCMP-0125-2024 (521 Elm St)\nThis Agenda Item Contains an Attachment.\n\nB. Recombination/Recorded Plat: RCMP-0141-2024 (1028 W South St)\nThis Agenda Item Contains an Attachment.\n\nC. Annual Retreat\n\n\n\n\n\n\n5. Committee Reports\n\n\nA. Research\n\n\nB. Community Awareness\n\n\nC. Certificate of Appropriateness\n\n\n\n\n\n\n6. Other Business\n\n\nA. Report of Commissioners\n\n\nB. Report of Historic Preservation Unit\nThis Agenda Item Contains an Attachment.\n\n\n\n\n\n7. Adjournment\n\n\nA. Adjourn Meeting\n\n\n\n\n\n\nThe Commission typically meets on the third Tuesday of each month at 7:45 a.m. Meeting agendas are added to the BoardDocs agenda management portal. \nAgenda and ParticipationVisit the RHDC webpage for additional information on how to participate in person or by voicemail comment.
URL:https://livableraleigh.com/event/raleigh-historic-development-commission-meeting-18/
LOCATION:One Exchange Plaza\, 1 Exchange Plaza\, Raleigh\, NY\, 27601
CATEGORIES:Historic Development Commission
END:VEVENT
BEGIN:VEVENT
DTSTART;TZID=America/New_York:20240725T170000
DTEND;TZID=America/New_York:20240725T200000
DTSTAMP:20260422T072855
CREATED:20240601T224502Z
LAST-MODIFIED:20240718T204526Z
UID:38526-1721926800-1721937600@livableraleigh.com
SUMMARY:RHDC Certificate of Appropriateness Committee
DESCRIPTION:A. Call to Order – Chair\n\n\n1. Roll Call\n\n\n2. Approval of Agenda\n\n\n3. Approval of Minutes: June 27\, 2024\n\n\n4. Minor Work Report\nThis Agenda Item Contains an Attachment.\n\n\n\n\n\nB. Evidentiary Hearings – New Applications\n\n\n1. COA-0055-2024: 1102 GLENWOOD AVENUE\nThis Agenda Item Contains an Attachment.\n\n2. COA-0057-2024: 506 TILDEN STREET\nThis Agenda Item Contains an Attachment.\n\n3. COA-0066-2024: 515 POLK STREET\nThis Agenda Item Contains an Attachment.\n\n\n\n\n\nC. Deferred – Not Being Heard\n\n\n1. COA-0006-2024: 803 GLENWOOD AVENUE\n\n\n2. COA-0053-2024: 601 ELM STREET\n\n\n\n\n\n\nD. Other Business\n\n\n1. Committee Discussion\n\n\n\n\n\n\nE. Adjourment\n\n\n1. Adjourn Meeting\n\n\n\nRHDC Certificate of Appropriateness Committee public meetings are held in the Raleigh Municipal Building\, City Council Chamber. A broadcast is available via the following methods: the city’s website; the city’s YouTube Channel or Channel RTN-11. \nAgenda and ParticipationVisit the Certificate of Appropriateness webpage for additional information and how to participate. Meeting agendas are added to the BoardDocs agenda management portal. \nPLEASE NOTE: Applications should be submitted using the city’s online Permit and Development Portal. If you have any questions about the application process or about the meeting date\, time\, etc.\, please contact staff at historicpreservation@raleighnc.gov.
URL:https://livableraleigh.com/event/38526/
LOCATION:Raleigh Municipal Building\, 222 W. Hargett St.\, Raleigh\, NC\, 27601\, United States
CATEGORIES:Historic Development Commission
END:VEVENT
END:VCALENDAR