BEGIN:VCALENDAR
VERSION:2.0
PRODID:-//Livable Raleigh - ECPv6.15.20//NONSGML v1.0//EN
CALSCALE:GREGORIAN
METHOD:PUBLISH
X-ORIGINAL-URL:https://livableraleigh.com
X-WR-CALDESC:Events for Livable Raleigh
REFRESH-INTERVAL;VALUE=DURATION:PT1H
X-Robots-Tag:noindex
X-PUBLISHED-TTL:PT1H
BEGIN:VTIMEZONE
TZID:America/New_York
BEGIN:DAYLIGHT
TZOFFSETFROM:-0500
TZOFFSETTO:-0400
TZNAME:EDT
DTSTART:20230312T070000
END:DAYLIGHT
BEGIN:STANDARD
TZOFFSETFROM:-0400
TZOFFSETTO:-0500
TZNAME:EST
DTSTART:20231105T060000
END:STANDARD
BEGIN:DAYLIGHT
TZOFFSETFROM:-0500
TZOFFSETTO:-0400
TZNAME:EDT
DTSTART:20240310T070000
END:DAYLIGHT
BEGIN:STANDARD
TZOFFSETFROM:-0400
TZOFFSETTO:-0500
TZNAME:EST
DTSTART:20241103T060000
END:STANDARD
BEGIN:DAYLIGHT
TZOFFSETFROM:-0500
TZOFFSETTO:-0400
TZNAME:EDT
DTSTART:20250309T070000
END:DAYLIGHT
BEGIN:STANDARD
TZOFFSETFROM:-0400
TZOFFSETTO:-0500
TZNAME:EST
DTSTART:20251102T060000
END:STANDARD
END:VTIMEZONE
BEGIN:VEVENT
DTSTART;TZID=America/New_York:20240604T160000
DTEND;TZID=America/New_York:20240604T173000
DTSTAMP:20260422T125932
CREATED:20240427T132917Z
LAST-MODIFIED:20240529T134132Z
UID:37781-1717516800-1717522200@livableraleigh.com
SUMMARY:RHDC Community Awareness Committee
DESCRIPTION:Public Meeting – June 4\, 2024\n\n\n\nThe Community Awareness Committee of the Raleigh Historic Development Commissionwill conduct a public meeting on Tuesday\, June 4 at 4:00 p.m. in the Nash conference room on the 3rd floor of One Exchange Plaza\, Raleigh\, NC 27601. \nFor questions about the meeting\, please contact historicpreservation@raleighnc.gov. \n\n1. Call to Order\n\n\nA. Call to Order and Welcome\nThis Agenda Item Contains an Attachment.\n\n\n\n\n\n2. Public Comment\n\n\nA. This is an opportunity for the public to comment on items or issues that are not otherwise on the agenda. Please limit comments to 3 minutes per speaker\n\n\n\n\n\n\n3. Old Business\n\n\nA. Historic Bike Tour Debriefing\n\n\nB. May/June 2024 RHDC Social Media Calendar\n\n\n\n\n\n\n4. New Business\n\n\nA. Mayor’s Proclamation\nThis Agenda Item Contains an Attachment.\n\nB. July/August 2024 RHDC Social Media Calendar\n\n\nC. RHDC SWAG\n\n\n\n\n\n\n5. Pending Business\n\n\nA. 2024 Tabling Events\n\n\nB. Items not being discussed\n\n\nC. RHDC Website Conversion\n\n\n\n\n\n\n6. Adjournment\n\n\n\n\nThe Community Awareness Committee meets on the first Tuesday of the month at 4:00 p.m. in the Nash conference room\, Suite 300 of the One Exchange Plaza building. Meeting agendas are added to the BoardDocs agenda management portal.
URL:https://livableraleigh.com/event/rhdc-community-awareness-committee-17/
LOCATION:One Exchange Plaza\, 1 Exchange Plaza\, Raleigh\, NY\, 27601
CATEGORIES:Historic Development Commission
END:VEVENT
BEGIN:VEVENT
DTSTART;TZID=America/New_York:20240605T083000
DTEND;TZID=America/New_York:20240605T100000
DTSTAMP:20260422T125932
CREATED:20240427T133121Z
LAST-MODIFIED:20240531T233059Z
UID:37785-1717576200-1717581600@livableraleigh.com
SUMMARY:RHDC Research Committee
DESCRIPTION:Public Meeting – June 5\, 2024\n\n\n\nThe Research Committee of the Raleigh Historic Development Commission will conduct a public meeting on Wednesday\, June 5 at 8:30 a.m. at One Exchange Plaza\, Suite 100\, conference room 108. \nFor questions about the meeting\, please contact historicpreservation@raleighnc.gov \n\n1. Call to Order\n\n\nA. Call to Order and Welcome\n\n\n\n\n\n\n2. New Business\n\n\nA. RHL Pre-Application Review & Funding Request – William H. Deitrick House or Annie Briggs House (1900 McDonald Lane)\nThis Agenda Item Contains an Attachment.\n\nB. 2023 Inquiry Letters for RHL\nThis Agenda Item Contains an Attachment.\n\nC. Wake County Historic Properties\nThis Agenda Item Contains an Attachment.\n\nD. Raleigh Historic Landmarks Preliminary Application Form\nThis Agenda Item Contains an Attachment.\n\n\n\n\n\n3. Public Comment\n\n\nA. This is an opportunity for the public to comment on items or issues that are not otherwise on the agenda. Please limit comments to 3 minutes per speaker.\n\n\n\n\n\n\n4. Pending Business\n\n\nA. Items not being discussed\n\n\n\n\n\n\n5. Adjournment\n\n\n\n\nThe Research Committee meets on the first Wednesday of the month at 8:30 a.m. in conference room 108\, Suite 100 of the One Exchange Plaza building. Meeting agendas are added to the BoardDocs agenda management portal.
URL:https://livableraleigh.com/event/rhdc-research-committee-18/
LOCATION:One Exchange Plaza\, 1 Exchange Plaza\, Raleigh\, NY\, 27601
CATEGORIES:Historic Development Commission
END:VEVENT
BEGIN:VEVENT
DTSTART;TZID=America/New_York:20240618T073000
DTEND;TZID=America/New_York:20240618T093000
DTSTAMP:20260422T125932
CREATED:20240505T003832Z
LAST-MODIFIED:20240613T201745Z
UID:37897-1718695800-1718703000@livableraleigh.com
SUMMARY:Raleigh Historic Development Commission Meeting
DESCRIPTION:Public Meeting – June 18\n\n\n\nThe Raleigh Historic Development Commission will conduct a public meeting on Tuesday\, June 18 at 7:45 a.m. in Suite 100\, One Exchange Plaza\, Raleigh\, NC 27601. \nPubic participation is now available in person and remotely via voicemail. To leave a public comment for the Raleigh Historic Development Commission\, call 855-925-2801 and enter code 1887. Visit the RHDC page for more details. \nFor questions about the meeting\, please contact historicpreservation@raleighnc.gov \n\n\n\n1. Call to Order\n\n\nA. Roll Call\n\n\n\n\n\n\n2. Consent Items\n\n\nA. Approval of Minutes from May 21\, 2024\nThis Agenda Item Contains an Attachment.\n\n\n\n\n\n3. Public Comment\n\n\nA. Public Comment – Limit to 3 minutes\n\n\nB. Voice Mail Public Comment\n\n\n\n\n\n\n4. New Business\n\n\nA. Officer Elections\n\n\nB. Black Heritage and Historic Places: 1945-1975 Report\n\n\nC. RHDC Meeting Day\, Location\, and Time Change\n\n\nD. Demolition by Neglect Advice Letter\nThis Agenda Item Contains an Attachment.\n\nE. Recombination/Recorded Plat: RCMP-0070-2024 (506 Tilden)\nThis Agenda Item Contains an Attachment.\n\n\n\n\n\n5. Committee Reports\n\n\nA. Research\nThis Agenda Item Contains an Attachment.\n\nB. Community Awareness\n\n\nC. Certificate of Appropriateness\n\n\n\n\n\n\n6. Other Business\n\n\nA. Report of Commissioners\n\n\nB. Report of Historic Preservation Unit\nThis Agenda Item Contains an Attachment.\n\n\n\n\n\n7. Adjournment\n\n\nA. Adjourn Meeting\n\n\n\nThe Commission typically meets on the third Tuesday of each month at 7:45 a.m. Meeting agendas are added to the BoardDocs agenda management portal. \nAgenda and ParticipationVisit the RHDC webpage for additional information on how to participate in person or by voicemail comment.
URL:https://livableraleigh.com/event/raleigh-historic-development-commission-meeting-17/
LOCATION:One Exchange Plaza\, 1 Exchange Plaza\, Raleigh\, NY\, 27601
CATEGORIES:Historic Development Commission
END:VEVENT
BEGIN:VEVENT
DTSTART;TZID=America/New_York:20240627T170000
DTEND;TZID=America/New_York:20240627T200000
DTSTAMP:20260422T125932
CREATED:20240505T010736Z
LAST-MODIFIED:20240613T183145Z
UID:37935-1719507600-1719518400@livableraleigh.com
SUMMARY:RHDC Certificate of Appropriateness Committee
DESCRIPTION:A. Call to Order – Chair\n\n\n1. Roll Call\n\n\n2. Approval of Agenda\n\n\n3. Approval of Minutes: April 25 & May 23\, 2024\n\n\n4. Minor Work Report\nThis Agenda Item Contains an Attachment.\n\n\n\n\n\nB. Evidentiary Hearings – New Applications\n\n\n1. COA-0015-2024: 533 N EAST STREET\nThis Agenda Item Contains an Attachment.\n\n2. COA-0053-2024: 601 ELM STREET\nThis Agenda Item Contains an Attachment.\n\n3. COA-0054-2024: 209 LINDEN AVENUE\nThis Agenda Item Contains an Attachment.\n\n\n\n\n\nC. Deferred – Not Being Heard\n\n\n1. COA-0006-2024: 803 GLENWOOD AVENUE\n\n\n\n\n\n\nD. Other Business\n\n\n1. Committee Discussion\n\n\n\n\n\n\nE. Adjourment\n\n\n1. Adjourn Meeting\n\n\n\nRHDC Certificate of Appropriateness Committee public meetings are held in the Raleigh Municipal Building\, City Council Chamber. A broadcast is available via the following methods: the city’s website; the city’s YouTube Channel or Channel RTN-11. \nAgenda and ParticipationVisit the Certificate of Appropriateness webpage for additional information and how to participate. Meeting agendas are added to the BoardDocs agenda management portal. \nPLEASE NOTE: Applications should be submitted using the city’s online Permit and Development Portal. If you have any questions about the application process or about the meeting date\, time\, etc.\, please contact staff at historicpreservation@raleighnc.gov.
URL:https://livableraleigh.com/event/rhdc-certificate-of-appropriateness-committee-19/
LOCATION:Raleigh Municipal Building\, 222 W. Hargett St.\, Raleigh\, NC\, 27601\, United States
CATEGORIES:Historic Development Commission
END:VEVENT
END:VCALENDAR