BEGIN:VCALENDAR
VERSION:2.0
PRODID:-//Livable Raleigh - ECPv6.15.20//NONSGML v1.0//EN
CALSCALE:GREGORIAN
METHOD:PUBLISH
X-ORIGINAL-URL:https://livableraleigh.com
X-WR-CALDESC:Events for Livable Raleigh
REFRESH-INTERVAL;VALUE=DURATION:PT1H
X-Robots-Tag:noindex
X-PUBLISHED-TTL:PT1H
BEGIN:VTIMEZONE
TZID:America/New_York
BEGIN:DAYLIGHT
TZOFFSETFROM:-0500
TZOFFSETTO:-0400
TZNAME:EDT
DTSTART:20230312T070000
END:DAYLIGHT
BEGIN:STANDARD
TZOFFSETFROM:-0400
TZOFFSETTO:-0500
TZNAME:EST
DTSTART:20231105T060000
END:STANDARD
BEGIN:DAYLIGHT
TZOFFSETFROM:-0500
TZOFFSETTO:-0400
TZNAME:EDT
DTSTART:20240310T070000
END:DAYLIGHT
BEGIN:STANDARD
TZOFFSETFROM:-0400
TZOFFSETTO:-0500
TZNAME:EST
DTSTART:20241103T060000
END:STANDARD
BEGIN:DAYLIGHT
TZOFFSETFROM:-0500
TZOFFSETTO:-0400
TZNAME:EDT
DTSTART:20250309T070000
END:DAYLIGHT
BEGIN:STANDARD
TZOFFSETFROM:-0400
TZOFFSETTO:-0500
TZNAME:EST
DTSTART:20251102T060000
END:STANDARD
END:VTIMEZONE
BEGIN:VEVENT
DTSTART;TZID=America/New_York:20240501T083000
DTEND;TZID=America/New_York:20240501T100000
DTSTAMP:20260422T181300
CREATED:20240402T040527Z
LAST-MODIFIED:20240426T152236Z
UID:37290-1714552200-1714557600@livableraleigh.com
SUMMARY:RHDC Research Committee
DESCRIPTION:Public Meeting – May 1\, 2024\n\n\n\nThe Research Committee of the Raleigh Historic Development Commission will conduct a public meeting on Wednesday\, May 1 at 8:30 a.m. at One Exchange Plaza\, Suite 100\, conference room 108. \nFor questions about the meeting\, please contact historicpreservation@raleighnc.gov \n\n1. Call to Order\n\n\nA. Call to Order and Welcome\nThis Agenda Item Contains an Attachment.\n\n\n\n\n\n2. New Business\n\n\nA. County Commissioner Adamson\n\n\n\n\n\n\n3. Public Comment\n\n\nA. This is an opportunity for the public to comment on items or issues that are not otherwise on the agenda. Please limit comments to 3 minutes per speaker.\n\n\n\n\n\n\n4. Pending Business\n\n\nA. Items not being discussed\n\n\n\n\n\n\n5. Adjournment\n\n\n\n\nThe Research Committee meets on the first Wednesday of the month at 8:30 a.m. in conference room 108\, Suite 100 of the One Exchange Plaza building. Meeting agendas are added to the BoardDocs agenda management portal.
URL:https://livableraleigh.com/event/rhdc-research-committee-17/
LOCATION:One Exchange Plaza\, 1 Exchange Plaza\, Raleigh\, NY\, 27601
CATEGORIES:Engagement Filter,Historic Development Commission
END:VEVENT
BEGIN:VEVENT
DTSTART;TZID=America/New_York:20240504T100000
DTEND;TZID=America/New_York:20240504T120000
DTSTAMP:20260422T181300
CREATED:20240405T133034Z
LAST-MODIFIED:20240405T133034Z
UID:37353-1714816800-1714824000@livableraleigh.com
SUMMARY:Historic Bike Ride with RHDC
DESCRIPTION:Hop on your bike for a ride into Raleigh’s history. The Raleigh Historic Development Commission (RHDC)\, in partnership with the Bicycle and Pedestrian Advisory Commission (BPAC)\, will be hosting a bike ride that will begin and end at Crank Arm Brewing. The 6-mile route includes stops at five Raleigh Historic Landmarks including: \n– Dr. M. T. Pope House– Lemuel and Julia Delany House– St. Agnes Hospital– Mary Elizabeth Hospital– Seaboard Coast Line Railroad Building \nRHDC volunteers at each site will share a brief history of the property. Riders are encouraged to bring their own bikes and helmets. Limited bike rentals will be available through the Bike Library at Crank Arm. A few free Cardinal Share e-bikes will also be available. Water and restrooms are not provided along the route. QR codes to a digital route map and group bike leads & sweeps will help ensure everyone bikes safely along the route. \nRegister to attend.
URL:https://livableraleigh.com/event/historic-bike-ride-with-rhdc/
LOCATION:Crank Arm Brewery\, 319 W Davie Street\, Raleigh\, NC\, 27601
CATEGORIES:Community and Workshops,Historic Development Commission
END:VEVENT
BEGIN:VEVENT
DTSTART;TZID=America/New_York:20240507T160000
DTEND;TZID=America/New_York:20240507T173000
DTSTAMP:20260422T181300
CREATED:20240405T142800Z
LAST-MODIFIED:20240507T200816Z
UID:37364-1715097600-1715103000@livableraleigh.com
SUMMARY:RHDC Community Awareness Committee -- Cancelled
DESCRIPTION:Public Meeting – May 7\, 2024\n\n\n\nThe Community Awareness Committee of the Raleigh Historic Development Commissionwill conduct a public meeting on Tuesday\, May 7 at 4:00 p.m. in the Nash conference room on the 3rd floor of One Exchange Plaza\, Raleigh\, NC 27601. \n\n1. Call to Order\n\n\nA. Call to Order and Welcome\nThis Agenda Item Contains an Attachment.\n\n\n\n\n\n2. Public Comment\n\n\nA. This is an opportunity for the public to comment on items or issues that are not otherwise on the agenda. Please limit comments to 3 minutes per speaker\n\n\n\n\n\n\n3. Old Business\n\n\nA. Historic Bike Tour Debriefing\n\n\nB. May/June 2024 RHDC Social Media Calendar\n\n\n\n\n\n\n4. New Business\n\n\nA. Mayor’s Proclamation\nThis Agenda Item Contains an Attachment.\n\nB. July/August 2024 RHDC Social Media Calendar\n\n\nC. RHDC SWAG\n\n\n\n\n\n\n5. Pending Business\n\n\nA. 2024 Tabling Events\n\n\nB. Items not being discussed\n\n\nC. RHDC Website Conversion\n\n\n\n\n\n\n6. Adjournment\n\n\n\n\nThe Community Awareness Committee meets on the first Tuesday of the month at 4:00 p.m. in the Nash conference room\, Suite 300 of the One Exchange Plaza building. Meeting agendas are added to the BoardDocs agenda management portal.
URL:https://livableraleigh.com/event/rhdc-community-awareness-committee-16/
LOCATION:One Exchange Plaza\, 1 Exchange Plaza\, Raleigh\, NY\, 27601
CATEGORIES:Historic Development Commission
END:VEVENT
BEGIN:VEVENT
DTSTART;TZID=America/New_York:20240514T160000
DTEND;TZID=America/New_York:20240514T170000
DTSTAMP:20260422T181300
CREATED:20240405T152949Z
LAST-MODIFIED:20240405T152949Z
UID:37395-1715702400-1715706000@livableraleigh.com
SUMMARY:RHDC Nominations Committee
DESCRIPTION:The Nominations Committee generally meets on the second Tuesday of the month at 4:00 p.m. January through May in the Nash conference room\, Suite 300 of the One Exchange Plaza building. Meeting agendas are added to the BoardDocs agenda management portal.
URL:https://livableraleigh.com/event/rhdc-nominations-committee-10/
LOCATION:One Exchange Plaza\, 1 Exchange Plaza\, Raleigh\, NY\, 27601
CATEGORIES:Historic Development Commission
END:VEVENT
BEGIN:VEVENT
DTSTART;TZID=America/New_York:20240521T073000
DTEND;TZID=America/New_York:20240521T093000
DTSTAMP:20260422T181300
CREATED:20240405T164649Z
LAST-MODIFIED:20240515T204404Z
UID:37414-1716276600-1716283800@livableraleigh.com
SUMMARY:Raleigh Historic Development Commission Meeting
DESCRIPTION:Public Meeting – May 21\n\n\n\nThe Raleigh Historic Development Commission will conduct a public meeting on Tuesday\, May 21 at 7:45 a.m. in Suite 100\, One Exchange Plaza\, Raleigh\, NC 27601. \nPubic participation is now available in person and remotely via voicemail. To leave a public comment for the Raleigh Historic Development Commission\, call 855-925-2801 and enter code 1887. Visit the RHDC page for more details. \nFor questions about the meeting\, please contact historicpreservation@raleighnc.gov \n\n1. Call to Order\n\n\nA. Roll Call\n\n\n\n\n\n\n2. Consent Items\n\n\nA. Approval of Minutes from April 16\, 2024\nThis Agenda Item Contains an Attachment.\n\n\n\n\n\n3. Public Comment\n\n\nA. Public Comment – Limit to 3 minutes\n\n\nB. Voice Mail Public Comment\n\n\n\n\n\n\n4. New Business\n\n\nA. Sir Walter Awards for Community Appearance – Juror Selection\n\n\nB. RHDC/Preservation Updates to the UDO\nThis Agenda Item Contains an Attachment.\n\n\n\n\n\n5. Committee Reports\n\n\nA. Research\n\n\nB. Community Awareness\n\n\nC. Certificate of Appropriateness\n\n\nD. Nominations\n\n\nE. Prince Hall HOD Ad Hoc\n\n\n\n\n\n\n6. Other Business\n\n\nA. Report of Commissioners\n\n\nB. Report of Historic Preservation Unit\nThis Agenda Item Contains an Attachment.\n\n\n\n\n\n7. Adjournment\n\n\nA. Adjourn Meeting\n\n\n\n\n\n\nThe Commission typically meets on the third Tuesday of each month at 7:45 a.m. Meeting agendas are added to the BoardDocs agenda management portal. \nAgenda and ParticipationVisit the RHDC webpage for additional information on how to participate in person or by voicemail comment.
URL:https://livableraleigh.com/event/raleigh-historic-development-commission-meeting-16/
LOCATION:One Exchange Plaza\, 1 Exchange Plaza\, Raleigh\, NY\, 27601
CATEGORIES:Historic Development Commission
END:VEVENT
BEGIN:VEVENT
DTSTART;TZID=America/New_York:20240523T170000
DTEND;TZID=America/New_York:20240523T200000
DTSTAMP:20260422T181300
CREATED:20240405T165534Z
LAST-MODIFIED:20240405T165534Z
UID:37430-1716483600-1716494400@livableraleigh.com
SUMMARY:RHDC Certificate of Appropriateness Committee
DESCRIPTION:RHDC Certificate of Appropriateness Committee public meetings are held in the Raleigh Municipal Building\, City Council Chamber. A broadcast is available via the following methods: the city’s website; the city’s YouTube Channel or Channel RTN-11. \nAgenda and ParticipationVisit the Certificate of Appropriateness webpage for additional information and how to participate. Meeting agendas are added to the BoardDocs agenda management portal. \nPLEASE NOTE: Applications should be submitted using the city’s online Permit and Development Portal. If you have any questions about the application process or about the meeting date\, time\, etc.\, please contact staff at historicpreservation@raleighnc.gov.
URL:https://livableraleigh.com/event/rhdc-certificate-of-appropriateness-committee-18/
LOCATION:Raleigh Municipal Building\, 222 W. Hargett St.\, Raleigh\, NC\, 27601\, United States
CATEGORIES:Historic Development Commission
END:VEVENT
END:VCALENDAR