BEGIN:VCALENDAR
VERSION:2.0
PRODID:-//Livable Raleigh - ECPv6.15.20//NONSGML v1.0//EN
CALSCALE:GREGORIAN
METHOD:PUBLISH
X-ORIGINAL-URL:https://livableraleigh.com
X-WR-CALDESC:Events for Livable Raleigh
REFRESH-INTERVAL;VALUE=DURATION:PT1H
X-Robots-Tag:noindex
X-PUBLISHED-TTL:PT1H
BEGIN:VTIMEZONE
TZID:America/New_York
BEGIN:DAYLIGHT
TZOFFSETFROM:-0500
TZOFFSETTO:-0400
TZNAME:EDT
DTSTART:20230312T070000
END:DAYLIGHT
BEGIN:STANDARD
TZOFFSETFROM:-0400
TZOFFSETTO:-0500
TZNAME:EST
DTSTART:20231105T060000
END:STANDARD
BEGIN:DAYLIGHT
TZOFFSETFROM:-0500
TZOFFSETTO:-0400
TZNAME:EDT
DTSTART:20240310T070000
END:DAYLIGHT
BEGIN:STANDARD
TZOFFSETFROM:-0400
TZOFFSETTO:-0500
TZNAME:EST
DTSTART:20241103T060000
END:STANDARD
BEGIN:DAYLIGHT
TZOFFSETFROM:-0500
TZOFFSETTO:-0400
TZNAME:EDT
DTSTART:20250309T070000
END:DAYLIGHT
BEGIN:STANDARD
TZOFFSETFROM:-0400
TZOFFSETTO:-0500
TZNAME:EST
DTSTART:20251102T060000
END:STANDARD
END:VTIMEZONE
BEGIN:VEVENT
DTSTART;TZID=America/New_York:20240402T160000
DTEND;TZID=America/New_York:20240402T173000
DTSTAMP:20260422T204532
CREATED:20240302T171438Z
LAST-MODIFIED:20240328T130209Z
UID:36714-1712073600-1712079000@livableraleigh.com
SUMMARY:RHDC Community Awareness Committee
DESCRIPTION:Public Meeting – April 2\, 2024\n\n\n\nThe Community Awareness Committee of the Raleigh Historic Development Commission will conduct a public meeting on Tuesday\, April 2 at 4:00 p.m. in the Nash conference room on the 3rd floor of One Exchange Plaza\, Raleigh\, NC 27601. \nFor questions about the meeting\, please contact historicpreservation@raleighnc.gov. \n\n\n\n1. Call to Order\n\n\nA. Call to Order and Welcome\n\n\n\n\n\n\n2. Public Comment\n\n\nA. This is an opportunity for the public to comment on items or issues that are not otherwise on the agenda. Please limit comments to 3 minutes per speaker\n\n\n\n\n\n\n3. Old Business\n\n\nA. May/June 2024 RHDC Social Media Calendar\n\n\nB. 2024 Tabling Events – Celebrate Oberlin on 04/20/24\n\n\n\n\n\n\n4. New Business\n\n\nA. Historic Bike Tour Planning\n\n\n\n\n\n\n5. Pending Business\n\n\nA. Items not being discussed\n\n\nB. RHDC Website Conversion\n\n\n\n\n\n\n6. Adjournment\n\nThe Community Awareness Committee meets on the first Tuesday of the month at 4:00 p.m. in the Nash conference room\, Suite 300 of the One Exchange Plaza building. Meeting agendas are added to the BoardDocs agenda management portal.
URL:https://livableraleigh.com/event/rhdc-community-awareness-committee-15/
LOCATION:One Exchange Plaza\, 1 Exchange Plaza\, Raleigh\, NY\, 27601
CATEGORIES:Historic Development Commission
END:VEVENT
BEGIN:VEVENT
DTSTART;TZID=America/New_York:20240403T083000
DTEND;TZID=America/New_York:20240403T100000
DTSTAMP:20260422T204532
CREATED:20240302T171652Z
LAST-MODIFIED:20240327T133943Z
UID:36718-1712133000-1712138400@livableraleigh.com
SUMMARY:RHDC Research Committee
DESCRIPTION:Public Meeting – April 3\, 2024\n\n\n\nThe Research Committee of the Raleigh Historic Development Commission will conduct a public meeting on Wednesday\, April 3 at 8:30 a.m. at One Exchange Plaza\, Suite 100\, conference room 108. \nFor questions about the meeting\, please contact historicpreservation@raleighnc.gov \n\n1. Call to Order\n\n\nA. Call to Order and Welcome\nThis Agenda Item Contains an Attachment.\n\n\n\n\n\n2. Old Business\n\n\nA. 2023 Inquiry Letters for RHL\nThis Agenda Item Contains an Attachment.\n\nB. RHL Pre-Application Review – Dr. and Mrs. Morley Kare House (2204 Barfield Ct)\nThis Agenda Item Contains an Attachment.\n\nC. Special Character Essays\nThis Agenda Item Contains an Attachment.\n\n\n\n\n\n3. Public Comment\n\n\nA. This is an opportunity for the public to comment on items or issues that are not otherwise on the agenda. Please limit comments to 3 minutes per speaker.\n\n\n\n\n\n\n4. Pending Business\n\n\nA. Items not being discussed\n\n\n\n\n\n\n5. Adjournment\n\n\n\n\nThe Research Committee meets on the first Wednesday of the month at 8:30 a.m. in conference room 108\, Suite 100 of the One Exchange Plaza building. Meeting agendas are added to the BoardDocs agenda management portal.
URL:https://livableraleigh.com/event/rhdc-research-committee-16/
LOCATION:One Exchange Plaza\, 1 Exchange Plaza\, Raleigh\, NY\, 27601
CATEGORIES:Historic Development Commission
END:VEVENT
BEGIN:VEVENT
DTSTART;TZID=America/New_York:20240409T160000
DTEND;TZID=America/New_York:20240409T170000
DTSTAMP:20260422T204532
CREATED:20240302T185215Z
LAST-MODIFIED:20240404T130552Z
UID:36748-1712678400-1712682000@livableraleigh.com
SUMMARY:RHDC Nominations Committee
DESCRIPTION:Public Meeting – April 9\, 2024\n\n\n\nThe Nominations Committee of the Raleigh Historic Development Commission will conduct a public meeting on Tuesday\, April 9 at 4:00 p.m. in the Nash conference room on the 3rd floor of One Exchange Plaza\, Raleigh\, NC 27601. \nFor questions about the meeting\, please contact historicpreservation@raleighnc.gov. \n\n1. Call to Order\n\n\n1.01 Call to Order and Welcome\n\n\n\n\n\n\n2. New Business\n\n\n2.01 Upcoming Vacancy\n\n\n\n\n\n\n3. Public Comment\n\n\n3.01 This is an opportunity for the public to comment on items or issues that are not otherwise on the agenda. Please limit comments to 3 minutes per speaker\n\n\n\n\n\n\n4. Adjournment\n\n\n\n\nThe Nominations Committee generally meets on the second Tuesday of the month at 4:00 p.m. January through May in the Nash conference room\, Suite 300 of the One Exchange Plaza building. Meeting agendas are added to the BoardDocs agenda management portal.
URL:https://livableraleigh.com/event/rhdc-nominations-committee-9/
LOCATION:One Exchange Plaza\, 1 Exchange Plaza\, Raleigh\, NY\, 27601
CATEGORIES:Historic Development Commission
END:VEVENT
BEGIN:VEVENT
DTSTART;TZID=America/New_York:20240415T170000
DTEND;TZID=America/New_York:20240415T180000
DTSTAMP:20260422T204532
CREATED:20240410T190328Z
LAST-MODIFIED:20240410T190328Z
UID:37505-1713200400-1713204000@livableraleigh.com
SUMMARY:RHDC COA Committee Training
DESCRIPTION:RHDC COA Committee Training\n\n\n\n\nPublic Meeting – April 15\, 2024\n\n\n\n\n\n\nThe RHDC Certificate of Appropriateness Committee will conduct its annual training on Monday\, April 15 at 5:00 p.m. at the Mordecai Historic Park Visitor’s Center\, 1101 Wake Forest Rd. \nFor more information about the meeting\, please contact historicpreservation@raleighnc.gov. \n\n1. Call to Order\n\n\nA. Roll Call\n\n\n\n\n\n\n2. Training\n\n\nA. Annual COA Committee Training\n\n\n\n\n\n\n3. Adjournment\n\n\nA. Adjourn Meeting
URL:https://livableraleigh.com/event/rhdc-coa-committee-training/
LOCATION:Mordecai Historic Park\, 1 Mimosa St\, Raleigh\, NC\, 27604
CATEGORIES:Engagement Filter,Historic Development Commission
END:VEVENT
BEGIN:VEVENT
DTSTART;TZID=America/New_York:20240416T073000
DTEND;TZID=America/New_York:20240416T093000
DTSTAMP:20260422T204532
CREATED:20240302T190912Z
LAST-MODIFIED:20240411T150021Z
UID:36760-1713252600-1713259800@livableraleigh.com
SUMMARY:Raleigh Historic Development Commission Meeting
DESCRIPTION:Raleigh Historic Development Commission\n\n\n\n\nPublic Meeting – April 16\n\n\n\nThe Raleigh Historic Development Commission will conduct a public meeting on Tuesday\, April 16 at 7:45 a.m. in Suite 100\, One Exchange Plaza\, Raleigh\, NC 27601. \nPlease allow time to go through building security. Information and building rules are available online. \nPubic participation is now available in person and remotely via voicemail. To leave a public comment for the Raleigh Historic Development Commission\, call 855-925-2801and enter code 1887. Visit the RHDC page for more details. \nFor questions about the meeting\, please contact historicpreservation@raleighnc.gov \n\n\n\n\n\n\n\n\n\n1. Call to Order\n\n\nA. Roll Call\nThis Agenda Item Contains an Attachment.\n\n\n\n\n\n2. Consent Items\n\n\nA. Approval of Minutes from March 19\, 2024\n\n\n\n\n\n\n3. Public Comment\n\n\nA. Public Comment – Limit to 3 minutes\n\n\nB. Voice Mail Public Comment\n\n\n\n\n\n\n4. Committee Reports\n\n\nA. Prince Hall HOD Ad Hoc\nThis Agenda Item Contains an Attachment.\n\nB. Research\n\n\nC. Community Awareness\n\n\nD. Certificate of Appropriateness\n\n\nE. Nominations\n\n\n\n\n\n\n5. Other Business\n\n\nA. Report of Commissioners\n\n\nB. Report of Historic Preservation Unit\nThis Agenda Item Contains an Attachment.\n\n\n\n\n\n6. Adjournment\n\n\nA. Adjourn Meeting\n\n\n\nThe Commission typically meets on the third Tuesday of each month at 7:45 a.m. Meeting agendas are added to the BoardDocs agenda management portal. \nAgenda and ParticipationVisit the RHDC webpage for additional information on how to participate in person or by voicemail comment.
URL:https://livableraleigh.com/event/raleigh-historic-development-commission-meeting-15/
LOCATION:One Exchange Plaza\, 1 Exchange Plaza\, Raleigh\, NY\, 27601
CATEGORIES:Historic Development Commission
END:VEVENT
BEGIN:VEVENT
DTSTART;TZID=America/New_York:20240425T170000
DTEND;TZID=America/New_York:20240425T200000
DTSTAMP:20260422T204532
CREATED:20240302T214937Z
LAST-MODIFIED:20240302T214937Z
UID:36801-1714064400-1714075200@livableraleigh.com
SUMMARY:RHDC Certificate of Appropriateness Committee
DESCRIPTION:RHDC Certificate of Appropriateness Committee public meetings are held in the Raleigh Municipal Building\, City Council Chamber. A broadcast is available via the following methods: the city’s website; the city’s YouTube Channel or Channel RTN-11. \nAgenda and ParticipationVisit the Certificate of Appropriateness webpage for additional information and how to participate. Meeting agendas are added to the BoardDocs agenda management portal. \nPLEASE NOTE: Applications should be submitted using the city’s online Permit and Development Portal. If you have any questions about the application process or about the meeting date\, time\, etc.\, please contact staff at historicpreservation@raleighnc.gov.
URL:https://livableraleigh.com/event/rhdc-certificate-of-appropriateness-committee-17/
LOCATION:Raleigh Municipal Building\, 222 W. Hargett St.\, Raleigh\, NC\, 27601\, United States
CATEGORIES:Historic Development Commission
END:VEVENT
BEGIN:VEVENT
DTSTART;TZID=America/New_York:20240430T160000
DTEND;TZID=America/New_York:20240430T170000
DTSTAMP:20260422T204532
CREATED:20240425T200537Z
LAST-MODIFIED:20240425T200537Z
UID:37726-1714492800-1714496400@livableraleigh.com
SUMMARY:RHDC Nominations Committee
DESCRIPTION:Public Meeting – April 30\, 2024\n\n\n\nThe Nominations Committee of the Raleigh Historic Development Commission will conduct a public meeting on Tuesday\, April 30 at 4:00 p.m. in the Nash conference room on the 3rd floor of One Exchange Plaza\, Raleigh\, NC 27601. \nFor questions about the meeting\, please contact historicpreservation@raleighnc.gov. \n\n1. Call to Order\n\n\n1.01 Call to Order and Welcome\n\n\n\n\n\n\n2. New Business\n\n\n2.01 Upcoming Vacancies\n\n\n\n\n\n\n3. Public Comment\n\n\n3.01 This is an opportunity for the public to comment on items or issues that are not otherwise on the agenda. Please limit comments to 3 minutes per speaker\n\n\n\n\n\n\n4. Adjournment
URL:https://livableraleigh.com/event/rhdc-nominations-committee-11/
LOCATION:One Exchange Plaza\, 1 Exchange Plaza\, Raleigh\, NY\, 27601
CATEGORIES:Engagement Filter,Historic Development Commission
END:VEVENT
END:VCALENDAR