BEGIN:VCALENDAR
VERSION:2.0
PRODID:-//Livable Raleigh - ECPv6.15.20//NONSGML v1.0//EN
CALSCALE:GREGORIAN
METHOD:PUBLISH
X-WR-CALNAME:Livable Raleigh
X-ORIGINAL-URL:https://livableraleigh.com
X-WR-CALDESC:Events for Livable Raleigh
REFRESH-INTERVAL;VALUE=DURATION:PT1H
X-Robots-Tag:noindex
X-PUBLISHED-TTL:PT1H
BEGIN:VTIMEZONE
TZID:America/New_York
BEGIN:DAYLIGHT
TZOFFSETFROM:-0500
TZOFFSETTO:-0400
TZNAME:EDT
DTSTART:20230312T070000
END:DAYLIGHT
BEGIN:STANDARD
TZOFFSETFROM:-0400
TZOFFSETTO:-0500
TZNAME:EST
DTSTART:20231105T060000
END:STANDARD
BEGIN:DAYLIGHT
TZOFFSETFROM:-0500
TZOFFSETTO:-0400
TZNAME:EDT
DTSTART:20240310T070000
END:DAYLIGHT
BEGIN:STANDARD
TZOFFSETFROM:-0400
TZOFFSETTO:-0500
TZNAME:EST
DTSTART:20241103T060000
END:STANDARD
BEGIN:DAYLIGHT
TZOFFSETFROM:-0500
TZOFFSETTO:-0400
TZNAME:EDT
DTSTART:20250309T070000
END:DAYLIGHT
BEGIN:STANDARD
TZOFFSETFROM:-0400
TZOFFSETTO:-0500
TZNAME:EST
DTSTART:20251102T060000
END:STANDARD
END:VTIMEZONE
BEGIN:VEVENT
DTSTART;TZID=America/New_York:20240305T160000
DTEND;TZID=America/New_York:20240305T173000
DTSTAMP:20260422T215906
CREATED:20240202T203057Z
LAST-MODIFIED:20240229T180440Z
UID:36146-1709654400-1709659800@livableraleigh.com
SUMMARY:RHDC Community Awareness Committee
DESCRIPTION:Public Meeting – March 5\, 2024\n\n\n\nThe Community Awareness Committee of the Raleigh Historic Development Commission will conduct a public meeting on Tuesday\, March 5 at 4:00 p.m. in the Nash conference room on the 3rd floor of One Exchange Plaza\, Raleigh\, NC 27601. \nFor questions about the meeting\, please contact historicpreservation@raleighnc.gov. \n\n1. Call to Order\n\n\nA. Call to Order and Welcome\nThis Agenda Item Contains an Attachment.\n\n\n\n\n\n2. Public Comment\n\n\nA. This is an opportunity for the public to comment on items or issues that are not otherwise on the agenda. Please limit comments to 3 minutes per speaker\n\n\n\n\n\n\n3. Old Business\n\n\nA. May/June 2024 RHDC Social Media Calendar\n\n\n\n\n\n\n4. New Business\n\n\nA. Historic Bike Tour Planning\n\n\n\n\n\n\n5. Pending Business\n\n\nA. RHDC Website Conversion\n\n\nB. 2024 Tabling Events\n\n\nC. Items not being discussed\n\n\n\n\n\n\n6. Adjournment\n\n\n\n\nThe Community Awareness Committee meets on the first Tuesday of the month at 4:00 p.m. in the Nash conference room\, Suite 300 of the One Exchange Plaza building. Meeting agendas are added to the BoardDocs agenda management portal.
URL:https://livableraleigh.com/event/rhdc-community-awareness-committee-14/
LOCATION:One Exchange Plaza\, 1 Exchange Plaza\, Raleigh\, NY\, 27601
CATEGORIES:Historic Development Commission
END:VEVENT
BEGIN:VEVENT
DTSTART;TZID=America/New_York:20240306T083000
DTEND;TZID=America/New_York:20240306T100000
DTSTAMP:20260422T215906
CREATED:20240202T203308Z
LAST-MODIFIED:20240301T175248Z
UID:36150-1709713800-1709719200@livableraleigh.com
SUMMARY:RHDC Research Committee
DESCRIPTION:The Research Committee meets on the first Wednesday of the month at 8:30 a.m. in conference room 108\, Suite 100 of the One Exchange Plaza building. Meeting agendas are added to the BoardDocs agenda management portal. \n\n1. Call to Order\n\n\nA. Call to Order and Welcome\n\n\n\n\n\n\n2. Old Business\n\n\nA. 2023 Inquiry Letters for RHL\nThis Agenda Item Contains an Attachment.\n\nB. Special Character Essays\n\n\n\n\n\n\n3. Public Comment\n\n\nA. This is an opportunity for the public to comment on items or issues that are not otherwise on the agenda. Please limit comments to 3 minutes per speaker.\n\n\n\n\n\n\n4. Pending Business\n\n\nA. Items not being discussed\n\n\n\n\n\n\n5. Adjournment
URL:https://livableraleigh.com/event/rhdc-research-committee-15/
LOCATION:One Exchange Plaza\, 1 Exchange Plaza\, Raleigh\, NY\, 27601
CATEGORIES:Historic Development Commission
END:VEVENT
BEGIN:VEVENT
DTSTART;TZID=America/New_York:20240312T160000
DTEND;TZID=America/New_York:20240312T170000
DTSTAMP:20260422T215906
CREATED:20240202T215458Z
LAST-MODIFIED:20240307T200115Z
UID:36174-1710259200-1710262800@livableraleigh.com
SUMMARY:RHDC Nominations Committee
DESCRIPTION:Public Meeting – March 12\, 2024\n\n\n\nThe Nominations Committee of the Raleigh Historic Development Commission will conduct a public meeting on Tuesday\, March 12 at 4:00 p.m. in the Nash conference room on the 3rd floor of One Exchange Plaza\, Raleigh\, NC 27601. \nFor questions about the meeting\, please contact historicpreservation@raleighnc.gov. \n\n1. Call to Order\n\n\n1.01 Call to Order and Welcome\n\n\n\n\n\n\n2. New Business\n\n\n2.01 Upcoming Vacancy\n\n\n\n\n\n\n3. Public Comment\n\n\n3.01 This is an opportunity for the public to comment on items or issues that are not otherwise on the agenda. Please limit comments to 3 minutes per speaker\n\n\n\n\n\n\n4. Adjournment\n\n\n\n\nThe Nominations Committee generally meets on the second Tuesday of the month at 4:00 p.m. January through May in the Nash conference room\, Suite 300 of the One Exchange Plaza building. Meeting agendas are added to the BoardDocs agenda management portal.
URL:https://livableraleigh.com/event/rhdc-nominations-committee-8/
LOCATION:One Exchange Plaza\, 1 Exchange Plaza\, Raleigh\, NY\, 27601
CATEGORIES:Historic Development Commission
END:VEVENT
BEGIN:VEVENT
DTSTART;TZID=America/New_York:20240319T073000
DTEND;TZID=America/New_York:20240319T093000
DTSTAMP:20260422T215906
CREATED:20240203T013610Z
LAST-MODIFIED:20240314T200631Z
UID:36198-1710833400-1710840600@livableraleigh.com
SUMMARY:Raleigh Historic Development Commission Meeting
DESCRIPTION:Public Meeting – March 19\n\n\n\nThe Raleigh Historic Development Commission will conduct a public meeting on Tuesday\, March 19 at 7:45 a.m. in Suite 100\, One Exchange Plaza\, Raleigh\, NC 27601. \nPlease allow time to go through building security. Information and building rules are available online. \nPubic participation is now available in person and remotely via voicemail. To leave a public comment for the Raleigh Historic Development Commission\, call 855-925-2801and enter code 1887. Visit the RHDC page for more details. \nFor questions about the meeting\, please contact historicpreservation@raleighnc.gov \n\n1. Call to Order\n\n\nA. Roll Call\n\n\nB. Welcome New Commissioner\n\n\n\n\n\n\n2. Consent Items\n\n\nA. Approval of Minutes from February 20\, 2024\nThis Agenda Item Contains an Attachment.\n\n\n\n\n\n3. Public Comment\n\n\nA. Public Comment – Limit to 3 minutes\n\n\nB. Voice Mail Public Comment\n\n\n\n\n\n\n4. New Business\n\n\nA. Biltmore Hills National Register Nomination Request\nThis Agenda Item Contains an Attachment.\n\nB. Recombination/Recorded Plat: RCMP-0036-2024 (903 W Lenoir)\nThis Agenda Item Contains an Attachment.\n\nC. Preservation Conferences\n\n\n\n\n\n\n5. Committee Reports\n\n\nA. Research\n\n\nB. Community Awareness\n\n\nC. Certificate of Appropriateness\n\n\nD. Nominations\n\n\nE. Prince Hall HOD Ad Hoc\n\n\n\n\n\n\n6. Other Business\n\n\nA. Report of Commissioners\n\n\nB. Report of Historic Preservation Unit\nThis Agenda Item Contains an Attachment.\n\n\n\n\n\n7. Adjournment\n\n\nA. Adjourn Meeting\n\n\n\n\n\n\nThe Commission typically meets on the third Tuesday of each month at 7:45 a.m. Meeting agendas are added to the BoardDocs agenda management portal. \nAgenda and ParticipationVisit the RHDC webpage for additional information on how to participate in person or by voicemail comment.
URL:https://livableraleigh.com/event/raleigh-historic-development-commission-meeting-14/
LOCATION:One Exchange Plaza\, 1 Exchange Plaza\, Raleigh\, NY\, 27601
CATEGORIES:Historic Development Commission
END:VEVENT
BEGIN:VEVENT
DTSTART;TZID=America/New_York:20240328T170000
DTEND;TZID=America/New_York:20240328T200000
DTSTAMP:20260422T215906
CREATED:20240203T020954Z
LAST-MODIFIED:20240314T200810Z
UID:36243-1711645200-1711656000@livableraleigh.com
SUMMARY:RHDC Certificate of Appropriateness Committee
DESCRIPTION:Public Meeting – March 28\, 2024\n\n\n\n\n\n\nThe RHDC Certificate of Appropriateness Committee will conduct a public meeting on Thursday\, March 28 at 5:00 p.m. at the Raleigh Municipal Building\, 222 W. Hargett Street in the City Council Chamber. \nFor more information about the meeting\, please contact historicpreservation@raleighnc.gov or visit the RHDC Certificate of Appropriateness webpage. \n\nA. Call to Order – Chair\n\n\n1. Roll Call\n\n\n2. Approval of Agenda\n\n\n3. Approval of Minutes: February 22\, 2024\n\n\n4. Minor Work Report\nThis Agenda Item Contains an Attachment.\n\n\n\n\n\nB. Evidentiary Hearings – Old Applications\n\n\n1. COA-0143-2023: 2212 BEDFORD AVENUE\nThis Agenda Item Contains an Attachment.\n\n\n\n\n\nC. Deferred – Not Being Heard\n\n\n1. COA-0146-2023: 419 WATAGUA STREET\n\n\n\n\n\n\nD. Other Business\n\n\n1. Committee Discussion\n\n\n\n\n\n\nE. Adjourment\n\n\n1. Adjourn Meeting\n\n\n\n\n\n\n\n\n\nRHDC Certificate of Appropriateness Committee public meetings are held in the Raleigh Municipal Building\, City Council Chamber. A broadcast is available via the following methods: the city’s website; the city’s YouTube Channel or Channel RTN-11. \nAgenda and ParticipationVisit the Certificate of Appropriateness webpage for additional information and how to participate. Meeting agendas are added to the BoardDocs agenda management portal. \nPLEASE NOTE: Applications should be submitted using the city’s online Permit and Development Portal. If you have any questions about the application process or about the meeting date\, time\, etc.\, please contact staff at historicpreservation@raleighnc.gov.
URL:https://livableraleigh.com/event/rhdc-certificate-of-appropriateness-committee-16/
LOCATION:Raleigh Municipal Building\, 222 W. Hargett St.\, Raleigh\, NC\, 27601\, United States
CATEGORIES:Historic Development Commission
END:VEVENT
END:VCALENDAR