BEGIN:VCALENDAR
VERSION:2.0
PRODID:-//Livable Raleigh - ECPv6.15.20//NONSGML v1.0//EN
CALSCALE:GREGORIAN
METHOD:PUBLISH
X-ORIGINAL-URL:https://livableraleigh.com
X-WR-CALDESC:Events for Livable Raleigh
REFRESH-INTERVAL;VALUE=DURATION:PT1H
X-Robots-Tag:noindex
X-PUBLISHED-TTL:PT1H
BEGIN:VTIMEZONE
TZID:America/New_York
BEGIN:DAYLIGHT
TZOFFSETFROM:-0500
TZOFFSETTO:-0400
TZNAME:EDT
DTSTART:20220313T070000
END:DAYLIGHT
BEGIN:STANDARD
TZOFFSETFROM:-0400
TZOFFSETTO:-0500
TZNAME:EST
DTSTART:20221106T060000
END:STANDARD
BEGIN:DAYLIGHT
TZOFFSETFROM:-0500
TZOFFSETTO:-0400
TZNAME:EDT
DTSTART:20230312T070000
END:DAYLIGHT
BEGIN:STANDARD
TZOFFSETFROM:-0400
TZOFFSETTO:-0500
TZNAME:EST
DTSTART:20231105T060000
END:STANDARD
BEGIN:DAYLIGHT
TZOFFSETFROM:-0500
TZOFFSETTO:-0400
TZNAME:EDT
DTSTART:20240310T070000
END:DAYLIGHT
BEGIN:STANDARD
TZOFFSETFROM:-0400
TZOFFSETTO:-0500
TZNAME:EST
DTSTART:20241103T060000
END:STANDARD
END:VTIMEZONE
BEGIN:VEVENT
DTSTART;TZID=America/New_York:20230705T073000
DTEND;TZID=America/New_York:20230705T093000
DTSTAMP:20260423T195607
CREATED:20230603T121827Z
LAST-MODIFIED:20230630T152109Z
UID:30411-1688542200-1688549400@livableraleigh.com
SUMMARY:RHDC Research Committee
DESCRIPTION:The Research Committee of the Raleigh Historic Development Commission will conduct a public meeting on Wednesday\, July 5 at 7:45 a.m. in One Exchange Plaza Suite 100. \nFor questions about the meeting\, please contact historicpreservation@raleighnc.gov \n\n1. Call to Order\n\nA. Call to Order and Welcome \n\n\n\n\n\n2. Old Business\n\nA. Special Character Essays \n\n\nB. 2023 Inquiry Letters for RHL \n\n\nC. Raleigh Non-Residential 1945-1975 Survey \n\n\n\n\n\n3. Public Comment\n\nA. This is an opportunity for the public to comment on items or issues that are not otherwise on the agenda. Please limit comments to 3 minutes per speaker. \n\n\n\n\n\n4. Pending Business\n\nA. Items not being discussed \n\n\n\n\n\n5. Adjournment\n\nThe Research Committee meets on the first Wednesday of the month at 7:45 a.m. typically in the Urban Design Center\, Suite 100 of the One Exchange Plaza building.
URL:https://livableraleigh.com/event/rhdc-research-committee-7/
LOCATION:Urban Design Center\, One Exchange Plaza\, Raleigh\, NC\, 27601
CATEGORIES:Historic Development Commission
END:VEVENT
BEGIN:VEVENT
DTSTART;TZID=America/New_York:20230705T160000
DTEND;TZID=America/New_York:20230705T173000
DTSTAMP:20260423T195607
CREATED:20230603T122205Z
LAST-MODIFIED:20230630T152203Z
UID:30417-1688572800-1688578200@livableraleigh.com
SUMMARY:RHDC Community Awareness Committee
DESCRIPTION:Public Meeting – July 5\, 2023\n\n\n\nThe Community Awareness Committee of the Raleigh Historic Development Commission will conduct a public meeting on Wednesday\, July 5 at 4:00 p.m. in the Nash Conference Room on the 3rd floor of One Exchange Plaza\, Raleigh\, NC 27601. \nFor questions about the meeting\, please contact historicpreservation \n\n1. Call to Order\n\nA. Call to Order and Welcome \n\n\n\n\n\n2. Old Business\n\n\n\n3. New Business\n\nA. New Committee Member Welcome \n\n\nB. Discussion of FY24 Committee Goals \n\n\nC. RHDC Website Conversion \n\n\nD. 2023 RHDC Social Media Calendar \n\n\n\n\n\n4. Public Comment\n\nA. This is an opportunity for the public to comment on items or issues that are not otherwise on the agenda. Please limit comments to 3 minutes per speaker \n\n\n\n\n\n5. Pending Business\n\nA. Items not being discussed \n\n\n\n\n\n6. Adjournment\n\n\n\n\nThe Community Awareness Committee meets on the first Tuesday of the month at 4:00 p.m. typically in the Urban Design Center\, Suite 100 of the One Exchange Plaza building if not virtual.
URL:https://livableraleigh.com/event/rhdc-community-awareness-committee-6/
LOCATION:Urban Design Center\, One Exchange Plaza\, Raleigh\, NC\, 27601
CATEGORIES:Historic Development Commission
END:VEVENT
BEGIN:VEVENT
DTSTART;TZID=America/New_York:20230707T073000
DTEND;TZID=America/New_York:20230707T093000
DTSTAMP:20260423T195607
CREATED:20230707T122604Z
LAST-MODIFIED:20230707T122604Z
UID:31270-1688715000-1688722200@livableraleigh.com
SUMMARY:RHDC Executive Committee
DESCRIPTION:The Executive Committee generally meets on the Wednesday preceding the third Tuesday of the month at 7:45 a.m. in Conference Room 108 of the One Exchange Plaza building.
URL:https://livableraleigh.com/event/rhdc-executive-committee-8/
LOCATION:Urban Design Center\, One Exchange Plaza\, Raleigh\, NC\, 27601
CATEGORIES:Historic Development Commission
END:VEVENT
BEGIN:VEVENT
DTSTART;TZID=America/New_York:20230712T073000
DTEND;TZID=America/New_York:20230712T090000
DTSTAMP:20260423T195607
CREATED:20230605T004342Z
LAST-MODIFIED:20230605T004342Z
UID:30465-1689147000-1689152400@livableraleigh.com
SUMMARY:RHDC Executive Committee
DESCRIPTION:The Executive Committee generally meets on the Wednesday preceding the third Tuesday of the month at 7:45 a.m. in the Urban Design Center\, Suite 100 of the One Exchange Plaza building. (Except for remote meetings which are on the Thursday\, two weeks prior to the third Tuesday of the month.)
URL:https://livableraleigh.com/event/rhdc-executive-committee-6/
LOCATION:Urban Design Center\, One Exchange Plaza\, Raleigh\, NC\, 27601
CATEGORIES:Historic Development Commission
END:VEVENT
BEGIN:VEVENT
DTSTART;TZID=America/New_York:20230718T073000
DTEND;TZID=America/New_York:20230718T100000
DTSTAMP:20260423T195607
CREATED:20230605T005323Z
LAST-MODIFIED:20230715T110756Z
UID:30473-1689665400-1689674400@livableraleigh.com
SUMMARY:Raleigh Historic Development Commission Meeting
DESCRIPTION:Public Meeting – July 18\n\n\n\nThe Raleigh Historic Development Commission will conduct a public meeting on Tuesday\, July 18 at 7:45 a.m. in Suite 100\, One Exchange Plaza\, Raleigh\, NC 27601. \nFor questions about the meeting\, please contact historicpreservation@raleighnc.gov \n\n1. Call to Order\n\nA. Roll Call \n\n\nB. Welcome New Commissioner \n\n\n\n\n\n2. Consent Items\n\nA. Approval of Minutes from June 20\, 2023 \nThis Agenda Item Contains an Attachment.\n\n\n\n\n3. Public Comment\n\nA. Public Comment – Limit to 3 minutes \n\n\n\n\n\n4. New Business\n\nA. Recombination: RCMP-0184-2023 (220 & 224 E Martin St) \nThis Agenda Item Contains an Attachment.\n\nB. Annual Retreat \n\n\nC. Sir Walter Raleigh Awards – Juror Selection \n\n\n\n\n\n5. Old Business\n\nA. New Rules of Procedure \nThis Agenda Item Contains an Attachment.\n\n\n\n\n6. Committee Reports\n\nA. Research \nThis Agenda Item Contains an Attachment.\n\nB. Community Awareness \n\n\nC. Certificate of Appropriateness \n\n\nD. Nominations \n\n\nE. Prince Hall HOD Ad Hoc \n\n\nF. Dorothea Dix Park Ad Hoc \n\n\n\n\n\n7. Other Business\n\nA. Report of Commissioners \n\n\nB. Report of Historic Preservation Unit \nThis Agenda Item Contains an Attachment.\n\n\n\n\n8. Adjournment\n\nA. Adjourn Meeting\n\n\n\n\n\nThe Commission typically meets on the third Tuesday of each month at 7:45 a.m. Meeting agendas are added to the BoardDocs agenda management portal. \nRaleigh Historic Development Commission public meetings are broadcast and available for viewing by the public via the following methods: the city’s website; the city’s YouTube Channel or Channel RTN-11. To watch past meetings\, visit our video services page. \nAgenda and Participation\nVisit the RHDC webpage for additional information including the agenda and how to participate.
URL:https://livableraleigh.com/event/raleigh-historic-development-commission-meeting-6/
LOCATION:Urban Design Center\, One Exchange Plaza\, Raleigh\, NC\, 27601
CATEGORIES:Historic Development Commission
END:VEVENT
BEGIN:VEVENT
DTSTART;TZID=America/New_York:20230727T170000
DTEND;TZID=America/New_York:20230727T190000
DTSTAMP:20260423T195607
CREATED:20230617T010908Z
LAST-MODIFIED:20230715T110903Z
UID:30779-1690477200-1690484400@livableraleigh.com
SUMMARY:RHDC Certificate of Appropriateness Committee
DESCRIPTION:The RHDC Certificate of Appropriateness Committee will conduct a public meeting on Thursday\, July 27 at 5:00 p.m. at the Raleigh Municipal Building\, 222 W. Hargett Street in the City Council Chamber. \nFor more information about the meeting\, please contact historicpreservation@raleighnc.gov or visit the RHDC Certificate of Appropriateness webpage. \n\nA. Call to Order – Chair\n\n1. Roll Call \n\n\n2. Approval of Agenda \n\n\n3. Approval of Minutes: June 22\, 2023 \n\n\n4. Minor Work Report \nThis Agenda Item Contains an Attachment.\n\n\n\n\nB. Evidentiary Hearings – New Applications\n\n1. COA-0077-2023: 317 E JONES STREET \nThis Agenda Item Contains an Attachment.\n\n\n\n\nC. Deferred – NOT BEING HEARD\n\n1. COA-0051-2023: 516 N BLOUNT STREET \n\n\n\n\n\nD. Other Business\n\n1. Committee Discussion \n\n\n\n\n\nE. Adjourment\n\n1. Adjourn Meeting\n\n\nRHDC Certificate of Appropriateness Committee public meetings are held in the Raleigh Municipal Building\, City Council Chamber. A broadcast is available via the following methods: the city’s website; the city’s YouTube Channel or Channel RTN-11. \nAgenda and Participation\nVisit the RHDC webpage for additional information including the agenda and how to participate.
URL:https://livableraleigh.com/event/rhdc-certificate-of-appropriateness-committee-8/
LOCATION:Raleigh Municipal Building\, 222 W. Hargett St.\, Raleigh\, NC\, 27601\, United States
CATEGORIES:Historic Development Commission
END:VEVENT
END:VCALENDAR