BEGIN:VCALENDAR
VERSION:2.0
PRODID:-//Livable Raleigh - ECPv6.15.20//NONSGML v1.0//EN
CALSCALE:GREGORIAN
METHOD:PUBLISH
X-WR-CALNAME:Livable Raleigh
X-ORIGINAL-URL:https://livableraleigh.com
X-WR-CALDESC:Events for Livable Raleigh
REFRESH-INTERVAL;VALUE=DURATION:PT1H
X-Robots-Tag:noindex
X-PUBLISHED-TTL:PT1H
BEGIN:VTIMEZONE
TZID:America/New_York
BEGIN:DAYLIGHT
TZOFFSETFROM:-0500
TZOFFSETTO:-0400
TZNAME:EDT
DTSTART:20240310T070000
END:DAYLIGHT
BEGIN:STANDARD
TZOFFSETFROM:-0400
TZOFFSETTO:-0500
TZNAME:EST
DTSTART:20241103T060000
END:STANDARD
BEGIN:DAYLIGHT
TZOFFSETFROM:-0500
TZOFFSETTO:-0400
TZNAME:EDT
DTSTART:20250309T070000
END:DAYLIGHT
BEGIN:STANDARD
TZOFFSETFROM:-0400
TZOFFSETTO:-0500
TZNAME:EST
DTSTART:20251102T060000
END:STANDARD
BEGIN:DAYLIGHT
TZOFFSETFROM:-0500
TZOFFSETTO:-0400
TZNAME:EDT
DTSTART:20260308T070000
END:DAYLIGHT
BEGIN:STANDARD
TZOFFSETFROM:-0400
TZOFFSETTO:-0500
TZNAME:EST
DTSTART:20261101T060000
END:STANDARD
END:VTIMEZONE
BEGIN:VEVENT
DTSTART;TZID=America/New_York:20250920T093000
DTEND;TZID=America/New_York:20250920T130000
DTSTAMP:20260421T071643
CREATED:20250815T183855Z
LAST-MODIFIED:20250815T183855Z
UID:47257-1758360600-1758373200@livableraleigh.com
SUMMARY:Hike & Chill at Walnut Creek Wetlands
DESCRIPTION:Ready to drop some LBS? Loneliness | Burnout | Stress! Join us for a hike and chill! Come for the nature walk\, good vibes\, and convos\, leave with meaningful connections and a better understanding of how the environment shapes our health and community!\nEvent Details\n\nTime: 9:30 AM Arrive & Network | 9:45 AM Stretch | 10:00 AM Hike\nDistance: 3 miles round trip\, easy terrain (paved + natural surfaces)\nNote: Kid-Free Zone\, adults only for this one!\nWhat to Bring: Light lunch\, Water bottle\, Sunscreen\, Optional hiking stick\, Layered clothing\, Bug spray\n\nRSVP here to secure your spot!\nWhy This Hike Matters\n\nWe are pleased to announce that we are teaming up with Let’s Get Social Raleigh and Partners for Environmental Justice to co-host to this special Hike & Chill! Together\, we’ll explore the connection between nature therapy\, wellness\, and environmental justice\, while highlighting why Southeast Raleigh’s Walnut Creek Wetlands are so vital to our health\, culture\, and community. These wetlands reduce flooding\, improve water quality\, protect wildlife\, and offer a peaceful refuge for connection.\n\nThis partnership reflects our shared commitment to environmental equity and healing through nature and this hike is a rare opportunity to see how caring for our environment also cares for us.
URL:https://livableraleigh.com/event/hike-chill-at-walnut-creek-wetlands/
LOCATION:Walnut Creek Wetland Center\, 950 Peterson St\, Raleigh\, NC\, 27610
CATEGORIES:Environment & Sustainability
END:VEVENT
END:VCALENDAR