BEGIN:VCALENDAR
VERSION:2.0
PRODID:-//Livable Raleigh - ECPv6.15.20//NONSGML v1.0//EN
CALSCALE:GREGORIAN
METHOD:PUBLISH
X-ORIGINAL-URL:https://livableraleigh.com
X-WR-CALDESC:Events for Livable Raleigh
REFRESH-INTERVAL;VALUE=DURATION:PT1H
X-Robots-Tag:noindex
X-PUBLISHED-TTL:PT1H
BEGIN:VTIMEZONE
TZID:America/New_York
BEGIN:DAYLIGHT
TZOFFSETFROM:-0500
TZOFFSETTO:-0400
TZNAME:EDT
DTSTART:20250309T070000
END:DAYLIGHT
BEGIN:STANDARD
TZOFFSETFROM:-0400
TZOFFSETTO:-0500
TZNAME:EST
DTSTART:20251102T060000
END:STANDARD
BEGIN:DAYLIGHT
TZOFFSETFROM:-0500
TZOFFSETTO:-0400
TZNAME:EDT
DTSTART:20260308T070000
END:DAYLIGHT
BEGIN:STANDARD
TZOFFSETFROM:-0400
TZOFFSETTO:-0500
TZNAME:EST
DTSTART:20261101T060000
END:STANDARD
BEGIN:DAYLIGHT
TZOFFSETFROM:-0500
TZOFFSETTO:-0400
TZNAME:EDT
DTSTART:20270314T070000
END:DAYLIGHT
BEGIN:STANDARD
TZOFFSETFROM:-0400
TZOFFSETTO:-0500
TZNAME:EST
DTSTART:20271107T060000
END:STANDARD
END:VTIMEZONE
BEGIN:VEVENT
DTSTART;TZID=America/New_York:20260511T190000
DTEND;TZID=America/New_York:20260511T210000
DTSTAMP:20260425T172959
CREATED:20260423T233137Z
LAST-MODIFIED:20260423T233137Z
UID:53672-1778526000-1778533200@livableraleigh.com
SUMMARY:East CAC Meeting
DESCRIPTION:Hi Eastsiders! Please mark your calendars for Monday\, 11 May 2026 from\n7-9 PM for a special East CAC meeting.\n\nThere has been ongoing incidents of petty crime perpetrated by youths in\nthe neighborhoods west of Raleigh Boulevard. Neighbors are frustrated\nand are looking for more effective approaches to addressing this crime.\n\nI have organized a special East CAC meeting to hear from RPD officers in\nthe Community Impact and Engagement Division and/or the ACORNS and\nCommunity Unit regarding better ways we can help curb this activity.\nOther city officials have been invited and are expected to attend.\n\nMy hope is that we all leave with some approaches which will benefit\neveryone involved.\n\nPlease pass this on to other interested parties. I look forward to\nseeing you on the 11th.\n\nRegards\,\n\nMark Turner\n\nEast CAC acting chair
URL:https://livableraleigh.com/event/east-cac-meeting-7/
LOCATION:Lions Park Community Center\, 516 Dennis Avenue\, Raleigh\, 27604
CATEGORIES:CAC,Engagement Filter
END:VEVENT
BEGIN:VEVENT
DTSTART;TZID=America/New_York:20260513T180000
DTEND;TZID=America/New_York:20260513T200000
DTSTAMP:20260425T172959
CREATED:20260421T222029Z
LAST-MODIFIED:20260421T222029Z
UID:53618-1778695200-1778702400@livableraleigh.com
SUMMARY:District E Community Meeting with Councilor Jones
DESCRIPTION:District E Community Meeting will be May 13 from 6-8pm at La Cucina Italian restaurant.
URL:https://livableraleigh.com/event/district-e-community-meeting-with-councilor-jones-2/
LOCATION:La Cucina Italiana\, 6552 Glenwood Avenue
CATEGORIES:Council District Meeting,Engagement Filter
END:VEVENT
BEGIN:VEVENT
DTSTART;TZID=America/New_York:20260518T140000
DTEND;TZID=America/New_York:20260518T163000
DTSTAMP:20260425T172959
CREATED:20260418T183631Z
LAST-MODIFIED:20260418T183631Z
UID:53475-1779112800-1779121800@livableraleigh.com
SUMMARY:Employment Access for All: An Interactive Dialogue on Disability and Employment
DESCRIPTION:Come take an afternoon break and enjoy some refreshments while talking about disability and employment. \nDate: Monday\, May 18\nTime: 2-4:30 p.m.\nLocation: The McKimmon Center\, 1101 Gorman St \nThe event will feature keynote speaker Blaire Johnston\, ADA Business Partner in the City of Charlotte Human Resources Department; a panel of individuals with disabilities who are successfully employed; and an interactive activity. \nSpace is limited and registration is required. If you will require an accommodation\, please register with request by May 8\, 2026.
URL:https://livableraleigh.com/event/employment-access-for-all-an-interactive-dialogue-on-disability-and-employment/
LOCATION:McKimmon Center\, NCSU McKimmon Center 1101 Gorman Street\, Raleigh\, NC\, 27606\, United States
CATEGORIES:Engagement Filter,Other
END:VEVENT
BEGIN:VEVENT
DTSTART;TZID=America/New_York:20260518T190000
DTEND;TZID=America/New_York:20260518T203000
DTSTAMP:20260425T172959
CREATED:20260421T215656Z
LAST-MODIFIED:20260421T215656Z
UID:53612-1779130800-1779136200@livableraleigh.com
SUMMARY:North CAC Meeting
DESCRIPTION:
URL:https://livableraleigh.com/event/north-cac-meeting/
LOCATION:Abbotts Creek Community Center\, 9950 Durant Rd\, Raleigh\, NC\, 27614
CATEGORIES:CAC,Engagement Filter
END:VEVENT
END:VCALENDAR